BEGIN:VCALENDAR
VERSION:2.0
PRODID:-//A*Desk - ECPv6.8.1//NONSGML v1.0//EN
CALSCALE:GREGORIAN
METHOD:PUBLISH
X-ORIGINAL-URL:https://a-desk.org/ca/
X-WR-CALDESC:Esdeveniments per A*Desk
REFRESH-INTERVAL;VALUE=DURATION:PT1H
X-Robots-Tag:noindex
X-PUBLISHED-TTL:PT1H
BEGIN:VTIMEZONE
TZID:Europe/Madrid
BEGIN:DAYLIGHT
TZOFFSETFROM:+0100
TZOFFSETTO:+0200
TZNAME:CEST
DTSTART:20240331T010000
END:DAYLIGHT
BEGIN:STANDARD
TZOFFSETFROM:+0200
TZOFFSETTO:+0100
TZNAME:CET
DTSTART:20241027T010000
END:STANDARD
BEGIN:DAYLIGHT
TZOFFSETFROM:+0100
TZOFFSETTO:+0200
TZNAME:CEST
DTSTART:20250330T010000
END:DAYLIGHT
BEGIN:STANDARD
TZOFFSETFROM:+0200
TZOFFSETTO:+0100
TZNAME:CET
DTSTART:20251026T010000
END:STANDARD
END:VTIMEZONE
BEGIN:VEVENT
DTSTART;TZID=Europe/Madrid:20240202T110000
DTEND;TZID=Europe/Madrid:20240714T140000
DTSTAMP:20260422T143837
CREATED:20240126T103144Z
LAST-MODIFIED:20240126T103144Z
UID:53401-1706871600-1720965600@a-desk.org
SUMMARY:"Anònims" Susana Solano
DESCRIPTION:
URL:https://a-desk.org/ca/agenda/anonims-susana-solano-2/
LOCATION:Fundació Vila Casas. Espais Volart\, C/ Ausiàs Marc\, 22\, 08010 Barcelona mapa\, Barcelona\, Barcelona\, 08010\, Spain
CATEGORIES:Exposició
END:VEVENT
BEGIN:VEVENT
DTSTART;TZID=Europe/Madrid:20240202T110000
DTEND;TZID=Europe/Madrid:20240714T140000
DTSTAMP:20260422T143837
CREATED:20240201T093228Z
LAST-MODIFIED:20240201T093228Z
UID:53693-1706871600-1720965600@a-desk.org
SUMMARY:"Anònims" Susana Solano
DESCRIPTION:
URL:https://a-desk.org/ca/agenda/anonims-susana-solano-4/
LOCATION:Fundació Vila Casas. Espais Volart\, C/ Ausiàs Marc\, 22\, 08010 Barcelona mapa\, Barcelona\, Barcelona\, 08010\, Spain
CATEGORIES:Exposició
END:VEVENT
BEGIN:VEVENT
DTSTART;TZID=Europe/Madrid:20240210T110000
DTEND;TZID=Europe/Madrid:20250301T193000
DTSTAMP:20260422T143837
CREATED:20240123T113352Z
LAST-MODIFIED:20240123T113352Z
UID:53216-1707562800-1740857400@a-desk.org
SUMMARY:"[contra]panorama" VV.AA
DESCRIPTION:
URL:https://a-desk.org/ca/agenda/contrapanorama-vv-aa/
LOCATION:MACBA\, Plaça dels Àngels\, 1\, 08001 Barcelona mapa\, Barcelona\, Barcelona\, 08001\, Spain
CATEGORIES:Activitat,Cicle,Diàleg,Exposició,Mostra,Recerca
END:VEVENT
BEGIN:VEVENT
DTSTART;VALUE=DATE:20240528
DTEND;VALUE=DATE:20240711
DTSTAMP:20260422T143837
CREATED:20240518T162750Z
LAST-MODIFIED:20240518T162750Z
UID:56339-1716854400-1720655999@a-desk.org
SUMMARY:Primavera Fotogràfica 2024
DESCRIPTION:
URL:https://a-desk.org/ca/agenda/primavera-fotografica-2024-16/
LOCATION:MNAC\, Palau Nacional\, Parc de Montjuïc\, s/n\, 08038 Barcelona mapa\, Barcelona\, Barcelona\, 08038\, Spain
CATEGORIES:Festival,Fotografia
END:VEVENT
BEGIN:VEVENT
DTSTART;VALUE=DATE:20240531
DTEND;VALUE=DATE:20240715
DTSTAMP:20260422T143837
CREATED:20240530T202627Z
LAST-MODIFIED:20240530T202627Z
UID:56608-1717113600-1721001599@a-desk.org
SUMMARY:LUMÍNIC  2024
DESCRIPTION:
URL:https://a-desk.org/ca/agenda/luminic-2024/
LOCATION:Barcelona
CATEGORIES:Festival
END:VEVENT
BEGIN:VEVENT
DTSTART;VALUE=DATE:20240626
DTEND;VALUE=DATE:20240805
DTSTAMP:20260422T143837
CREATED:20240616T091037Z
LAST-MODIFIED:20240701T101947Z
UID:56989-1719360000-1722815999@a-desk.org
SUMMARY:Grec Festival 2024
DESCRIPTION:
URL:https://a-desk.org/ca/agenda/grec-fesitval-2024/
LOCATION:Barcelona
CATEGORIES:Festival,Teatre
END:VEVENT
BEGIN:VEVENT
DTSTART;TZID=Europe/Madrid:20240703T093000
DTEND;TZID=Europe/Madrid:20240703T200000
DTSTAMP:20260422T143837
CREATED:20240627T190507Z
LAST-MODIFIED:20240627T190507Z
UID:57381-1719999000-1720036800@a-desk.org
SUMMARY:"Idees per rescatar el futur. 20 anys d’universitat popular"
DESCRIPTION:
URL:https://a-desk.org/ca/agenda/idees-per-rescatar-el-futur-20-anys-duniversitat-popular/
LOCATION:Sala Brigades Internacionals de la UGT de Catalunya\, Rambla Santa Mònica\, 10\, Barcelona.
CATEGORIES:Jornada
END:VEVENT
BEGIN:VEVENT
DTSTART;TZID=Europe/Madrid:20240703T110000
DTEND;TZID=Europe/Madrid:20240703T120000
DTSTAMP:20260422T143837
CREATED:20240701T120321Z
LAST-MODIFIED:20240701T120321Z
UID:57574-1720004400-1720008000@a-desk.org
SUMMARY:L'eròtica sènior en femení
DESCRIPTION:
URL:https://a-desk.org/ca/agenda/lerotica-senior-en-femeni/
LOCATION:CC Can Deu\, Plaça de la Concòrdia\, 13\, Barcelona\, Barcelona\, 08014\, España
END:VEVENT
BEGIN:VEVENT
DTSTART;TZID=Europe/Madrid:20240703T180000
DTEND;TZID=Europe/Madrid:20240703T180000
DTSTAMP:20260422T143837
CREATED:20240628T092800Z
LAST-MODIFIED:20240628T095050Z
UID:57407-1720029600-1720029600@a-desk.org
SUMMARY:“La xarxa antirumors del Poblet”
DESCRIPTION:
URL:https://a-desk.org/ca/agenda/la-xarxa-antirumors-del-poblet/
LOCATION:Ateneu El Poblet\, C. de Nàpols\, 268\, 270\, L'Eixample\, 08025 Barcelona
CATEGORIES:Cicle
END:VEVENT
BEGIN:VEVENT
DTSTART;TZID=Europe/Madrid:20240703T180000
DTEND;TZID=Europe/Madrid:20240703T190000
DTSTAMP:20260422T143837
CREATED:20240630T103001Z
LAST-MODIFIED:20240630T103001Z
UID:57494-1720029600-1720033200@a-desk.org
SUMMARY:"Carles Santos. I ara\, què?"
DESCRIPTION:
URL:https://a-desk.org/ca/agenda/carles-santos-i-ara-que/
LOCATION:Fundació Joan Brossa\, C/ Flassaders\, 40\, 08003 Barcelona mapa\, Barcelona\, Barcelona\, 08003\, Spain
CATEGORIES:Presentació de llibre
END:VEVENT
BEGIN:VEVENT
DTSTART;TZID=Europe/Madrid:20240703T183000
DTEND;TZID=Europe/Madrid:20240703T183000
DTSTAMP:20260422T143837
CREATED:20240628T092542Z
LAST-MODIFIED:20240628T092542Z
UID:57405-1720031400-1720031400@a-desk.org
SUMMARY:“Sempre ens quedarà un demà”
DESCRIPTION:
URL:https://a-desk.org/ca/agenda/sempre-ens-quedara-un-dema/
LOCATION:Espai Texas\, C/ de Bailèn\, 205\, Gràcia\, Barcelona\, Barcelona\, 08037\, España
CATEGORIES:Projecció
END:VEVENT
BEGIN:VEVENT
DTSTART;TZID=Europe/Madrid:20240703T183000
DTEND;TZID=Europe/Madrid:20240703T200000
DTSTAMP:20260422T143837
CREATED:20240628T092946Z
LAST-MODIFIED:20240628T093210Z
UID:57410-1720031400-1720036800@a-desk.org
SUMMARY:“El llegat de Frantz Fanon” Adam Shatz\, Pankaj Mishra
DESCRIPTION:
URL:https://a-desk.org/ca/agenda/el-llegat-de-frantz-fanon-adam-shatz-pankaj-mishra/
LOCATION:CCCB\, C/ Montalegre\, 5\, 08001 Barcelona mapa\, Barcelona\, Barcelona\, 08001\, Spain
CATEGORIES:Debat
END:VEVENT
BEGIN:VEVENT
DTSTART;TZID=Europe/Madrid:20240703T190000
DTEND;TZID=Europe/Madrid:20240703T190000
DTSTAMP:20260422T143837
CREATED:20240628T092026Z
LAST-MODIFIED:20240628T092026Z
UID:57401-1720033200-1720033200@a-desk.org
SUMMARY:“Algoritmocràcia” Arthur Grimonpont
DESCRIPTION:
URL:https://a-desk.org/ca/agenda/algoritmocracia-arthur-grimonpont/
LOCATION:Fundació Lluís Coromina – Espai Isern Dalmau\, C/ de Mallorca\, 305\, Barcelona\, Barcelona\, 08037\, España
CATEGORIES:Presentació de llibre
END:VEVENT
BEGIN:VEVENT
DTSTART;TZID=Europe/Madrid:20240703T190000
DTEND;TZID=Europe/Madrid:20240703T190000
DTSTAMP:20260422T143837
CREATED:20240628T092135Z
LAST-MODIFIED:20240628T092135Z
UID:57403-1720033200-1720033200@a-desk.org
SUMMARY:“Vivir es una curva peligrosa” Kiko Miyares
DESCRIPTION:
URL:https://a-desk.org/ca/agenda/vivir-es-una-curva-peligrosa-kiko-miyares/
LOCATION:3 Punts Gallery\, C/ del Consell de Cent\, 317\, Barcelona\, Barcelona\, 08007\, España
CATEGORIES:Inauguració/Exposició
END:VEVENT
BEGIN:VEVENT
DTSTART;TZID=Europe/Madrid:20240703T190000
DTEND;TZID=Europe/Madrid:20240703T190000
DTSTAMP:20260422T143837
CREATED:20240701T121039Z
LAST-MODIFIED:20240701T121039Z
UID:57576-1720033200-1720033200@a-desk.org
SUMMARY:Xerrada sobre les noves veus de la literatura gai en català
DESCRIPTION:
URL:https://a-desk.org/ca/agenda/xerrada-sobre-les-noves-veus-de-la-literatura-gai-en-catala/
LOCATION:Llibreria Antinous\, Carrer de Casanova\, 72\, Eixample\, 08011 Barcelona
CATEGORIES:Xerrada
END:VEVENT
BEGIN:VEVENT
DTSTART;TZID=Europe/Madrid:20240703T200000
DTEND;TZID=Europe/Madrid:20240703T200000
DTSTAMP:20260422T143837
CREATED:20240628T093335Z
LAST-MODIFIED:20240628T093335Z
UID:57412-1720036800-1720036800@a-desk.org
SUMMARY:“Cándida” Anna Tamayo
DESCRIPTION:
URL:https://a-desk.org/ca/agenda/candida-anna-tamayo/
LOCATION:Sala Fènix\, Carrer de la Riereta\, 31\, Barcelona\, Barcelona\, 08001\, España
CATEGORIES:Espectacle
END:VEVENT
BEGIN:VEVENT
DTSTART;TZID=Europe/Madrid:20240703T210000
DTEND;TZID=Europe/Madrid:20240703T220000
DTSTAMP:20260422T143837
CREATED:20240628T093547Z
LAST-MODIFIED:20240628T093547Z
UID:57414-1720040400-1720044000@a-desk.org
SUMMARY:"La innombrable. Una tragèdia mediterrània" Alba Sarraute\, Les Ofèlies
DESCRIPTION:
URL:https://a-desk.org/ca/agenda/la-innombrable-una-tragedia-mediterrania-alba-sarraute-les-ofelies/
LOCATION:Mercat de les Flors\, C/ Lleida\, 59\, 08004 Barcelona mapa\, Barcelona\, Barcelona\, 08004\, Spain
CATEGORIES:Circ
END:VEVENT
END:VCALENDAR