BEGIN:VCALENDAR
VERSION:2.0
PRODID:-//A*Desk - ECPv6.8.1//NONSGML v1.0//EN
CALSCALE:GREGORIAN
METHOD:PUBLISH
X-ORIGINAL-URL:https://a-desk.org/ca/
X-WR-CALDESC:Esdeveniments per A*Desk
REFRESH-INTERVAL;VALUE=DURATION:PT1H
X-Robots-Tag:noindex
X-PUBLISHED-TTL:PT1H
BEGIN:VTIMEZONE
TZID:Europe/Madrid
BEGIN:DAYLIGHT
TZOFFSETFROM:+0100
TZOFFSETTO:+0200
TZNAME:CEST
DTSTART:20240331T010000
END:DAYLIGHT
BEGIN:STANDARD
TZOFFSETFROM:+0200
TZOFFSETTO:+0100
TZNAME:CET
DTSTART:20241027T010000
END:STANDARD
BEGIN:DAYLIGHT
TZOFFSETFROM:+0100
TZOFFSETTO:+0200
TZNAME:CEST
DTSTART:20250330T010000
END:DAYLIGHT
BEGIN:STANDARD
TZOFFSETFROM:+0200
TZOFFSETTO:+0100
TZNAME:CET
DTSTART:20251026T010000
END:STANDARD
END:VTIMEZONE
BEGIN:VEVENT
DTSTART;TZID=Europe/Madrid:20240210T110000
DTEND;TZID=Europe/Madrid:20250301T193000
DTSTAMP:20260426T001531
CREATED:20240123T113352Z
LAST-MODIFIED:20240123T113352Z
UID:53216-1707562800-1740857400@a-desk.org
SUMMARY:"[contra]panorama" VV.AA
DESCRIPTION:
URL:https://a-desk.org/ca/agenda/contrapanorama-vv-aa/
LOCATION:MACBA\, Plaça dels Àngels\, 1\, 08001 Barcelona mapa\, Barcelona\, Barcelona\, 08001\, Spain
CATEGORIES:Activitat,Cicle,Diàleg,Exposició,Mostra,Recerca
END:VEVENT
BEGIN:VEVENT
DTSTART;VALUE=DATE:20240908
DTEND;VALUE=DATE:20241125
DTSTAMP:20260426T001531
CREATED:20240826T085717Z
LAST-MODIFIED:20240826T085717Z
UID:58721-1725753600-1732492799@a-desk.org
SUMMARY:Manifesta 15
DESCRIPTION:
URL:https://a-desk.org/ca/agenda/manifesta-15/
LOCATION:Barcelona
CATEGORIES:Bienal
END:VEVENT
BEGIN:VEVENT
DTSTART;VALUE=DATE:20240920
DTEND;VALUE=DATE:20240930
DTSTAMP:20260426T001531
CREATED:20240915T090936Z
LAST-MODIFIED:20240915T090936Z
UID:59357-1726790400-1727654399@a-desk.org
SUMMARY:Setmana del Llibre en Català 2024
DESCRIPTION:
URL:https://a-desk.org/ca/agenda/setmana-del-llibre-en-catala-2024/
LOCATION:Arc de triomf\, Arc de Triomf\, Escenari 2 Passeig de Lluís Companys\, 15 08003 Barcelona
CATEGORIES:Literatura
END:VEVENT
BEGIN:VEVENT
DTSTART;VALUE=DATE:20240922
DTEND;VALUE=DATE:20241015
DTSTAMP:20260426T001531
CREATED:20240915T094400Z
LAST-MODIFIED:20240915T094400Z
UID:59395-1726963200-1728950399@a-desk.org
SUMMARY:Transhumant Festival 2024
DESCRIPTION:
URL:https://a-desk.org/ca/agenda/transhumant-festival-2024/
LOCATION:Barcelona
CATEGORIES:Cinema,Festival
END:VEVENT
BEGIN:VEVENT
DTSTART;TZID=Europe/Madrid:20240925T080000
DTEND;TZID=Europe/Madrid:20240930T170000
DTSTAMP:20260426T001531
CREATED:20240922T091636Z
LAST-MODIFIED:20240922T091636Z
UID:59551-1727251200-1727715600@a-desk.org
SUMMARY:Festival u22 de cinema jove de Barcelona
DESCRIPTION:
URL:https://a-desk.org/ca/agenda/festival-u22-de-cinema-jove-de-barcelona/
LOCATION:Fundación Joan Miró\, Parc de Montjuïc\, s/n\, 08038 Barcelona mapa\, Barcelona\, Barcelona\, 08038\, Spain
CATEGORIES:Cinema,Festival
END:VEVENT
BEGIN:VEVENT
DTSTART;TZID=Europe/Madrid:20240926T083000
DTEND;TZID=Europe/Madrid:20240926T173000
DTSTAMP:20260426T001531
CREATED:20240922T092035Z
LAST-MODIFIED:20240922T092035Z
UID:59555-1727339400-1727371800@a-desk.org
SUMMARY:"Art contemporani plàstic i sostenibilitat"
DESCRIPTION:
URL:https://a-desk.org/ca/agenda/art-contemporani-plastic-i-sostenibilitat-2/
LOCATION:MACBA\, Plaça dels Àngels\, 1\, 08001 Barcelona mapa\, Barcelona\, Barcelona\, 08001\, Spain
CATEGORIES:Seminari
END:VEVENT
BEGIN:VEVENT
DTSTART;TZID=Europe/Madrid:20240926T093000
DTEND;TZID=Europe/Madrid:20240926T093000
DTSTAMP:20260426T001531
CREATED:20240923T180817Z
LAST-MODIFIED:20240923T180817Z
UID:59626-1727343000-1727343000@a-desk.org
SUMMARY:Going Extreme. History\, Narratives and the Threat to Democracies in Europe: “Democracy\, Extremism and Youth”
DESCRIPTION:
URL:https://a-desk.org/ca/agenda/going-extreme-history-narratives-and-the-threat-to-democracies-in-europe-democracy-extremism-and-youth/
LOCATION:CCCB\, C/ Montalegre\, 5\, 08001 Barcelona mapa\, Barcelona\, Barcelona\, 08001\, Spain
CATEGORIES:Conferència
END:VEVENT
BEGIN:VEVENT
DTSTART;TZID=Europe/Madrid:20240926T160000
DTEND;TZID=Europe/Madrid:20240926T173000
DTSTAMP:20260426T001531
CREATED:20240923T174805Z
LAST-MODIFIED:20240923T174805Z
UID:59599-1727366400-1727371800@a-desk.org
SUMMARY:Rachmàninov / Mussorgski
DESCRIPTION:
URL:https://a-desk.org/ca/agenda/rachmaninov-mussorgski/
LOCATION:Casa Golferichs\, Gran Via de les Corts Catalanes\, 491\, Barcelona\, Barcelona\, 08015\, España
CATEGORIES:Concert
END:VEVENT
BEGIN:VEVENT
DTSTART;TZID=Europe/Madrid:20240926T160000
DTEND;TZID=Europe/Madrid:20240926T193000
DTSTAMP:20260426T001531
CREATED:20240923T175640Z
LAST-MODIFIED:20240923T175659Z
UID:59610-1727366400-1727379000@a-desk.org
SUMMARY:“Punkstage\, cos-cambra” Silvia Zayas
DESCRIPTION:
URL:https://a-desk.org/ca/agenda/punkstage-cos-cambra-taller-amb-silvia-zayas-2/
LOCATION:Hangar\, C/ Emilia Coranty\, 16\, 08018 Barcelona mapa\, Barcelona\, Barcelona\, 08018\, Spain
CATEGORIES:Taller
END:VEVENT
BEGIN:VEVENT
DTSTART;TZID=Europe/Madrid:20240926T170000
DTEND;TZID=Europe/Madrid:20240926T170000
DTSTAMP:20260426T001531
CREATED:20240923T182509Z
LAST-MODIFIED:20240923T182509Z
UID:59648-1727370000-1727370000@a-desk.org
SUMMARY:"A camp obert. Pràctiques culturals contemporànies” / La setmana
DESCRIPTION:
URL:https://a-desk.org/ca/agenda/a-camp-obert-practiques-culturals-contemporanies-la-setmana/
LOCATION:Institut Ramon Llull\, Av. Diagonal\, 373\, L'Eixample\, 08008 Barcelona
CATEGORIES:Presentació
END:VEVENT
BEGIN:VEVENT
DTSTART;TZID=Europe/Madrid:20240926T170000
DTEND;TZID=Europe/Madrid:20240926T200000
DTSTAMP:20260426T001531
CREATED:20240923T180934Z
LAST-MODIFIED:20240923T180934Z
UID:59628-1727370000-1727380800@a-desk.org
SUMMARY:Laboratori Matèria viva: Reviure la matèria / SocialFestBcn
DESCRIPTION:
URL:https://a-desk.org/ca/agenda/laboratori-materia-viva-reviure-la-materia-socialfestbcn/
LOCATION:Santa Mònica\, La Rambla\, 7\, 08002 Barcelona mapa\, Barcelona\, Barcelona\, 08002\, Spain
CATEGORIES:laboratori
END:VEVENT
BEGIN:VEVENT
DTSTART;TZID=Europe/Madrid:20240926T180000
DTEND;TZID=Europe/Madrid:20240926T210000
DTSTAMP:20260426T001531
CREATED:20240923T180545Z
LAST-MODIFIED:20240923T180545Z
UID:59622-1727373600-1727384400@a-desk.org
SUMMARY:“Construcción de formas ambiguas” Kibeom Kwon
DESCRIPTION:
URL:https://a-desk.org/ca/agenda/construccion-de-formas-ambiguas-kibeom-kwon/
LOCATION:Homesession\, C/ Creu dels Molers\, 15\, 08004 Barcelona mapa\, Barcelona\, Barcelona\, 08004\, Spain
CATEGORIES:Inauguració/Exposició
END:VEVENT
BEGIN:VEVENT
DTSTART;TZID=Europe/Madrid:20240926T183000
DTEND;TZID=Europe/Madrid:20240926T183000
DTSTAMP:20260426T001531
CREATED:20240922T093442Z
LAST-MODIFIED:20240922T093442Z
UID:59576-1727375400-1727375400@a-desk.org
SUMMARY:“Vermell. La revolució és un tall de color”
DESCRIPTION:
URL:https://a-desk.org/ca/agenda/vermell-la-revolucio-es-un-tall-de-color/
LOCATION:Filmoteca\, Plaça de Salvador Seguí\, 1\, 08001 Barcelona mapa\, Barcelona\, Barcelona\, 08001\, Spain
CATEGORIES:Cicle,Cinema
END:VEVENT
BEGIN:VEVENT
DTSTART;TZID=Europe/Madrid:20240926T183000
DTEND;TZID=Europe/Madrid:20240926T183000
DTSTAMP:20260426T001531
CREATED:20240923T175956Z
LAST-MODIFIED:20240923T175956Z
UID:59613-1727375400-1727375400@a-desk.org
SUMMARY:“Ullal per emportar” Presentació catàleg + concert / Festival Ullal
DESCRIPTION:
URL:https://a-desk.org/ca/agenda/ullal-per-emportar-presentacio-cataleg-concert-festival-ullal/
LOCATION:La Revoltosa\, Rogent 82\, Clot\, Barcelona
CATEGORIES:Concert,Presentació
END:VEVENT
BEGIN:VEVENT
DTSTART;TZID=Europe/Madrid:20240926T183000
DTEND;TZID=Europe/Madrid:20240926T183000
DTSTAMP:20260426T001531
CREATED:20240923T180129Z
LAST-MODIFIED:20240923T180129Z
UID:59616-1727375400-1727375400@a-desk.org
SUMMARY:“Zones de sacrifici” Rubén Wagensberg\, Irra Rodríguez-Giralt
DESCRIPTION:
URL:https://a-desk.org/ca/agenda/zones-de-sacrifici-ruben-wagensberg-irra-rodriguez-giralt/
LOCATION:Bòlit. Centre d’Art Contemporani Girona\, Rambla de la Llibertat\, 1\, Girona\, Girona\, 17004\, España
CATEGORIES:Conferència
END:VEVENT
BEGIN:VEVENT
DTSTART;TZID=Europe/Madrid:20240926T183000
DTEND;TZID=Europe/Madrid:20240926T193000
DTSTAMP:20260426T001531
CREATED:20240923T181047Z
LAST-MODIFIED:20240923T181047Z
UID:59630-1727375400-1727379000@a-desk.org
SUMMARY:“La maleta d’Antoni Tàpies” Concert a càrrec d’Andrea Pérez i Carlos Isla
DESCRIPTION:
URL:https://a-desk.org/ca/agenda/la-maleta-dantoni-tapies-concert-a-carrec-dandrea-perez-i-carlos-isla/
LOCATION:MACBA\, Plaça dels Àngels\, 1\, 08001 Barcelona mapa\, Barcelona\, Barcelona\, 08001\, Spain
CATEGORIES:Concert
END:VEVENT
BEGIN:VEVENT
DTSTART;TZID=Europe/Madrid:20240926T183000
DTEND;TZID=Europe/Madrid:20240926T200000
DTSTAMP:20260426T001531
CREATED:20240923T181219Z
LAST-MODIFIED:20240923T181239Z
UID:59633-1727375400-1727380800@a-desk.org
SUMMARY:Jornada de xerrades-intervencions - "Un desordre distint"
DESCRIPTION:
URL:https://a-desk.org/ca/agenda/jornada-de-xerrades-intervencions-un-desordre-distint/
LOCATION:La Capella\, C/ Hospital\, 56\, Barcelona\, Barcelona\, 08001
CATEGORIES:Jornada
END:VEVENT
BEGIN:VEVENT
DTSTART;TZID=Europe/Madrid:20240926T183000
DTEND;TZID=Europe/Madrid:20240926T203000
DTSTAMP:20260426T001531
CREATED:20240923T182809Z
LAST-MODIFIED:20240923T182809Z
UID:59653-1727375400-1727382600@a-desk.org
SUMMARY:“Kierkegaard: pensar la angustia"
DESCRIPTION:
URL:https://a-desk.org/ca/agenda/kierkegaard-pensar-la-angustia-2/
LOCATION:Barcelona
CATEGORIES:Curs,Online
END:VEVENT
BEGIN:VEVENT
DTSTART;TZID=Europe/Madrid:20240926T190000
DTEND;TZID=Europe/Madrid:20240926T190000
DTSTAMP:20260426T001531
CREATED:20240923T175010Z
LAST-MODIFIED:20240923T175010Z
UID:59601-1727377200-1727377200@a-desk.org
SUMMARY:Conta'm una òpera: "Lady Mcbeth de Mtsenk"
DESCRIPTION:
URL:https://a-desk.org/ca/agenda/contam-una-opera-lady-mcbeth-de-mtsenk/
LOCATION:Centre Cívic Pere Pruna\, C Ganduxer\, 130\, Barcelona\, Barcelona\, 08022\, España
CATEGORIES:Opera
END:VEVENT
BEGIN:VEVENT
DTSTART;TZID=Europe/Madrid:20240926T190000
DTEND;TZID=Europe/Madrid:20240926T190000
DTSTAMP:20260426T001531
CREATED:20240923T175305Z
LAST-MODIFIED:20240923T175305Z
UID:59605-1727377200-1727377200@a-desk.org
SUMMARY:“Districte porno: Focus Xile”
DESCRIPTION:
URL:https://a-desk.org/ca/agenda/districte-porno-focus-xile/
LOCATION:Zumzeig\, C/ Béjar\, 53\, 08014 Barcelona mapa\, Barcelona\, Barcelona\, 08014\, Spain
CATEGORIES:Curtmetratges
END:VEVENT
BEGIN:VEVENT
DTSTART;TZID=Europe/Madrid:20240926T190000
DTEND;TZID=Europe/Madrid:20240926T190000
DTSTAMP:20260426T001531
CREATED:20240923T175452Z
LAST-MODIFIED:20240923T175452Z
UID:59607-1727377200-1727377200@a-desk.org
SUMMARY:#4 Maratón poética: «Lo íntimo también es político». Bibiana Collado Cabrera\, Laia López Manrique\, Jun Komura
DESCRIPTION:
URL:https://a-desk.org/ca/agenda/4-maraton-poetica-lo-intimo-tambien-es-politico-bibiana-collado-cabrera-laia-lopez-manrique-jun-komura/
LOCATION:Llibreria Calders\, Passatge de Pere Calders\, 9\, L'Eixample\, 08015 Barcelona
CATEGORIES:Conversa
END:VEVENT
BEGIN:VEVENT
DTSTART;TZID=Europe/Madrid:20240926T190000
DTEND;TZID=Europe/Madrid:20240926T190000
DTSTAMP:20260426T001531
CREATED:20240923T180231Z
LAST-MODIFIED:20240923T180231Z
UID:59618-1727377200-1727377200@a-desk.org
SUMMARY:“Dos+Uno. 1984/2024” José Manuel Ferrater
DESCRIPTION:
URL:https://a-desk.org/ca/agenda/dosuno-1984-2024-jose-manuel-ferrater/
LOCATION:LAB 36\, C/ Trafalgar\, 36\, 08010 Barcelona mapa\, Barcelona\, Barcelona\, 08010\, Spain
CATEGORIES:Inauguració/Exposició
END:VEVENT
BEGIN:VEVENT
DTSTART;TZID=Europe/Madrid:20240926T190000
DTEND;TZID=Europe/Madrid:20240926T190000
DTSTAMP:20260426T001531
CREATED:20240923T180343Z
LAST-MODIFIED:20240923T180408Z
UID:59620-1727377200-1727377200@a-desk.org
SUMMARY:Visita comentada per Carles Cabanas "Tàpies i el seu pas per Sant Cugat - gravats i fotografies "
DESCRIPTION:
URL:https://a-desk.org/ca/agenda/visita-comentada-per-carles-cabanas-tapies-i-el-seu-pas-per-sant-cugat-gravats-i-fotografies/
LOCATION:Galeria Canals\, Carrer d'Orient\, 24\, Sant Cugat del Vallès\, Barcelona\, 08172\, España
CATEGORIES:Visita guiada
END:VEVENT
BEGIN:VEVENT
DTSTART;TZID=Europe/Madrid:20240926T190000
DTEND;TZID=Europe/Madrid:20240926T190000
DTSTAMP:20260426T001531
CREATED:20240923T182635Z
LAST-MODIFIED:20240923T182635Z
UID:59651-1727377200-1727377200@a-desk.org
SUMMARY:“Estéticas anticoloniales\, memoria histórica y nuevas cartografías curatoriales” Fabian Villegas
DESCRIPTION:
URL:https://a-desk.org/ca/agenda/esteticas-anticoloniales-memoria-historica-y-nuevas-cartografias-curatoriales-fabian-villegas/
LOCATION:AGUAS\, C/Fraternitat 10-12\, Barcelona
CATEGORIES:Conferència
END:VEVENT
BEGIN:VEVENT
DTSTART;TZID=Europe/Madrid:20240926T190000
DTEND;TZID=Europe/Madrid:20240926T200000
DTSTAMP:20260426T001531
CREATED:20240923T181404Z
LAST-MODIFIED:20240923T181404Z
UID:59635-1727377200-1727380800@a-desk.org
SUMMARY:Dijous de ràdio / "Aldaolado" amb María Lado i Lucía Aldao
DESCRIPTION:
URL:https://a-desk.org/ca/agenda/dijous-de-radio-aldaolado-amb-maria-lado-i-lucia-aldao/
LOCATION:Santa Mònica\, La Rambla\, 7\, 08002 Barcelona mapa\, Barcelona\, Barcelona\, 08002\, Spain
CATEGORIES:Poesia
END:VEVENT
BEGIN:VEVENT
DTSTART;TZID=Europe/Madrid:20240926T190000
DTEND;TZID=Europe/Madrid:20240926T200000
DTSTAMP:20260426T001531
CREATED:20240923T182240Z
LAST-MODIFIED:20240923T182303Z
UID:59645-1727377200-1727380800@a-desk.org
SUMMARY:"Islam. Una immersió ràpida" Dolors Bramon\, Antoni Segura
DESCRIPTION:
URL:https://a-desk.org/ca/agenda/islam-una-immersio-rapida/
LOCATION:Ona Llibres\, C/ Pau Claris\, 94\, 08010 Barcelona mapa\, Barcelona\, Barcelona\, 08010\, Spain
CATEGORIES:Conversa,Presentació de llibre
END:VEVENT
BEGIN:VEVENT
DTSTART;TZID=Europe/Madrid:20240926T193000
DTEND;TZID=Europe/Madrid:20240926T193000
DTSTAMP:20260426T001531
CREATED:20240923T175158Z
LAST-MODIFIED:20240923T175158Z
UID:59603-1727379000-1727379000@a-desk.org
SUMMARY:La sèrie del caminant -"Dónde” Tsai Ming-Liang
DESCRIPTION:
URL:https://a-desk.org/ca/agenda/la-serie-del-caminant-donde-tsai-ming-liang/
LOCATION:Zumzeig\, C/ Béjar\, 53\, 08014 Barcelona mapa\, Barcelona\, Barcelona\, 08014\, Spain
CATEGORIES:Cinema
END:VEVENT
BEGIN:VEVENT
DTSTART;TZID=Europe/Madrid:20240926T193000
DTEND;TZID=Europe/Madrid:20240926T193000
DTSTAMP:20260426T001531
CREATED:20240923T180719Z
LAST-MODIFIED:20240923T180719Z
UID:59624-1727379000-1727379000@a-desk.org
SUMMARY:“Impresiones corporales: ejercicios de aproximación” Elisa Ortega Montilla
DESCRIPTION:
URL:https://a-desk.org/ca/agenda/impresiones-corporales-ejercicios-de-aproximacion-elisa-ortega-montilla/
LOCATION:Souvenir\, Travessia de Sant Antoni\, 27\, 08012 Barcelona mapa\, Barcelona\, Barcelona\, 08012\, Spain
CATEGORIES:Inauguració/Exposició
END:VEVENT
BEGIN:VEVENT
DTSTART;TZID=Europe/Madrid:20240926T193000
DTEND;TZID=Europe/Madrid:20240926T193000
DTSTAMP:20260426T001531
CREATED:20240923T182007Z
LAST-MODIFIED:20240923T182007Z
UID:59641-1727379000-1727379000@a-desk.org
SUMMARY:Projecció de la pel·lícula “Mamífera”\, dins el Cicle Gaudí
DESCRIPTION:
URL:https://a-desk.org/ca/agenda/projeccio-de-la-pel%c2%b7licula-mamifera-dins-el-cicle-gaudi/
LOCATION:Teatre Principal de Vilanova\, Rambla Principal\, 4\, 08800 Vilanova i la Geltrú\, Barcelona
CATEGORIES:Cinema
END:VEVENT
END:VCALENDAR