BEGIN:VCALENDAR
VERSION:2.0
PRODID:-//A*Desk - ECPv6.8.1//NONSGML v1.0//EN
CALSCALE:GREGORIAN
METHOD:PUBLISH
X-ORIGINAL-URL:https://a-desk.org/ca/
X-WR-CALDESC:Esdeveniments per A*Desk
REFRESH-INTERVAL;VALUE=DURATION:PT1H
X-Robots-Tag:noindex
X-PUBLISHED-TTL:PT1H
BEGIN:VTIMEZONE
TZID:Europe/Madrid
BEGIN:DAYLIGHT
TZOFFSETFROM:+0100
TZOFFSETTO:+0200
TZNAME:CEST
DTSTART:20240331T010000
END:DAYLIGHT
BEGIN:STANDARD
TZOFFSETFROM:+0200
TZOFFSETTO:+0100
TZNAME:CET
DTSTART:20241027T010000
END:STANDARD
BEGIN:DAYLIGHT
TZOFFSETFROM:+0100
TZOFFSETTO:+0200
TZNAME:CEST
DTSTART:20250330T010000
END:DAYLIGHT
BEGIN:STANDARD
TZOFFSETFROM:+0200
TZOFFSETTO:+0100
TZNAME:CET
DTSTART:20251026T010000
END:STANDARD
END:VTIMEZONE
BEGIN:VEVENT
DTSTART;TZID=Europe/Madrid:20240210T110000
DTEND;TZID=Europe/Madrid:20250301T193000
DTSTAMP:20260425T200722
CREATED:20240123T113352Z
LAST-MODIFIED:20240123T113352Z
UID:53216-1707562800-1740857400@a-desk.org
SUMMARY:"[contra]panorama" VV.AA
DESCRIPTION:
URL:https://a-desk.org/ca/agenda/contrapanorama-vv-aa/
LOCATION:MACBA\, Plaça dels Àngels\, 1\, 08001 Barcelona mapa\, Barcelona\, Barcelona\, 08001\, Spain
CATEGORIES:Activitat,Cicle,Diàleg,Exposició,Mostra,Recerca
END:VEVENT
BEGIN:VEVENT
DTSTART;VALUE=DATE:20240908
DTEND;VALUE=DATE:20241125
DTSTAMP:20260425T200722
CREATED:20240826T085717Z
LAST-MODIFIED:20240826T085717Z
UID:58721-1725753600-1732492799@a-desk.org
SUMMARY:Manifesta 15
DESCRIPTION:
URL:https://a-desk.org/ca/agenda/manifesta-15/
LOCATION:Barcelona
CATEGORIES:Bienal
END:VEVENT
BEGIN:VEVENT
DTSTART;VALUE=DATE:20240920
DTEND;VALUE=DATE:20240930
DTSTAMP:20260425T200722
CREATED:20240915T090936Z
LAST-MODIFIED:20240915T090936Z
UID:59357-1726790400-1727654399@a-desk.org
SUMMARY:Setmana del Llibre en Català 2024
DESCRIPTION:
URL:https://a-desk.org/ca/agenda/setmana-del-llibre-en-catala-2024/
LOCATION:Arc de triomf\, Arc de Triomf\, Escenari 2 Passeig de Lluís Companys\, 15 08003 Barcelona
CATEGORIES:Literatura
END:VEVENT
BEGIN:VEVENT
DTSTART;VALUE=DATE:20240922
DTEND;VALUE=DATE:20241015
DTSTAMP:20260425T200722
CREATED:20240915T094400Z
LAST-MODIFIED:20240915T094400Z
UID:59395-1726963200-1728950399@a-desk.org
SUMMARY:Transhumant Festival 2024
DESCRIPTION:
URL:https://a-desk.org/ca/agenda/transhumant-festival-2024/
LOCATION:Barcelona
CATEGORIES:Cinema,Festival
END:VEVENT
BEGIN:VEVENT
DTSTART;TZID=Europe/Madrid:20240925T080000
DTEND;TZID=Europe/Madrid:20240930T170000
DTSTAMP:20260425T200722
CREATED:20240922T091636Z
LAST-MODIFIED:20240922T091636Z
UID:59551-1727251200-1727715600@a-desk.org
SUMMARY:Festival u22 de cinema jove de Barcelona
DESCRIPTION:
URL:https://a-desk.org/ca/agenda/festival-u22-de-cinema-jove-de-barcelona/
LOCATION:Fundación Joan Miró\, Parc de Montjuïc\, s/n\, 08038 Barcelona mapa\, Barcelona\, Barcelona\, 08038\, Spain
CATEGORIES:Cinema,Festival
END:VEVENT
BEGIN:VEVENT
DTSTART;VALUE=DATE:20240927
DTEND;VALUE=DATE:20241028
DTSTAMP:20260425T200722
CREATED:20240924T082717Z
LAST-MODIFIED:20240924T082717Z
UID:59670-1727395200-1730073599@a-desk.org
SUMMARY:III edició “Aparadors artístics”
DESCRIPTION:
URL:https://a-desk.org/ca/agenda/iii-edicio-aparadors-artistics/
LOCATION:Barcelona
CATEGORIES:Exposició
END:VEVENT
BEGIN:VEVENT
DTSTART;TZID=Europe/Madrid:20240929T093000
DTEND;TZID=Europe/Madrid:20240929T093000
DTSTAMP:20260425T200722
CREATED:20240924T090959Z
LAST-MODIFIED:20240924T090959Z
UID:59714-1727602200-1727602200@a-desk.org
SUMMARY:"Els Ports. Natura i Art" (9a. Edició)
DESCRIPTION:
URL:https://a-desk.org/ca/agenda/els-ports-natura-i-art-9a-edicio/
LOCATION:Mas de la Franqueta\, 43596 Horta de Sant Joan\, Tarragona
CATEGORIES:intervenció,Itinerari
END:VEVENT
BEGIN:VEVENT
DTSTART;TZID=Europe/Madrid:20240929T110000
DTEND;TZID=Europe/Madrid:20240929T180000
DTSTAMP:20260425T200722
CREATED:20240924T091654Z
LAST-MODIFIED:20240924T091654Z
UID:59724-1727607600-1727632800@a-desk.org
SUMMARY:“Hangar obert 2024”
DESCRIPTION:
URL:https://a-desk.org/ca/agenda/hangar-obert-2024-2/
LOCATION:Hangar\, C/ Emilia Coranty\, 16\, 08018 Barcelona mapa\, Barcelona\, Barcelona\, 08018\, Spain
END:VEVENT
BEGIN:VEVENT
DTSTART;TZID=Europe/Madrid:20240929T120000
DTEND;TZID=Europe/Madrid:20240929T120000
DTSTAMP:20260425T200722
CREATED:20240924T092613Z
LAST-MODIFIED:20240924T092613Z
UID:59741-1727611200-1727611200@a-desk.org
SUMMARY:“Remix Varda” - Taller de remescla de les pel·lícules d’Agnès Varda
DESCRIPTION:
URL:https://a-desk.org/ca/agenda/remix-varda-taller-de-remescla-de-les-pel%c2%b7licules-dagnes-varda/
LOCATION:CCCB\, C/ Montalegre\, 5\, 08001 Barcelona mapa\, Barcelona\, Barcelona\, 08001\, Spain
CATEGORIES:Taller
END:VEVENT
BEGIN:VEVENT
DTSTART;TZID=Europe/Madrid:20240929T120000
DTEND;TZID=Europe/Madrid:20240929T140000
DTSTAMP:20260425T200722
CREATED:20240924T091213Z
LAST-MODIFIED:20240924T091213Z
UID:59717-1727611200-1727618400@a-desk.org
SUMMARY:Manuel Del Rincón
DESCRIPTION:
URL:https://a-desk.org/ca/agenda/manuel-del-rincon/
LOCATION:Barcelona
CATEGORIES:Música
END:VEVENT
BEGIN:VEVENT
DTSTART;TZID=Europe/Madrid:20240929T160000
DTEND;TZID=Europe/Madrid:20240929T160000
DTSTAMP:20260425T200722
CREATED:20240924T092518Z
LAST-MODIFIED:20240924T092518Z
UID:59738-1727625600-1727625600@a-desk.org
SUMMARY:“Torneig de truc”
DESCRIPTION:
URL:https://a-desk.org/ca/agenda/torneig-de-truc/
LOCATION:Espai Mallorca\, Plaça de Vicenç Martorell\, 1\, Ciutat Vella\, 08001 Barcelona
CATEGORIES:Joc
END:VEVENT
BEGIN:VEVENT
DTSTART;TZID=Europe/Madrid:20240929T170000
DTEND;TZID=Europe/Madrid:20240929T210000
DTSTAMP:20260425T200722
CREATED:20240924T091338Z
LAST-MODIFIED:20240924T091338Z
UID:59720-1727629200-1727643600@a-desk.org
SUMMARY:“Fleeting Temples Of Hope”  Hanna Ternoven
DESCRIPTION:
URL:https://a-desk.org/ca/agenda/fleeting-temples-of-hope-hanna-ternoven/
LOCATION:Fabra i Coats\, C/ Sant Adrià\, 20\, 08030 Barcelona mapa\, Barcelona\, Barcelona\, 08030\, Spain
CATEGORIES:Cicle
END:VEVENT
BEGIN:VEVENT
DTSTART;TZID=Europe/Madrid:20240929T180000
DTEND;TZID=Europe/Madrid:20240929T180000
DTSTAMP:20260425T200722
CREATED:20240924T092401Z
LAST-MODIFIED:20240924T092401Z
UID:59736-1727632800-1727632800@a-desk.org
SUMMARY:“Família (Im)possible"
DESCRIPTION:
URL:https://a-desk.org/ca/agenda/familia-impossible/
LOCATION:Espai Texas\, C/ de Bailèn\, 205\, Gràcia\, Barcelona\, Barcelona\, 08037\, España
CATEGORIES:Espectacle
END:VEVENT
BEGIN:VEVENT
DTSTART;TZID=Europe/Madrid:20240929T183000
DTEND;TZID=Europe/Madrid:20240929T183000
DTSTAMP:20260425T200722
CREATED:20240924T082918Z
LAST-MODIFIED:20240924T082918Z
UID:59673-1727634600-1727634600@a-desk.org
SUMMARY:“Cine Cec. Blau\, la ceguesa total”
DESCRIPTION:
URL:https://a-desk.org/ca/agenda/cine-cec-blau-la-ceguesa-total/
LOCATION:CCCB\, C/ Montalegre\, 5\, 08001 Barcelona mapa\, Barcelona\, Barcelona\, 08001\, Spain
CATEGORIES:Cicle,Cinema
END:VEVENT
BEGIN:VEVENT
DTSTART;TZID=Europe/Madrid:20240929T190000
DTEND;TZID=Europe/Madrid:20240929T190000
DTSTAMP:20260425T200722
CREATED:20240924T091510Z
LAST-MODIFIED:20240924T091510Z
UID:59722-1727636400-1727636400@a-desk.org
SUMMARY:Concert: Sam Lee
DESCRIPTION:
URL:https://a-desk.org/ca/agenda/concert-sam-lee/
LOCATION:CaixaForum Barcelona\, Av. Francesc Ferrer i Guàrdia\, 6-8\, Barcelona\, Barcelona\, 08038\, España
CATEGORIES:Concert
END:VEVENT
BEGIN:VEVENT
DTSTART;TZID=Europe/Madrid:20240929T193000
DTEND;TZID=Europe/Madrid:20240929T193000
DTSTAMP:20260425T200722
CREATED:20240924T091851Z
LAST-MODIFIED:20240924T091851Z
UID:59726-1727638200-1727638200@a-desk.org
SUMMARY:Música a Ciegas: The Dark Side of The Moon
DESCRIPTION:
URL:https://a-desk.org/ca/agenda/musica-a-ciegas-the-dark-side-of-the-moon/
LOCATION:BRIDGE_ 48\, CARRER LLULL 48
CATEGORIES:Cicle,Música
END:VEVENT
BEGIN:VEVENT
DTSTART;TZID=Europe/Madrid:20240929T200000
DTEND;TZID=Europe/Madrid:20240929T210000
DTSTAMP:20260425T200722
CREATED:20240924T092020Z
LAST-MODIFIED:20240924T092020Z
UID:59732-1727640000-1727643600@a-desk.org
SUMMARY:Concierto INDIE BYRON – Grauwi & Marta Cascales
DESCRIPTION:
URL:https://a-desk.org/ca/agenda/concierto-indie-byron-grauwi-marta-cascales/
LOCATION:Llibreria Byron\, C/ Casanova\, 32\, 08011 Barcelona mapa\, Barcelona\, Barcelona\, 08011\, Spain
CATEGORIES:Concert
END:VEVENT
BEGIN:VEVENT
DTSTART;TZID=Europe/Madrid:20240929T200000
DTEND;TZID=Europe/Madrid:20240929T210000
DTSTAMP:20260425T200722
CREATED:20240924T092243Z
LAST-MODIFIED:20240924T092243Z
UID:59734-1727640000-1727643600@a-desk.org
SUMMARY:“Mosca” Gustavo del Rio / Cicle #Pontaeri
DESCRIPTION:
URL:https://a-desk.org/ca/agenda/mosca-gustavo-del-rio-cicle-pontaeri/
LOCATION:Sala Fènix\, Carrer de la Riereta\, 31\, Barcelona\, Barcelona\, 08001\, España
CATEGORIES:Teatre
END:VEVENT
BEGIN:VEVENT
DTSTART;TZID=Europe/Madrid:20240929T230000
DTEND;TZID=Europe/Madrid:20240929T230000
DTSTAMP:20260425T200722
CREATED:20240924T092738Z
LAST-MODIFIED:20240924T092738Z
UID:59743-1727650800-1727650800@a-desk.org
SUMMARY:“Dancehall vs Afrobeats Vol 16”
DESCRIPTION:
URL:https://a-desk.org/ca/agenda/dancehall-vs-afrobeats-vol-16/
LOCATION:Sala Paral·lel 62\, Av. del Paral·lel\, 62\, 08001 Barcelona mapa\, Barcelona\, Barcelona\, 08001\, Spain
CATEGORIES:Festa,Música
END:VEVENT
END:VCALENDAR