BEGIN:VCALENDAR
VERSION:2.0
PRODID:-//A*Desk - ECPv6.8.1//NONSGML v1.0//EN
CALSCALE:GREGORIAN
METHOD:PUBLISH
X-WR-CALNAME:A*Desk
X-ORIGINAL-URL:https://a-desk.org/ca/
X-WR-CALDESC:Esdeveniments per A*Desk
REFRESH-INTERVAL;VALUE=DURATION:PT1H
X-Robots-Tag:noindex
X-PUBLISHED-TTL:PT1H
BEGIN:VTIMEZONE
TZID:Europe/Madrid
BEGIN:DAYLIGHT
TZOFFSETFROM:+0100
TZOFFSETTO:+0200
TZNAME:CEST
DTSTART:20240331T010000
END:DAYLIGHT
BEGIN:STANDARD
TZOFFSETFROM:+0200
TZOFFSETTO:+0100
TZNAME:CET
DTSTART:20241027T010000
END:STANDARD
BEGIN:DAYLIGHT
TZOFFSETFROM:+0100
TZOFFSETTO:+0200
TZNAME:CEST
DTSTART:20250330T010000
END:DAYLIGHT
BEGIN:STANDARD
TZOFFSETFROM:+0200
TZOFFSETTO:+0100
TZNAME:CET
DTSTART:20251026T010000
END:STANDARD
END:VTIMEZONE
BEGIN:VEVENT
DTSTART;TZID=Europe/Madrid:20240210T110000
DTEND;TZID=Europe/Madrid:20250301T193000
DTSTAMP:20260426T001345
CREATED:20240123T113352Z
LAST-MODIFIED:20240123T113352Z
UID:53216-1707562800-1740857400@a-desk.org
SUMMARY:"[contra]panorama" VV.AA
DESCRIPTION:
URL:https://a-desk.org/ca/agenda/contrapanorama-vv-aa/
LOCATION:MACBA\, Plaça dels Àngels\, 1\, 08001 Barcelona mapa\, Barcelona\, Barcelona\, 08001\, Spain
CATEGORIES:Activitat,Cicle,Diàleg,Exposició,Mostra,Recerca
END:VEVENT
BEGIN:VEVENT
DTSTART;VALUE=DATE:20240908
DTEND;VALUE=DATE:20241125
DTSTAMP:20260426T001345
CREATED:20240826T085717Z
LAST-MODIFIED:20240826T085717Z
UID:58721-1725753600-1732492799@a-desk.org
SUMMARY:Manifesta 15
DESCRIPTION:
URL:https://a-desk.org/ca/agenda/manifesta-15/
LOCATION:Barcelona
CATEGORIES:Bienal
END:VEVENT
BEGIN:VEVENT
DTSTART;VALUE=DATE:20240922
DTEND;VALUE=DATE:20241015
DTSTAMP:20260426T001345
CREATED:20240915T094400Z
LAST-MODIFIED:20240915T094400Z
UID:59395-1726963200-1728950399@a-desk.org
SUMMARY:Transhumant Festival 2024
DESCRIPTION:
URL:https://a-desk.org/ca/agenda/transhumant-festival-2024/
LOCATION:Barcelona
CATEGORIES:Cinema,Festival
END:VEVENT
BEGIN:VEVENT
DTSTART;VALUE=DATE:20240927
DTEND;VALUE=DATE:20241028
DTSTAMP:20260426T001345
CREATED:20240924T082717Z
LAST-MODIFIED:20240924T082717Z
UID:59670-1727395200-1730073599@a-desk.org
SUMMARY:III edició “Aparadors artístics”
DESCRIPTION:
URL:https://a-desk.org/ca/agenda/iii-edicio-aparadors-artistics/
LOCATION:Barcelona
CATEGORIES:Exposició
END:VEVENT
BEGIN:VEVENT
DTSTART;VALUE=DATE:20241001
DTEND;VALUE=DATE:20250625
DTSTAMP:20260426T001345
CREATED:20240928T113817Z
LAST-MODIFIED:20240928T114234Z
UID:59863-1727740800-1750809599@a-desk.org
SUMMARY:Per amor a les Arts 2024-2025
DESCRIPTION:
URL:https://a-desk.org/ca/agenda/per-amor-a-les-arts-2024-2025/
LOCATION:Barcelona
CATEGORIES:Cicle,Cinema
END:VEVENT
BEGIN:VEVENT
DTSTART;TZID=Europe/Madrid:20241002T110000
DTEND;TZID=Europe/Madrid:20241002T110000
DTSTAMP:20260426T001345
CREATED:20241001T080024Z
LAST-MODIFIED:20241001T080024Z
UID:59943-1727866800-1727866800@a-desk.org
SUMMARY:Xerrada: “Cervell\, memòria i envelliment” a càrrec de Carla Capellades Buqueras i d’Enric Prats Bacardí | "La teva memòria\, la nostra"
DESCRIPTION:
URL:https://a-desk.org/ca/agenda/xerrada-cervell-memoria-i-envelliment-a-carrec-de-carla-capellades-buqueras-i-denric-prats-bacardi-la-teva-memoria-la-nostra/
LOCATION:Biblioteca Sofia Barat\, Carrer de Girona\, 64-68\, L'Eixample\, 08009 Barcelona
CATEGORIES:Xerrada
END:VEVENT
BEGIN:VEVENT
DTSTART;TZID=Europe/Madrid:20241002T170000
DTEND;TZID=Europe/Madrid:20241002T170000
DTSTAMP:20260426T001345
CREATED:20241001T073829Z
LAST-MODIFIED:20241001T073829Z
UID:59939-1727888400-1727888400@a-desk.org
SUMMARY:“Der Bräutigam\, die Komödiantin und der Zuhälter” Jean-Marie Straub\, Danièlle Huillet / Aula de Cinema 2024-2025
DESCRIPTION:
URL:https://a-desk.org/ca/agenda/der-brautigam-die-komodiantin-und-der-zuhalter-jean-marie-straub-danielle-huillet-aula-de-cinema-2024-2025/
LOCATION:Filmoteca\, Plaça de Salvador Seguí\, 1\, 08001 Barcelona mapa\, Barcelona\, Barcelona\, 08001\, Spain
CATEGORIES:Projecció
END:VEVENT
BEGIN:VEVENT
DTSTART;TZID=Europe/Madrid:20241002T180000
DTEND;TZID=Europe/Madrid:20241002T200000
DTSTAMP:20260426T001345
CREATED:20241001T072232Z
LAST-MODIFIED:20241001T072232Z
UID:59928-1727892000-1727899200@a-desk.org
SUMMARY:“Cura digital transfeminista contra tots els feixismes”
DESCRIPTION:
URL:https://a-desk.org/ca/agenda/cura-digital-transfeminista-contra-tots-els-feixismes/
LOCATION:Centre de Documentació de Ca la Dona\, Carrer Ripoll\, 25\, Barcelona\, Barcelona\, 08002\, España
CATEGORIES:Debat,Projecció
END:VEVENT
BEGIN:VEVENT
DTSTART;TZID=Europe/Madrid:20241002T180000
DTEND;TZID=Europe/Madrid:20241002T203000
DTSTAMP:20260426T001345
CREATED:20240928T121346Z
LAST-MODIFIED:20240928T121346Z
UID:59872-1727892000-1727901000@a-desk.org
SUMMARY:"Seminario Arquitecturas de la piel: del cuerpo a la calle"
DESCRIPTION:
URL:https://a-desk.org/ca/agenda/seminario-arquitecturas-de-la-piel-del-cuerpo-a-la-calle-2/
LOCATION:Museu Tàpies\, C/ Aragó\, 255\, 08007 Barcelona mapa\, Barcelona\, Barcelona\, 08007
CATEGORIES:Seminari
END:VEVENT
BEGIN:VEVENT
DTSTART;TZID=Europe/Madrid:20241002T183000
DTEND;TZID=Europe/Madrid:20241002T183000
DTSTAMP:20260426T001345
CREATED:20241001T065602Z
LAST-MODIFIED:20241001T065602Z
UID:59906-1727893800-1727893800@a-desk.org
SUMMARY:"La ciutat que fa aigües. Existeix una poètica de la precarietat?" / Literatura en trànsit
DESCRIPTION:
URL:https://a-desk.org/ca/agenda/la-ciutat-que-fa-aigues-existeix-una-poetica-de-la-precarietat-literatura-en-transit/
LOCATION:Biblioteca El Carmel-Juan Marsé\, Carrer de la Murtra\, 135\, 145\, Horta-Guinardó\, 08032 Barcelona
CATEGORIES:Col·loqui,Presentació de llibre
END:VEVENT
BEGIN:VEVENT
DTSTART;TZID=Europe/Madrid:20241002T183000
DTEND;TZID=Europe/Madrid:20241002T183000
DTSTAMP:20260426T001345
CREATED:20241001T153035Z
LAST-MODIFIED:20241001T153213Z
UID:60055-1727893800-1727893800@a-desk.org
SUMMARY:"Converses sobre i per riure" Flavita Banana i La Prados /  Cinestèsies
DESCRIPTION:
URL:https://a-desk.org/ca/agenda/converses-sobre-i-per-riure-flavita-banana-i-la-prados/
LOCATION:CC Ateneu Fort Pienc\, Plaça Fort Pienc\, 4\, Barcelona\, Barcelona\, 08013\, España
CATEGORIES:Conversa
END:VEVENT
BEGIN:VEVENT
DTSTART;TZID=Europe/Madrid:20241002T183000
DTEND;TZID=Europe/Madrid:20241002T203000
DTSTAMP:20260426T001345
CREATED:20241001T074016Z
LAST-MODIFIED:20241001T074016Z
UID:59941-1727893800-1727901000@a-desk.org
SUMMARY:“El deseo de la femme fatale: un análisis feminista” Raquel Miralles
DESCRIPTION:
URL:https://a-desk.org/ca/agenda/el-deseo-de-la-femme-fatale-un-analisis-feminista-raquel-miralles/
LOCATION:crisi\, C. de Floridablanca\, 90\, Barcelona\, Barcelona\, 08015\, España
CATEGORIES:Curs
END:VEVENT
BEGIN:VEVENT
DTSTART;TZID=Europe/Madrid:20241002T190000
DTEND;TZID=Europe/Madrid:20241002T190000
DTSTAMP:20260426T001345
CREATED:20241001T064743Z
LAST-MODIFIED:20241001T064743Z
UID:59904-1727895600-1727895600@a-desk.org
SUMMARY:“Després del vendaval. Rehabitar les esquerdes des de l’acció col·lectiva”
DESCRIPTION:
URL:https://a-desk.org/ca/agenda/despres-del-vendaval-rehabitar-les-esquerdes-des-de-laccio-col%c2%b7lectiva/
LOCATION:Santa Mònica\, La Rambla\, 7\, 08002 Barcelona mapa\, Barcelona\, Barcelona\, 08002\, Spain
CATEGORIES:Inauguració/Exposició
END:VEVENT
BEGIN:VEVENT
DTSTART;TZID=Europe/Madrid:20241002T190000
DTEND;TZID=Europe/Madrid:20241002T190000
DTSTAMP:20260426T001345
CREATED:20241001T071056Z
LAST-MODIFIED:20241001T071154Z
UID:59922-1727895600-1727895600@a-desk.org
SUMMARY:"Untitled Folder" Laia Serra / Premi Eloi Gimeno
DESCRIPTION:
URL:https://a-desk.org/ca/agenda/untitled-folder-laia-serra-premi-eloi-gimeno/
LOCATION:Fundació Foto Colectania\, Passeig de Picasso\, 14\, 08003 Barcelona mapa\, Barcelona\, Barcelona\, 08003\, Spain
CATEGORIES:Inauguració/Exposició
END:VEVENT
BEGIN:VEVENT
DTSTART;TZID=Europe/Madrid:20241002T190000
DTEND;TZID=Europe/Madrid:20241002T190000
DTSTAMP:20260426T001345
CREATED:20241001T072424Z
LAST-MODIFIED:20241001T072424Z
UID:59930-1727895600-1727895600@a-desk.org
SUMMARY:Conversa: "L'amor que sempre queda" Anna Punsí\, Albert Om
DESCRIPTION:
URL:https://a-desk.org/ca/agenda/conversa-lamor-que-sempre-queda-anna-punsi-albert-om/
LOCATION:Ona Llibres\, C/ Pau Claris\, 94\, 08010 Barcelona mapa\, Barcelona\, Barcelona\, 08010\, Spain
CATEGORIES:Conversa
END:VEVENT
BEGIN:VEVENT
DTSTART;TZID=Europe/Madrid:20241002T190000
DTEND;TZID=Europe/Madrid:20241002T190000
DTSTAMP:20260426T001345
CREATED:20241001T072903Z
LAST-MODIFIED:20241001T072903Z
UID:59935-1727895600-1727895600@a-desk.org
SUMMARY:Concert de Jazz: Zoom
DESCRIPTION:
URL:https://a-desk.org/ca/agenda/concert-de-jazz-zoom/
LOCATION:Goethe Institut\, C/ de Roger de Flor 224\, Barcelona\, Barcelona\, 08025\, España
CATEGORIES:Concert
END:VEVENT
BEGIN:VEVENT
DTSTART;TZID=Europe/Madrid:20241002T193000
DTEND;TZID=Europe/Madrid:20241002T193000
DTSTAMP:20260426T001345
CREATED:20241001T162224Z
LAST-MODIFIED:20241001T162224Z
UID:60092-1727897400-1727897400@a-desk.org
SUMMARY:Artista del Mes – Steven Forster
DESCRIPTION:
URL:https://a-desk.org/ca/agenda/artista-del-mes-steven-forster/
LOCATION:Drap Art Gallery\, C/ d'En Groc\, 1\, Ciutat Vella\, 08002 Barcelona
CATEGORIES:Inauguració/Exposició
END:VEVENT
BEGIN:VEVENT
DTSTART;TZID=Europe/Madrid:20241002T200000
DTEND;TZID=Europe/Madrid:20241002T200000
DTSTAMP:20260426T001345
CREATED:20241001T065722Z
LAST-MODIFIED:20241001T065722Z
UID:59908-1727899200-1727899200@a-desk.org
SUMMARY:"Aquí comença la història..." / Literatura en trànsit
DESCRIPTION:
URL:https://a-desk.org/ca/agenda/aqui-comenca-la-historia-literatura-en-transit/
LOCATION:Biblioteca El Carmel-Juan Marsé\, Carrer de la Murtra\, 135\, 145\, Horta-Guinardó\, 08032 Barcelona
CATEGORIES:Presentació de llibre
END:VEVENT
BEGIN:VEVENT
DTSTART;TZID=Europe/Madrid:20241002T200000
DTEND;TZID=Europe/Madrid:20241002T200000
DTSTAMP:20260426T001345
CREATED:20241001T073544Z
LAST-MODIFIED:20241001T073544Z
UID:59937-1727899200-1727899200@a-desk.org
SUMMARY:“BioLògica” Sílvia Navarro Perramon + col·loqui postfunció
DESCRIPTION:
URL:https://a-desk.org/ca/agenda/biologica-silvia-navarro-perramon-col%c2%b7loqui-postfuncio/
LOCATION:Sala Beckett\, C/ Pere IV\, 228\, 232\, 08005 Barcelona mapa\, Barcelona\, Barcelona\, 08005\, Spain
CATEGORIES:Teatre
END:VEVENT
BEGIN:VEVENT
DTSTART;TZID=Europe/Madrid:20241002T203000
DTEND;TZID=Europe/Madrid:20241002T203000
DTSTAMP:20260426T001345
CREATED:20241001T064539Z
LAST-MODIFIED:20241001T064539Z
UID:59902-1727901000-1727901000@a-desk.org
SUMMARY:"La visita de un pájaro" Lucía del Valle Ramírez /  Cineclub + Pica Pica
DESCRIPTION:
URL:https://a-desk.org/ca/agenda/la-visita-de-un-pajaro-lucia-del-valle-ramirez-cineclub-pica-pica/
LOCATION:La Escocesa\, C/ Pere IV\, 345\, 08020 Barcelona mapa\, Barcelona\, Barcelona\, 08020\, Spain
CATEGORIES:Cinema
END:VEVENT
BEGIN:VEVENT
DTSTART;TZID=Europe/Madrid:20241002T210000
DTEND;TZID=Europe/Madrid:20241002T220000
DTSTAMP:20260426T001345
CREATED:20241001T071919Z
LAST-MODIFIED:20241001T071919Z
UID:59924-1727902800-1727906400@a-desk.org
SUMMARY:“Kalk’iin” Adriana Vila Guevara | AltraArt
DESCRIPTION:
URL:https://a-desk.org/ca/agenda/kalkiin-adriana-vila-guevara-altraart/
LOCATION:La Casa Elizalde\, C/ València\, 302\, 08009 Barcelona mapa\, Barcelona\, Barcelona\, 08009\, Spain
CATEGORIES:Performance
END:VEVENT
BEGIN:VEVENT
DTSTART;TZID=Europe/Madrid:20241002T213000
DTEND;TZID=Europe/Madrid:20241002T213000
DTSTAMP:20260426T001345
CREATED:20241001T064355Z
LAST-MODIFIED:20241001T064355Z
UID:59900-1727904600-1727904600@a-desk.org
SUMMARY:"Skin of Glass" Denise Zmekhol / Pantalla Pavelló
DESCRIPTION:
URL:https://a-desk.org/ca/agenda/skin-of-glass-denise-zmekhol-pantalla-pavello/
LOCATION:Fundació Mies van der Rohe\, Av. Francesc Ferrer i Guàrdia\, 7\, 08038 Barcelona mapa\, Barcelona\, Barcelona\, 08038\, Spain
CATEGORIES:Cinema
END:VEVENT
END:VCALENDAR