BEGIN:VCALENDAR
VERSION:2.0
PRODID:-//A*Desk - ECPv6.8.1//NONSGML v1.0//EN
CALSCALE:GREGORIAN
METHOD:PUBLISH
X-ORIGINAL-URL:https://a-desk.org/ca/
X-WR-CALDESC:Esdeveniments per A*Desk
REFRESH-INTERVAL;VALUE=DURATION:PT1H
X-Robots-Tag:noindex
X-PUBLISHED-TTL:PT1H
BEGIN:VTIMEZONE
TZID:Europe/Madrid
BEGIN:DAYLIGHT
TZOFFSETFROM:+0100
TZOFFSETTO:+0200
TZNAME:CEST
DTSTART:20240331T010000
END:DAYLIGHT
BEGIN:STANDARD
TZOFFSETFROM:+0200
TZOFFSETTO:+0100
TZNAME:CET
DTSTART:20241027T010000
END:STANDARD
BEGIN:DAYLIGHT
TZOFFSETFROM:+0100
TZOFFSETTO:+0200
TZNAME:CEST
DTSTART:20250330T010000
END:DAYLIGHT
BEGIN:STANDARD
TZOFFSETFROM:+0200
TZOFFSETTO:+0100
TZNAME:CET
DTSTART:20251026T010000
END:STANDARD
END:VTIMEZONE
BEGIN:VEVENT
DTSTART;TZID=Europe/Madrid:20240210T110000
DTEND;TZID=Europe/Madrid:20250301T193000
DTSTAMP:20260426T031628
CREATED:20240123T113352Z
LAST-MODIFIED:20240123T113352Z
UID:53216-1707562800-1740857400@a-desk.org
SUMMARY:"[contra]panorama" VV.AA
DESCRIPTION:
URL:https://a-desk.org/ca/agenda/contrapanorama-vv-aa/
LOCATION:MACBA\, Plaça dels Àngels\, 1\, 08001 Barcelona mapa\, Barcelona\, Barcelona\, 08001\, Spain
CATEGORIES:Activitat,Cicle,Diàleg,Exposició,Mostra,Recerca
END:VEVENT
BEGIN:VEVENT
DTSTART;VALUE=DATE:20240908
DTEND;VALUE=DATE:20241125
DTSTAMP:20260426T031628
CREATED:20240826T085717Z
LAST-MODIFIED:20240826T085717Z
UID:58721-1725753600-1732492799@a-desk.org
SUMMARY:Manifesta 15
DESCRIPTION:
URL:https://a-desk.org/ca/agenda/manifesta-15/
LOCATION:Barcelona
CATEGORIES:Bienal
END:VEVENT
BEGIN:VEVENT
DTSTART;VALUE=DATE:20240922
DTEND;VALUE=DATE:20241015
DTSTAMP:20260426T031628
CREATED:20240915T094400Z
LAST-MODIFIED:20240915T094400Z
UID:59395-1726963200-1728950399@a-desk.org
SUMMARY:Transhumant Festival 2024
DESCRIPTION:
URL:https://a-desk.org/ca/agenda/transhumant-festival-2024/
LOCATION:Barcelona
CATEGORIES:Cinema,Festival
END:VEVENT
BEGIN:VEVENT
DTSTART;VALUE=DATE:20240927
DTEND;VALUE=DATE:20241028
DTSTAMP:20260426T031628
CREATED:20240924T082717Z
LAST-MODIFIED:20240924T082717Z
UID:59670-1727395200-1730073599@a-desk.org
SUMMARY:III edició “Aparadors artístics”
DESCRIPTION:
URL:https://a-desk.org/ca/agenda/iii-edicio-aparadors-artistics/
LOCATION:Barcelona
CATEGORIES:Exposició
END:VEVENT
BEGIN:VEVENT
DTSTART;VALUE=DATE:20241001
DTEND;VALUE=DATE:20250625
DTSTAMP:20260426T031628
CREATED:20240928T113817Z
LAST-MODIFIED:20240928T114234Z
UID:59863-1727740800-1750809599@a-desk.org
SUMMARY:Per amor a les Arts 2024-2025
DESCRIPTION:
URL:https://a-desk.org/ca/agenda/per-amor-a-les-arts-2024-2025/
LOCATION:Barcelona
CATEGORIES:Cicle,Cinema
END:VEVENT
BEGIN:VEVENT
DTSTART;VALUE=DATE:20241003
DTEND;VALUE=DATE:20241031
DTSTAMP:20260426T031628
CREATED:20241001T080915Z
LAST-MODIFIED:20241001T080915Z
UID:59949-1727913600-1730332799@a-desk.org
SUMMARY:Festival de Cinema Jueu 2024
DESCRIPTION:
URL:https://a-desk.org/ca/agenda/festival-de-cinema-jueu-2024/
LOCATION:Barcelona
CATEGORIES:Cinema,Festival
END:VEVENT
BEGIN:VEVENT
DTSTART;VALUE=DATE:20241004
DTEND;VALUE=DATE:20241005
DTSTAMP:20260426T031628
CREATED:20241001T081510Z
LAST-MODIFIED:20241001T081535Z
UID:59957-1728000000-1728086399@a-desk.org
SUMMARY:Swab Barcelona 2024
DESCRIPTION:
URL:https://a-desk.org/ca/agenda/swab-barcelona-2024-2/
LOCATION:Barcelona
CATEGORIES:Fira
END:VEVENT
BEGIN:VEVENT
DTSTART;VALUE=DATE:20241004
DTEND;VALUE=DATE:20241005
DTSTAMP:20260426T031628
CREATED:20241001T092502Z
LAST-MODIFIED:20241001T092530Z
UID:59989-1728000000-1728086399@a-desk.org
SUMMARY:"AR-DE. Circuit d’Art i Disseny"
DESCRIPTION:
URL:https://a-desk.org/ca/agenda/ar-de-circuit-dart-i-disseny/
LOCATION:Barcelona
CATEGORIES:Art i Disseny
END:VEVENT
BEGIN:VEVENT
DTSTART;VALUE=DATE:20241004
DTEND;VALUE=DATE:20241005
DTSTAMP:20260426T031628
CREATED:20241001T094116Z
LAST-MODIFIED:20241001T094240Z
UID:60012-1728000000-1728086399@a-desk.org
SUMMARY:“A cel obert” / Festival d'Intervencions Efímeres
DESCRIPTION:
URL:https://a-desk.org/ca/agenda/festival-dintervencions-efimeres-a-cel-obert/
LOCATION:Tortosa\, Tarragona\, Catalunya\, España
CATEGORIES:Festival
END:VEVENT
BEGIN:VEVENT
DTSTART;TZID=Europe/Madrid:20241004T100000
DTEND;TZID=Europe/Madrid:20241004T120000
DTSTAMP:20260426T031628
CREATED:20241001T092045Z
LAST-MODIFIED:20241001T092045Z
UID:59985-1728036000-1728043200@a-desk.org
SUMMARY:"Visita a l'espai de fotografia Francesc Català Roca" - Finestres de la memòria. L’objecte fotogràfic
DESCRIPTION:
URL:https://a-desk.org/ca/agenda/visita-a-lespai-de-fotografia-francesc-catala-roca-finestres-de-la-memoria-lobjecte-fotografic/
LOCATION:Espai de fotografia Francesc Català-Roca\, C/ de Llança\, 15-21\, Barcelona\, Barcelona\, 08015\, España
CATEGORIES:Visita guiada
END:VEVENT
BEGIN:VEVENT
DTSTART;TZID=Europe/Madrid:20241004T110000
DTEND;TZID=Europe/Madrid:20241004T110000
DTSTAMP:20260426T031628
CREATED:20241001T094831Z
LAST-MODIFIED:20241001T094831Z
UID:60024-1728039600-1728039600@a-desk.org
SUMMARY:Xerrada: “Temps de passar-ho bé” a càrrec de Núria Pujol i Sabaté | “La teva memòria\, la nostra”
DESCRIPTION:
URL:https://a-desk.org/ca/agenda/xerrada-temps-de-passar-ho-be-a-carrec-de-nuria-pujol-i-sabate-la-teva-memoria-la-nostra/
LOCATION:Biblioteca Sofia Barat\, Carrer de Girona\, 64-68\, L'Eixample\, 08009 Barcelona
CATEGORIES:Xerrada
END:VEVENT
BEGIN:VEVENT
DTSTART;TZID=Europe/Madrid:20241004T180000
DTEND;TZID=Europe/Madrid:20241004T203000
DTSTAMP:20260426T031628
CREATED:20240928T121711Z
LAST-MODIFIED:20240928T121711Z
UID:59876-1728064800-1728073800@a-desk.org
SUMMARY:"Seminario Arquitecturas de la piel: del cuerpo a la calle"
DESCRIPTION:
URL:https://a-desk.org/ca/agenda/seminario-arquitecturas-de-la-piel-del-cuerpo-a-la-calle-4/
LOCATION:Museu Tàpies\, C/ Aragó\, 255\, 08007 Barcelona mapa\, Barcelona\, Barcelona\, 08007
CATEGORIES:Seminari
END:VEVENT
BEGIN:VEVENT
DTSTART;TZID=Europe/Madrid:20241004T183000
DTEND;TZID=Europe/Madrid:20241004T183000
DTSTAMP:20260426T031628
CREATED:20241001T070543Z
LAST-MODIFIED:20241001T070903Z
UID:59916-1728066600-1728066600@a-desk.org
SUMMARY:"Llegir el teatre" / Literatura en trànsit
DESCRIPTION:
URL:https://a-desk.org/ca/agenda/llegir-el-teatre-literatura-en-transit/
LOCATION:Biblioteca Horta – Can Mariner\, Carrer del Vent\, 1\, Horta-Guinardó\, 08031 Barcelona
CATEGORIES:Presentació de llibre
END:VEVENT
BEGIN:VEVENT
DTSTART;TZID=Europe/Madrid:20241004T183000
DTEND;TZID=Europe/Madrid:20241004T183000
DTSTAMP:20260426T031628
CREATED:20241001T093651Z
LAST-MODIFIED:20241001T093651Z
UID:60008-1728066600-1728066600@a-desk.org
SUMMARY:“Raíces de ginseng” Craig Thompson
DESCRIPTION:
URL:https://a-desk.org/ca/agenda/raices-de-ginseng-craig-thompson/
LOCATION:Llibreria Finestres\, C/ Diputació\, 249\, 08007 Barcelona mapa\, Barcelona\, Barcelona\, 08007\, Spain
CATEGORIES:Presentació de llibre
END:VEVENT
BEGIN:VEVENT
DTSTART;TZID=Europe/Madrid:20241004T190000
DTEND;TZID=Europe/Madrid:20241004T190000
DTSTAMP:20260426T031628
CREATED:20241001T093534Z
LAST-MODIFIED:20241001T093534Z
UID:60006-1728068400-1728068400@a-desk.org
SUMMARY:Xerrada: “Agnès Varda\, espigoladora d’imatges” Judith Vives / Fragments de Varda
DESCRIPTION:
URL:https://a-desk.org/ca/agenda/xerrada-agnes-varda-espigoladora-dimatges-judith-vives-fragments-de-varda/
LOCATION:La Casa Elizalde\, C/ València\, 302\, 08009 Barcelona mapa\, Barcelona\, Barcelona\, 08009\, Spain
CATEGORIES:Xerrada
END:VEVENT
BEGIN:VEVENT
DTSTART;TZID=Europe/Madrid:20241004T190000
DTEND;TZID=Europe/Madrid:20241004T190000
DTSTAMP:20260426T031628
CREATED:20241001T094617Z
LAST-MODIFIED:20241001T094646Z
UID:60021-1728068400-1728068400@a-desk.org
SUMMARY:Presentació: “Brujería” Gonzalo Torné conversa amb Igancio Echevarría
DESCRIPTION:
URL:https://a-desk.org/ca/agenda/presentacio-brujeria-gonzalo-torne-conversa-amb-igancio-echevarria/
LOCATION:La Central (C/ Mallorca)\, C/ Mallorca\, 237\, 08008 Barcelona mapa\, Barcelona\, Barcelona\, 08008\, Spain
CATEGORIES:Conversa,Presentació de llibre
END:VEVENT
BEGIN:VEVENT
DTSTART;TZID=Europe/Madrid:20241004T190000
DTEND;TZID=Europe/Madrid:20241004T210000
DTSTAMP:20260426T031628
CREATED:20241001T092213Z
LAST-MODIFIED:20241001T092213Z
UID:59987-1728068400-1728075600@a-desk.org
SUMMARY:Reading Room 4 - GRIEFISLOVE - Isa Jasmim Ribeiro de Lemos & Sangre de María
DESCRIPTION:
URL:https://a-desk.org/ca/agenda/reading-room-4-griefislove-isa-jasmim-ribeiro-de-lemos-sangre-de-maria/
LOCATION:Tangent Projects\, C. Martí Codolar\, 41\, 08902 L'Hospitalet de Llobregat\, Barcelona\, Hospitalet de Llobregat\, Barcelona\, 08902\, Spain
CATEGORIES:Club de lectura
END:VEVENT
BEGIN:VEVENT
DTSTART;TZID=Europe/Madrid:20241004T193000
DTEND;TZID=Europe/Madrid:20241004T193000
DTSTAMP:20260426T031628
CREATED:20241001T161812Z
LAST-MODIFIED:20241001T161812Z
UID:60088-1728070200-1728070200@a-desk.org
SUMMARY:"Darrere les persianes. Breu història de les lesbianes a Barcelona" amb Isabel Franc\, Rosa Navarro i Mercè Otero
DESCRIPTION:os
URL:https://a-desk.org/ca/agenda/darrere-les-persianes-breu-historia-de-les-lesbianes-a-barcelona-amb-isabel-franc-rosa-navarro-i-merce-otero/
LOCATION:Libreria La Caníbal\, C/ Nàpols\, 314\, 08025 Barcelona mapa\, Barcelona\, Barcelona\, 08044\, Spain
CATEGORIES:Presentació de llibre
END:VEVENT
BEGIN:VEVENT
DTSTART;TZID=Europe/Madrid:20241004T193000
DTEND;TZID=Europe/Madrid:20241004T193000
DTSTAMP:20260426T031628
CREATED:20241004T132809Z
LAST-MODIFIED:20241004T132809Z
UID:60143-1728070200-1728070200@a-desk.org
SUMMARY:Debat “La premsa és lliure\, no hi ha manipulació” Albano Dante Fachín\, Vicent Partal\,  Pep Antoni Roig / Cicle Repensem-nos
DESCRIPTION:
URL:https://a-desk.org/ca/agenda/debat-la-premsa-es-lliure-no-hi-ha-manipulacio-albano-dante-fachin-vicent-partal-pep-antoni-roig-cicle-repensem-nos/
LOCATION:Fòrum Berger Balaguer\, Rambla de Nostra Senyora\, 6\, 08720 Vilafranca del Penedès\, Barcelona
CATEGORIES:Debat
END:VEVENT
BEGIN:VEVENT
DTSTART;TZID=Europe/Madrid:20241004T200000
DTEND;TZID=Europe/Madrid:20241004T200000
DTSTAMP:20260426T031628
CREATED:20241001T070755Z
LAST-MODIFIED:20241001T070755Z
UID:59918-1728072000-1728072000@a-desk.org
SUMMARY:"La Bruixa i don Cristóbal" / Literatura en trànsit
DESCRIPTION:
URL:https://a-desk.org/ca/agenda/la-bruixa-i-don-cristobal-literatura-en-transit/
LOCATION:Plaça de Santes Creus\, Carrer de Santes Creus\, 13\, Horta-Guinardó\, 08031 Barcelona
CATEGORIES:Presentació de llibre
END:VEVENT
BEGIN:VEVENT
DTSTART;TZID=Europe/Madrid:20241004T200000
DTEND;TZID=Europe/Madrid:20241004T200000
DTSTAMP:20260426T031628
CREATED:20241001T093124Z
LAST-MODIFIED:20241001T093124Z
UID:59999-1728072000-1728072000@a-desk.org
SUMMARY:"Rose" Carme Sansa
DESCRIPTION:
URL:https://a-desk.org/ca/agenda/rose-carme-sansa/
LOCATION:La Villarroel\, C. de Villarroel\, 87\, Barcelona\, Barcelona\, 08011\, España
CATEGORIES:Teatre
END:VEVENT
BEGIN:VEVENT
DTSTART;TZID=Europe/Madrid:20241004T200000
DTEND;TZID=Europe/Madrid:20241004T200000
DTSTAMP:20260426T031628
CREATED:20241001T093408Z
LAST-MODIFIED:20241001T093408Z
UID:60004-1728072000-1728072000@a-desk.org
SUMMARY:“Portes obertes 2024”
DESCRIPTION:
URL:https://a-desk.org/ca/agenda/portes-obertes-2024/
LOCATION:La Visiva\, C/ de Sepúlveda\, 85\, L'Eixample\, 08015 Barcelona
CATEGORIES:Portes obertes
END:VEVENT
BEGIN:VEVENT
DTSTART;TZID=Europe/Madrid:20241004T200000
DTEND;TZID=Europe/Madrid:20241004T210000
DTSTAMP:20260426T031628
CREATED:20241001T093753Z
LAST-MODIFIED:20241001T093753Z
UID:60010-1728072000-1728075600@a-desk.org
SUMMARY:Concierto BYRON CUBAN RAVE – Ray Cuza Quintet
DESCRIPTION:
URL:https://a-desk.org/ca/agenda/concierto-byron-cuban-rave-ray-cuza-quintet/
LOCATION:Llibreria Byron\, C/ Casanova\, 32\, 08011 Barcelona mapa\, Barcelona\, Barcelona\, 08011\, Spain
CATEGORIES:Concert
END:VEVENT
BEGIN:VEVENT
DTSTART;TZID=Europe/Madrid:20241004T210000
DTEND;TZID=Europe/Madrid:20241004T220000
DTSTAMP:20260426T031628
CREATED:20241002T074006Z
LAST-MODIFIED:20241002T074006Z
UID:60115-1728075600-1728079200@a-desk.org
SUMMARY:"Toc d'Inici 2024"
DESCRIPTION:
URL:https://a-desk.org/ca/agenda/toc-dinici-2024/
LOCATION:Plaça Comas de Les Corts\, Plaça Comas de Les Corts\, Barcelona\, Barcelona
CATEGORIES:Festa
END:VEVENT
BEGIN:VEVENT
DTSTART;TZID=Europe/Madrid:20241004T213000
DTEND;TZID=Europe/Madrid:20241004T213000
DTSTAMP:20260426T031628
CREATED:20241001T092927Z
LAST-MODIFIED:20241001T092927Z
UID:59997-1728077400-1728077400@a-desk.org
SUMMARY:Sarah Davachi / Music for Airports
DESCRIPTION:
URL:https://a-desk.org/ca/agenda/sarah-davachi-music-for-airports/
LOCATION:Casa Montjuïc\, Carrer de Vila i Vilà\, 65\, Sants-Montjuïc\, 08004 Barcelona
CATEGORIES:Música
END:VEVENT
END:VCALENDAR