BEGIN:VCALENDAR
VERSION:2.0
PRODID:-//A*Desk - ECPv6.8.1//NONSGML v1.0//EN
CALSCALE:GREGORIAN
METHOD:PUBLISH
X-WR-CALNAME:A*Desk
X-ORIGINAL-URL:https://a-desk.org/en/
X-WR-CALDESC:Events for A*Desk
REFRESH-INTERVAL;VALUE=DURATION:PT1H
X-Robots-Tag:noindex
X-PUBLISHED-TTL:PT1H
BEGIN:VTIMEZONE
TZID:Europe/Madrid
BEGIN:DAYLIGHT
TZOFFSETFROM:+0100
TZOFFSETTO:+0200
TZNAME:CEST
DTSTART:20230326T010000
END:DAYLIGHT
BEGIN:STANDARD
TZOFFSETFROM:+0200
TZOFFSETTO:+0100
TZNAME:CET
DTSTART:20231029T010000
END:STANDARD
BEGIN:DAYLIGHT
TZOFFSETFROM:+0100
TZOFFSETTO:+0200
TZNAME:CEST
DTSTART:20240331T010000
END:DAYLIGHT
BEGIN:STANDARD
TZOFFSETFROM:+0200
TZOFFSETTO:+0100
TZNAME:CET
DTSTART:20241027T010000
END:STANDARD
END:VTIMEZONE
BEGIN:VEVENT
DTSTART;TZID=Europe/Madrid:20230928T100000
DTEND;TZID=Europe/Madrid:20240114T200000
DTSTAMP:20260425T164836
CREATED:20231030T202209Z
LAST-MODIFIED:20231030T202209Z
UID:50447-1695895200-1705262400@a-desk.org
SUMMARY:"Arte y Naturaleza. Un siglo de biomorfismo" Centre Pompidou x Caixa Forum
DESCRIPTION:
URL:https://a-desk.org/en/agenda/arte-y-naturaleza-un-siglo-de-biomorfismo-centre-pompidou-x-caixa-forum/
LOCATION:CaixaForum Barcelona\, Av. Francesc Ferrer i Guàrdia\, 6-8\, Barcelona\, Barcelona\, 08038\, España
CATEGORIES:Exposició
END:VEVENT
BEGIN:VEVENT
DTSTART;TZID=Europe/Madrid:20230928T190000
DTEND;TZID=Europe/Madrid:20240128T210000
DTSTAMP:20260425T164836
CREATED:20230926T095920Z
LAST-MODIFIED:20230926T095920Z
UID:49211-1695927600-1706475600@a-desk.org
SUMMARY:"Cinema Paper" Érik Bullot
DESCRIPTION:
URL:https://a-desk.org/en/agenda/cinema-paper-erik-bullot/
LOCATION:Filmoteca\, Plaça de Salvador Seguí\, 1\, 08001 Barcelona mapa\, Barcelona\, Barcelona\, 08001\, Spain
CATEGORIES:Cicle,Exposició,Projecció
END:VEVENT
BEGIN:VEVENT
DTSTART;TZID=Europe/Madrid:20231007T100000
DTEND;TZID=Europe/Madrid:20240125T190000
DTSTAMP:20260425T164836
CREATED:20231003T120220Z
LAST-MODIFIED:20231003T120235Z
UID:49563-1696672800-1706209200@a-desk.org
SUMMARY:"L'ombra sota la parpella. Anatomia del cos excèntric" Pep Admetlla
DESCRIPTION:
URL:https://a-desk.org/en/agenda/lombra-sota-la-parpella-anatomia-del-cos-excentric-pep-admetlla/
LOCATION:Bòlit. Centre d’Art Contemporani Girona\, Rambla de la Llibertat\, 1\, Girona\, Girona\, 17004\, España
CATEGORIES:Exposició
END:VEVENT
BEGIN:VEVENT
DTSTART;TZID=Europe/Madrid:20231010T100000
DTEND;TZID=Europe/Madrid:20240114T200000
DTSTAMP:20260425T164836
CREATED:20231009T135053Z
LAST-MODIFIED:20231009T135053Z
UID:49778-1696932000-1705262400@a-desk.org
SUMMARY:"Òh!pera" Gran Teatre del Liceu x Disseny Hub
DESCRIPTION:
URL:https://a-desk.org/en/agenda/ohpera-gran-teatre-del-liceu-x-disseny-hub/
LOCATION:Disseny Hub\, Pl. de las Glories Catalanes\, 37-38\, 08018 Barcelona mapa\, Barcelona\, Barcelona\, 08018\, Spain
CATEGORIES:Exposició
END:VEVENT
BEGIN:VEVENT
DTSTART;TZID=Europe/Madrid:20231012T190000
DTEND;TZID=Europe/Madrid:20240131T203000
DTSTAMP:20260425T164836
CREATED:20231010T151754Z
LAST-MODIFIED:20240123T104425Z
UID:49808-1697137200-1706733000@a-desk.org
SUMMARY:"Anti-Futurisme Cimarrón" VVAA
DESCRIPTION:
URL:https://a-desk.org/en/agenda/anti-futurisme-cimarron-yuderkys-espinosa-katia-sepulveda-colectivo-ajchowen-colectivo-ayllu-imayna-caceres-yoel-diaz-vasquez-johanne-gomez-terrero-marcela-huitraiqueo-grupo-katanga-nitza-2/
LOCATION:Diversos llocs
CATEGORIES:Exposició
END:VEVENT
BEGIN:VEVENT
DTSTART;TZID=Europe/Madrid:20231013T110000
DTEND;TZID=Europe/Madrid:20240131T203000
DTSTAMP:20260425T164836
CREATED:20231010T152840Z
LAST-MODIFIED:20240123T104549Z
UID:49812-1697194800-1706733000@a-desk.org
SUMMARY:"La possibilitat de no haver sigut. Set interferències decolonials" VVAA
DESCRIPTION:
URL:https://a-desk.org/en/agenda/la-possibilitat-de-no-haver-sigut-set-interferencies-decolonials-alejandra-rocabado-koya-anna-lopez-luna-azkonatoloza-i-rammsy-boris-mercado-camila-opazo-sepulveda-daniel-de-la-barra-danilo-2/
LOCATION:Santa Mònica\, La Rambla\, 7\, 08002 Barcelona mapa\, Barcelona\, Barcelona\, 08002\, Spain
CATEGORIES:Exposició
END:VEVENT
BEGIN:VEVENT
DTSTART;TZID=Europe/Madrid:20231018T110000
DTEND;TZID=Europe/Madrid:20240317T200000
DTSTAMP:20260425T164836
CREATED:20231016T104614Z
LAST-MODIFIED:20240123T121909Z
UID:49953-1697626800-1710705600@a-desk.org
SUMMARY:"IA: Intel·ligència artificial" VV.AA
DESCRIPTION:
URL:https://a-desk.org/en/agenda/ia-intel%c2%b7ligencia-artificial-universal-everything-robert-del-naja-massive-attack-anna-ridler-memo-akten-mario-klingemann-justine-emard-steve-goodman-kode-9-eduard-escoffet-maria-2/
LOCATION:CCCB\, C/ Montalegre\, 5\, 08001 Barcelona mapa\, Barcelona\, Barcelona\, 08001\, Spain
CATEGORIES:Exposició
END:VEVENT
BEGIN:VEVENT
DTSTART;TZID=Europe/Madrid:20231020T100000
DTEND;TZID=Europe/Madrid:20240225T180000
DTSTAMP:20260425T164836
CREATED:20231017T060726Z
LAST-MODIFIED:20231017T060726Z
UID:50059-1697796000-1708884000@a-desk.org
SUMMARY:"Miró-Picasso" Fundació Miró x Museu Picasso
DESCRIPTION:
URL:https://a-desk.org/en/agenda/miro-picasso-fundacio-miro-x-museu-picasso/
LOCATION:Diversos llocs
CATEGORIES:Exposició
END:VEVENT
BEGIN:VEVENT
DTSTART;TZID=Europe/Madrid:20231025T100000
DTEND;TZID=Europe/Madrid:20240211T200000
DTSTAMP:20260425T164836
CREATED:20231030T202353Z
LAST-MODIFIED:20231030T202353Z
UID:50449-1698228000-1707681600@a-desk.org
SUMMARY:"El árbol de lo que aún no sabes" Caterina Almirall
DESCRIPTION:
URL:https://a-desk.org/en/agenda/el-arbol-de-lo-que-aun-no-sabes-caterina-almirall/
LOCATION:CaixaForum Barcelona\, Av. Francesc Ferrer i Guàrdia\, 6-8\, Barcelona\, Barcelona\, 08038\, España
CATEGORIES:Exposició
END:VEVENT
BEGIN:VEVENT
DTSTART;TZID=Europe/Madrid:20231027T100000
DTEND;TZID=Europe/Madrid:20240211T180000
DTSTAMP:20260425T164836
CREATED:20231030T195622Z
LAST-MODIFIED:20231030T195622Z
UID:50427-1698400800-1707674400@a-desk.org
SUMMARY:"¿Qué humanidad? La figura humana después de la guerra" Àlex Mitrani
DESCRIPTION:
URL:https://a-desk.org/en/agenda/que-humanidad-la-figura-humana-despues-de-la-guerra-alex-mitrani/
LOCATION:MNAC\, Palau Nacional\, Parc de Montjuïc\, s/n\, 08038 Barcelona mapa\, Barcelona\, Barcelona\, 08038\, Spain
CATEGORIES:Exposició
END:VEVENT
BEGIN:VEVENT
DTSTART;TZID=Europe/Madrid:20231028T100000
DTEND;TZID=Europe/Madrid:20240128T190000
DTSTAMP:20260425T164836
CREATED:20231030T200946Z
LAST-MODIFIED:20231030T201020Z
UID:50434-1698487200-1706468400@a-desk.org
SUMMARY:"Ecologies Queer. Aberracions naturalment subversives" Christian Alonso
DESCRIPTION:
URL:https://a-desk.org/en/agenda/ecologies-queer-aberracions-naturalment-subversives-christian-alonso/
LOCATION:Centre d’Art la Panera\, Plaça Panera\, 2\, 25002 Lleida mapa\, Lleida\, Lleida\, 25002\, Spain
CATEGORIES:Exposició
END:VEVENT
BEGIN:VEVENT
DTSTART;TZID=Europe/Madrid:20231028T100000
DTEND;TZID=Europe/Madrid:20240128T190000
DTSTAMP:20260425T164836
CREATED:20231030T201204Z
LAST-MODIFIED:20231030T201204Z
UID:50437-1698487200-1706468400@a-desk.org
SUMMARY:"Mis familias 1988-2024" Abel Azcona
DESCRIPTION:
URL:https://a-desk.org/en/agenda/mis-familias-1988-2024-abel-azcona/
LOCATION:Centre d’Art la Panera\, Plaça Panera\, 2\, 25002 Lleida mapa\, Lleida\, Lleida\, 25002\, Spain
CATEGORIES:Exposició
END:VEVENT
BEGIN:VEVENT
DTSTART;TZID=Europe/Madrid:20231028T100000
DTEND;TZID=Europe/Madrid:20240128T190000
DTSTAMP:20260425T164836
CREATED:20231030T201315Z
LAST-MODIFIED:20231030T201329Z
UID:50439-1698487200-1706468400@a-desk.org
SUMMARY:"Joon" Petjades Plàstiques
DESCRIPTION:
URL:https://a-desk.org/en/agenda/joon-petjades-plastiques/
LOCATION:Centre d’Art la Panera\, Plaça Panera\, 2\, 25002 Lleida mapa\, Lleida\, Lleida\, 25002\, Spain
CATEGORIES:Exposició
END:VEVENT
BEGIN:VEVENT
DTSTART;TZID=Europe/Madrid:20231028T100000
DTEND;TZID=Europe/Madrid:20240128T190000
DTSTAMP:20260425T164836
CREATED:20231030T201515Z
LAST-MODIFIED:20231030T201515Z
UID:50441-1698487200-1706468400@a-desk.org
SUMMARY:"Oh! Un retrat d'Elisa Munsó" Helena Ayuso
DESCRIPTION:
URL:https://a-desk.org/en/agenda/oh-un-retrat-delisa-munso-helena-ayuso/
LOCATION:Centre d’Art la Panera\, Plaça Panera\, 2\, 25002 Lleida mapa\, Lleida\, Lleida\, 25002\, Spain
CATEGORIES:Exposició
END:VEVENT
BEGIN:VEVENT
DTSTART;TZID=Europe/Madrid:20231101T110000
DTEND;TZID=Europe/Madrid:20240317T200000
DTSTAMP:20260425T164836
CREATED:20240123T115000Z
LAST-MODIFIED:20240123T115000Z
UID:53224-1698836400-1710705600@a-desk.org
SUMMARY:"IActualitza’m!" Núria Nia
DESCRIPTION:
URL:https://a-desk.org/en/agenda/iactualitzam-nuria-nia/
LOCATION:CCCB\, C/ Montalegre\, 5\, 08001 Barcelona mapa\, Barcelona\, Barcelona\, 08001\, Spain
CATEGORIES:Activitat,Exposició,Workshop
END:VEVENT
BEGIN:VEVENT
DTSTART;TZID=Europe/Madrid:20231103T100000
DTEND;TZID=Europe/Madrid:20240121T190000
DTSTAMP:20260425T164836
CREATED:20240105T182757Z
LAST-MODIFIED:20240105T182757Z
UID:52573-1699005600-1705863600@a-desk.org
SUMMARY:"Death of A" Kandis Williams
DESCRIPTION:
URL:https://a-desk.org/en/agenda/death-of-a-kandis-williams/
LOCATION:Fundación Joan Miró\, Parc de Montjuïc\, s/n\, 08038 Barcelona mapa\, Barcelona\, Barcelona\, 08038\, Spain
CATEGORIES:Instal·lació,Projecció,Videoart
END:VEVENT
BEGIN:VEVENT
DTSTART;TZID=Europe/Madrid:20231109T193000
DTEND;TZID=Europe/Madrid:20240204T190000
DTSTAMP:20260425T164836
CREATED:20231120T102530Z
LAST-MODIFIED:20231120T102530Z
UID:51239-1699558200-1707073200@a-desk.org
SUMMARY:Llums Comuns. "L’art i l’espai públic com a bé comú" Santa Mònica i La Traginera\, Comunalitat de Ciutat Vella
DESCRIPTION:
URL:https://a-desk.org/en/agenda/llums-comuns-lart-i-lespai-public-com-a-be-comu-santa-monica-i-la-traginera-comunalitat-de-ciutat-vella/
LOCATION:Santa Mònica\, La Rambla\, 7\, 08002 Barcelona mapa\, Barcelona\, Barcelona\, 08002\, Spain
CATEGORIES:Cicle,Debat,Projecte,Taula rodona,Trobada
END:VEVENT
BEGIN:VEVENT
DTSTART;TZID=Europe/Madrid:20231116T110000
DTEND;TZID=Europe/Madrid:20240520T193000
DTSTAMP:20260425T164836
CREATED:20231110T120937Z
LAST-MODIFIED:20231115T074451Z
UID:50792-1700132400-1716233400@a-desk.org
SUMMARY:"Una hoja en lugar del ojo" Daniel Steegmann Mangrané
DESCRIPTION:
URL:https://a-desk.org/en/agenda/una-hoja-en-lugar-del-ojo-daniel-steegmann-mangrane/
LOCATION:MACBA\, Plaça dels Àngels\, 1\, 08001 Barcelona mapa\, Barcelona\, Barcelona\, 08001\, Spain
CATEGORIES:Exposició
END:VEVENT
BEGIN:VEVENT
DTSTART;TZID=Europe/Madrid:20231117T100000
DTEND;TZID=Europe/Madrid:20240114T190000
DTSTAMP:20260425T164836
CREATED:20231110T192244Z
LAST-MODIFIED:20231110T192244Z
UID:50862-1700215200-1705258800@a-desk.org
SUMMARY:«Zoo Hypothesis» Che-Yu Hsu
DESCRIPTION:
URL:https://a-desk.org/en/agenda/zoo-hypothesis-che-yu-hsu-2/
LOCATION:Fundación Joan Miró\, Parc de Montjuïc\, s/n\, 08038 Barcelona mapa\, Barcelona\, Barcelona\, 08038\, Spain
CATEGORIES:Exposició
END:VEVENT
BEGIN:VEVENT
DTSTART;TZID=Europe/Madrid:20231117T110000
DTEND;TZID=Europe/Madrid:20240116T190000
DTSTAMP:20260425T164836
CREATED:20231115T075241Z
LAST-MODIFIED:20231115T121419Z
UID:51027-1700218800-1705431600@a-desk.org
SUMMARY:"Pell de serp. Carn que (des)fa imatge" Claudio Zulian
DESCRIPTION:
URL:https://a-desk.org/en/agenda/pell-de-serp-carn-que-desfa-imatge-claudio-zulian-2/
LOCATION:Estrany-de la Mota Art Advisors\, Ptge. de Mercader\, 18\, Barcelona\, Barcelona\, 08008\, España
CATEGORIES:Exposició
END:VEVENT
BEGIN:VEVENT
DTSTART;TZID=Europe/Madrid:20231117T190000
DTEND;TZID=Europe/Madrid:20240202T200000
DTSTAMP:20260425T164836
CREATED:20231114T220754Z
LAST-MODIFIED:20231114T220754Z
UID:51011-1700247600-1706904000@a-desk.org
SUMMARY:"AFINITATS" Centre Superior de la Fundació Conservatori Liceu
DESCRIPTION:
URL:https://a-desk.org/en/agenda/afinitats-centre-superior-de-la-fundacio-conservatori-liceu/
LOCATION:Sala Parés\, C/ Petritxol\, 5\, 08002 Barcelona mapa\, Barcelona\, Barcelona\, 08002\, Spain
CATEGORIES:Cicle,Concert,Música
END:VEVENT
BEGIN:VEVENT
DTSTART;TZID=Europe/Madrid:20231118T110000
DTEND;TZID=Europe/Madrid:20240404T200000
DTSTAMP:20260425T164836
CREATED:20231114T221031Z
LAST-MODIFIED:20231114T221031Z
UID:51015-1700305200-1712260800@a-desk.org
SUMMARY:"ENCARAR LA IMATGE" Chantal Akerman
DESCRIPTION:
URL:https://a-desk.org/en/agenda/encarar-la-imatge-chantal-akerman-2/
LOCATION:La Virreina\, La Rambla\, 99\, 08002 Barcelona mapa\, Barcelona\, Barcelona\, 08002\, Spain
CATEGORIES:Exposició
END:VEVENT
BEGIN:VEVENT
DTSTART;TZID=Europe/Madrid:20231118T110000
DTEND;TZID=Europe/Madrid:20240414T200000
DTSTAMP:20260425T164836
CREATED:20231114T221324Z
LAST-MODIFIED:20231114T221324Z
UID:51019-1700305200-1713124800@a-desk.org
SUMMARY:"ELOGI DE L'ASIL" Fernand Deligny
DESCRIPTION:
URL:https://a-desk.org/en/agenda/elogi-de-lasil-fernand-deligny-2/
LOCATION:La Virreina\, La Rambla\, 99\, 08002 Barcelona mapa\, Barcelona\, Barcelona\, 08002\, Spain
CATEGORIES:Exposició
END:VEVENT
BEGIN:VEVENT
DTSTART;TZID=Europe/Madrid:20231119T090000
DTEND;TZID=Europe/Madrid:20240225T220000
DTSTAMP:20260425T164836
CREATED:20231114T214153Z
LAST-MODIFIED:20231114T214153Z
UID:50989-1700384400-1708898400@a-desk.org
SUMMARY:"Cable City Dance Cable City Sea" Rossella Biscotti
DESCRIPTION:
URL:https://a-desk.org/en/agenda/cable-city-dance-cable-city-sea-rossella-biscotti-2/
LOCATION:Fabra i Coats\, C/ Sant Adrià\, 20\, 08030 Barcelona mapa\, Barcelona\, Barcelona\, 08030\, Spain
CATEGORIES:Exposició
END:VEVENT
BEGIN:VEVENT
DTSTART;TZID=Europe/Madrid:20231119T103000
DTEND;TZID=Europe/Madrid:20240117T190000
DTSTAMP:20260425T164836
CREATED:20231114T191828Z
LAST-MODIFIED:20231114T191828Z
UID:50953-1700389800-1705518000@a-desk.org
SUMMARY:"Early Photographs and films from the 60's" Phill Niblock
DESCRIPTION:
URL:https://a-desk.org/en/agenda/early-photographs-and-films-from-the-60s-phill-niblock-2/
LOCATION:àngels barcelona\, C/ Pintor Fortuny\, 27\, Barcelona\, Barcelona\, 08001\, España
CATEGORIES:Exposició
END:VEVENT
BEGIN:VEVENT
DTSTART;TZID=Europe/Madrid:20231119T120000
DTEND;TZID=Europe/Madrid:20240519T130000
DTSTAMP:20260425T164836
CREATED:20231124T143719Z
LAST-MODIFIED:20231124T144006Z
UID:51578-1700395200-1716123600@a-desk.org
SUMMARY:"Una fulla al lloc de l’ull" Daniel Steegmann Mangrané amb Albert Gironès\, Eva Paià i Marina Ribot Pallicer
DESCRIPTION:
URL:https://a-desk.org/en/agenda/una-hoja-en-lugar-del-ojo-daniel-steegmann-mangrane-amb-albert-girones-eva-paia-i-marina-ribot-pallicer/
LOCATION:MACBA\, Plaça dels Àngels\, 1\, 08001 Barcelona mapa\, Barcelona\, Barcelona\, 08001\, Spain
CATEGORIES:Exposició,Guided tour
END:VEVENT
BEGIN:VEVENT
DTSTART;TZID=Europe/Madrid:20231124T100000
DTEND;TZID=Europe/Madrid:20240114T200000
DTSTAMP:20260425T164836
CREATED:20231120T112520Z
LAST-MODIFIED:20231120T112520Z
UID:51296-1700820000-1705262400@a-desk.org
SUMMARY:"Futurs pastorals. Les migracions de la llana" Claudy Jongstra\, Martina Manyà i Ana Vivero amb Materfad i Eina Obra
DESCRIPTION:
URL:https://a-desk.org/en/agenda/futurs-pastorals-les-migracions-de-la-llana-claudy-jongstra-martina-manya-i-ana-vivero-amb-materfad-i-eina-obra/
LOCATION:Disseny Hub\, Pl. de las Glories Catalanes\, 37-38\, 08018 Barcelona mapa\, Barcelona\, Barcelona\, 08018\, Spain
CATEGORIES:Exposició,Instal·lació
END:VEVENT
BEGIN:VEVENT
DTSTART;TZID=Europe/Madrid:20231124T100000
DTEND;TZID=Europe/Madrid:20240317T200000
DTSTAMP:20260425T164836
CREATED:20240116T121441Z
LAST-MODIFIED:20240116T121441Z
UID:52972-1700820000-1710705600@a-desk.org
SUMMARY:"Top Secret. Cine y Espionaje" La Cinémathèque française y la Fundación "la Caixa"
DESCRIPTION:
URL:https://a-desk.org/en/agenda/top-secret-cine-y-espionaje-la-cinematheque-francaise-y-la-fundacion-la-caixa/
LOCATION:CaixaForum Barcelona\, Av. Francesc Ferrer i Guàrdia\, 6-8\, Barcelona\, Barcelona\, 08038\, España
CATEGORIES:Exposició
END:VEVENT
BEGIN:VEVENT
DTSTART;TZID=Europe/Madrid:20231125T100000
DTEND;TZID=Europe/Madrid:20240526T200000
DTSTAMP:20260425T164836
CREATED:20231125T122640Z
LAST-MODIFIED:20231125T122640Z
UID:51633-1700906400-1716753600@a-desk.org
SUMMARY:"La maldat benvinguda" Francesc Torres
DESCRIPTION:
URL:https://a-desk.org/en/agenda/la-maldat-benvinguda-francesc-torres/
LOCATION:El Born CCM\, Plaça Comercial\, 12\, 08003 Barcelona mapa\, Barcelona\, Barcelona\, 08003\, Spain
CATEGORIES:Instal·lació,Projecte
END:VEVENT
BEGIN:VEVENT
DTSTART;TZID=Europe/Madrid:20231127T120000
DTEND;TZID=Europe/Madrid:20240202T180000
DTSTAMP:20260425T164836
CREATED:20231124T145050Z
LAST-MODIFIED:20231124T145050Z
UID:51590-1701086400-1706896800@a-desk.org
SUMMARY:"Ya no baila la luz en mi sonrisa  Capítulo III: Communio" Natalia Domínguez\, Paula García-Masedo\, Sofía Montenegro\, Lucía C. Pino y Àngels Ribé
DESCRIPTION:
URL:https://a-desk.org/en/agenda/ya-no-baila-la-luz-en-mi-sonrisa-capitulo-iii-communio-natalia-dominguez-paula-garcia-masedo-sofia-montenegro-lucia-c-pino-y-angels-ribe-2/
LOCATION:Ana Mas Projects\, Isaac Peral 7\, Hospitalet de Llobregat\, Barcelona\, 08902\, España
CATEGORIES:Exposició
END:VEVENT
END:VCALENDAR