BEGIN:VCALENDAR
VERSION:2.0
PRODID:-//A*Desk - ECPv6.8.1//NONSGML v1.0//EN
CALSCALE:GREGORIAN
METHOD:PUBLISH
X-WR-CALNAME:A*Desk
X-ORIGINAL-URL:https://a-desk.org/en/
X-WR-CALDESC:Events for A*Desk
REFRESH-INTERVAL;VALUE=DURATION:PT1H
X-Robots-Tag:noindex
X-PUBLISHED-TTL:PT1H
BEGIN:VTIMEZONE
TZID:Europe/Madrid
BEGIN:DAYLIGHT
TZOFFSETFROM:+0100
TZOFFSETTO:+0200
TZNAME:CEST
DTSTART:20230326T010000
END:DAYLIGHT
BEGIN:STANDARD
TZOFFSETFROM:+0200
TZOFFSETTO:+0100
TZNAME:CET
DTSTART:20231029T010000
END:STANDARD
BEGIN:DAYLIGHT
TZOFFSETFROM:+0100
TZOFFSETTO:+0200
TZNAME:CEST
DTSTART:20240331T010000
END:DAYLIGHT
BEGIN:STANDARD
TZOFFSETFROM:+0200
TZOFFSETTO:+0100
TZNAME:CET
DTSTART:20241027T010000
END:STANDARD
BEGIN:DAYLIGHT
TZOFFSETFROM:+0100
TZOFFSETTO:+0200
TZNAME:CEST
DTSTART:20250330T010000
END:DAYLIGHT
BEGIN:STANDARD
TZOFFSETFROM:+0200
TZOFFSETTO:+0100
TZNAME:CET
DTSTART:20251026T010000
END:STANDARD
END:VTIMEZONE
BEGIN:VEVENT
DTSTART;TZID=Europe/Madrid:20231125T100000
DTEND;TZID=Europe/Madrid:20240526T200000
DTSTAMP:20260422T075239
CREATED:20231125T122640Z
LAST-MODIFIED:20231125T122640Z
UID:51633-1700906400-1716753600@a-desk.org
SUMMARY:"La maldat benvinguda" Francesc Torres
DESCRIPTION:
URL:https://a-desk.org/en/agenda/la-maldat-benvinguda-francesc-torres/
LOCATION:El Born CCM\, Plaça Comercial\, 12\, 08003 Barcelona mapa\, Barcelona\, Barcelona\, 08003\, Spain
CATEGORIES:Instal·lació,Projecte
END:VEVENT
BEGIN:VEVENT
DTSTART;TZID=Europe/Madrid:20240118T110000
DTEND;TZID=Europe/Madrid:20240602T200000
DTSTAMP:20260422T075239
CREATED:20240109T183526Z
LAST-MODIFIED:20240109T183526Z
UID:52798-1705575600-1717358400@a-desk.org
SUMMARY:"El curso de los acontecimientos. Un atlas de la colección Foto Colectania" Carles Guerra
DESCRIPTION:
URL:https://a-desk.org/en/agenda/el-curso-de-los-acontecimientos-un-atlas-de-la-coleccion-foto-colectania-carles-guerra-2/
LOCATION:Fundació Foto Colectania\, Passeig de Picasso\, 14\, 08003 Barcelona mapa\, Barcelona\, Barcelona\, 08003\, Spain
CATEGORIES:Exposició
END:VEVENT
BEGIN:VEVENT
DTSTART;TZID=Europe/Madrid:20240202T110000
DTEND;TZID=Europe/Madrid:20240714T140000
DTSTAMP:20260422T075239
CREATED:20240126T103144Z
LAST-MODIFIED:20240126T103144Z
UID:53401-1706871600-1720965600@a-desk.org
SUMMARY:"Anònims" Susana Solano
DESCRIPTION:
URL:https://a-desk.org/en/agenda/anonims-susana-solano-2/
LOCATION:Fundació Vila Casas. Espais Volart\, C/ Ausiàs Marc\, 22\, 08010 Barcelona mapa\, Barcelona\, Barcelona\, 08010\, Spain
CATEGORIES:Exposició
END:VEVENT
BEGIN:VEVENT
DTSTART;TZID=Europe/Madrid:20240202T110000
DTEND;TZID=Europe/Madrid:20240714T140000
DTSTAMP:20260422T075239
CREATED:20240201T093228Z
LAST-MODIFIED:20240201T093228Z
UID:53693-1706871600-1720965600@a-desk.org
SUMMARY:"Anònims" Susana Solano
DESCRIPTION:
URL:https://a-desk.org/en/agenda/anonims-susana-solano-4/
LOCATION:Fundació Vila Casas. Espais Volart\, C/ Ausiàs Marc\, 22\, 08010 Barcelona mapa\, Barcelona\, Barcelona\, 08010\, Spain
CATEGORIES:Exposició
END:VEVENT
BEGIN:VEVENT
DTSTART;TZID=Europe/Madrid:20240202T190000
DTEND;TZID=Europe/Madrid:20240531T200000
DTSTAMP:20260422T075239
CREATED:20240128T115401Z
LAST-MODIFIED:20240128T115401Z
UID:53486-1706900400-1717185600@a-desk.org
SUMMARY:Sons d’educació al Born
DESCRIPTION:
URL:https://a-desk.org/en/agenda/sons-deducacio-al-born/
LOCATION:Diversos llocs
CATEGORIES:Cicle,Concert,Música
END:VEVENT
BEGIN:VEVENT
DTSTART;TZID=Europe/Madrid:20240207T163000
DTEND;TZID=Europe/Madrid:20240529T183000
DTSTAMP:20260422T075239
CREATED:20240125T154058Z
LAST-MODIFIED:20240125T154058Z
UID:53392-1707323400-1717007400@a-desk.org
SUMMARY:"si una conversación es difícil\, probablemente merece la pena tenerla" Belén Soto
DESCRIPTION:
URL:https://a-desk.org/en/agenda/si-una-conversacion-es-dificil-probablemente-merece-la-pena-tenerla-belen-soto/
LOCATION:La Escocesa\, C/ Pere IV\, 345\, 08020 Barcelona mapa\, Barcelona\, Barcelona\, 08020\, Spain
CATEGORIES:Cicle,Col·loqui,Lectura,Workshop,Trobada
END:VEVENT
BEGIN:VEVENT
DTSTART;TZID=Europe/Madrid:20240210T110000
DTEND;TZID=Europe/Madrid:20250301T193000
DTSTAMP:20260422T075239
CREATED:20240123T113352Z
LAST-MODIFIED:20240123T113352Z
UID:53216-1707562800-1740857400@a-desk.org
SUMMARY:"[contra]panorama" VV.AA
DESCRIPTION:
URL:https://a-desk.org/en/agenda/contrapanorama-vv-aa/
LOCATION:MACBA\, Plaça dels Àngels\, 1\, 08001 Barcelona mapa\, Barcelona\, Barcelona\, 08001\, Spain
CATEGORIES:Activitat,Cicle,Diàleg,Exposició,Mostra,Recerca
END:VEVENT
BEGIN:VEVENT
DTSTART;TZID=Europe/Madrid:20240211T110000
DTEND;TZID=Europe/Madrid:20240608T140000
DTSTAMP:20260422T075239
CREATED:20240206T094844Z
LAST-MODIFIED:20240206T094844Z
UID:53833-1707649200-1717855200@a-desk.org
SUMMARY:"El joc de l’equívoc" Joan Pla
DESCRIPTION:
URL:https://a-desk.org/en/agenda/el-joc-de-lequivoc-joan-pla-2/
LOCATION:Fundació Vila Casas. Palau Solterra\, Carrer de l'Església\, 10\, Torroella de Montgrí\, Girona\, 17257\, España
CATEGORIES:Exposició
END:VEVENT
BEGIN:VEVENT
DTSTART;TZID=Europe/Madrid:20240220T110000
DTEND;TZID=Europe/Madrid:20240526T140000
DTSTAMP:20260422T075239
CREATED:20240213T114610Z
LAST-MODIFIED:20240213T114610Z
UID:54178-1708426800-1716732000@a-desk.org
SUMMARY:"Papers d'ombra" Pep Duran Esteva
DESCRIPTION:
URL:https://a-desk.org/en/agenda/papers-dombra-pep-duran-esteva-2/
LOCATION:Fundació Vila Casas. Can Framis\, C/ Roc Boronat\, 116\, 126\, 08018 Barcelona mapa\, Barcelona\, Barcelona\, 08018\, Spain
CATEGORIES:Exposició
END:VEVENT
BEGIN:VEVENT
DTSTART;TZID=Europe/Madrid:20240229T110000
DTEND;TZID=Europe/Madrid:20240526T080000
DTSTAMP:20260422T075239
CREATED:20240301T084117Z
LAST-MODIFIED:20240301T084117Z
UID:54637-1709204400-1716710400@a-desk.org
SUMMARY:Visual origen. Film l vídeo l informació
DESCRIPTION:
URL:https://a-desk.org/en/agenda/visual-origen-film-l-video-l-informacio/
LOCATION:MACBA\, Plaça dels Àngels\, 1\, 08001 Barcelona mapa\, Barcelona\, Barcelona\, 08001\, Spain
CATEGORIES:Exposició
END:VEVENT
BEGIN:VEVENT
DTSTART;TZID=Europe/Madrid:20240229T110000
DTEND;TZID=Europe/Madrid:20240526T150000
DTSTAMP:20260422T075239
CREATED:20240123T114513Z
LAST-MODIFIED:20240123T114513Z
UID:53220-1709204400-1716735600@a-desk.org
SUMMARY:"Visual origen. Film l vídeo l información" VV.AA
DESCRIPTION:
URL:https://a-desk.org/en/agenda/visual-origen-film-l-video-l-informacion-vv-aa/
LOCATION:MACBA\, Plaça dels Àngels\, 1\, 08001 Barcelona mapa\, Barcelona\, Barcelona\, 08001\, Spain
CATEGORIES:Cinema,Exposició
END:VEVENT
BEGIN:VEVENT
DTSTART;TZID=Europe/Madrid:20240301T110000
DTEND;TZID=Europe/Madrid:20240602T203000
DTSTAMP:20260422T075239
CREATED:20240209T104959Z
LAST-MODIFIED:20240209T104959Z
UID:54042-1709290800-1717360200@a-desk.org
SUMMARY:"L’altre costat" VV.AA
DESCRIPTION:
URL:https://a-desk.org/en/agenda/laltre-costat-vv-aa-2/
LOCATION:Santa Mònica\, La Rambla\, 7\, 08002 Barcelona mapa\, Barcelona\, Barcelona\, 08002\, Spain
CATEGORIES:Exposició
END:VEVENT
BEGIN:VEVENT
DTSTART;VALUE=DATE:20240523
DTEND;VALUE=DATE:20240524
DTSTAMP:20260422T075239
CREATED:20240518T162135Z
LAST-MODIFIED:20240518T162135Z
UID:56328-1716422400-1716508799@a-desk.org
SUMMARY:Primavera Fotogràfica 2024
DESCRIPTION:
URL:https://a-desk.org/en/agenda/primavera-fotografica-2024-11/
LOCATION:MNAC\, Palau Nacional\, Parc de Montjuïc\, s/n\, 08038 Barcelona mapa\, Barcelona\, Barcelona\, 08038\, Spain
CATEGORIES:Festival,Fotografia
END:VEVENT
BEGIN:VEVENT
DTSTART;VALUE=DATE:20240523
DTEND;VALUE=DATE:20240524
DTSTAMP:20260422T075239
CREATED:20240518T162957Z
LAST-MODIFIED:20240518T162957Z
UID:56343-1716422400-1716508799@a-desk.org
SUMMARY:Setmanes d’arquitectura 2024
DESCRIPTION:
URL:https://a-desk.org/en/agenda/setmanes-darquitectura-2024-10/
LOCATION:Barcelona
END:VEVENT
BEGIN:VEVENT
DTSTART;TZID=Europe/Madrid:20240523T090000
DTEND;TZID=Europe/Madrid:20240523T210000
DTSTAMP:20260422T075239
CREATED:20240518T164358Z
LAST-MODIFIED:20240518T164358Z
UID:56364-1716454800-1716498000@a-desk.org
SUMMARY:“Ex-Designer Project Bar” Martí Guixé
DESCRIPTION:
URL:https://a-desk.org/en/agenda/ex-designer-project-bar-marti-guixe/
LOCATION:Disseny Hub\, Pl. de las Glories Catalanes\, 37-38\, 08018 Barcelona mapa\, Barcelona\, Barcelona\, 08018\, Spain
CATEGORIES:Exposició
END:VEVENT
BEGIN:VEVENT
DTSTART;TZID=Europe/Madrid:20240523T160000
DTEND;TZID=Europe/Madrid:20240523T190000
DTSTAMP:20260422T075239
CREATED:20240109T101756Z
LAST-MODIFIED:20240109T101756Z
UID:52685-1716480000-1716490800@a-desk.org
SUMMARY:"Escola d'Elefants dins l'habitació (2a edició)" Jara Rocha
DESCRIPTION:
URL:https://a-desk.org/en/agenda/escola-delefants-dins-lhabitacio-2a-edicio-jara-rocha-4/
LOCATION:La Capella\, C/ Hospital\, 56\, Barcelona\, Barcelona\, 08001
CATEGORIES:Cicle,Conversa,Projecte,Recerca,Trobada
END:VEVENT
BEGIN:VEVENT
DTSTART;TZID=Europe/Madrid:20240523T180000
DTEND;TZID=Europe/Madrid:20240523T180000
DTSTAMP:20260422T075239
CREATED:20240518T164157Z
LAST-MODIFIED:20240518T164157Z
UID:56362-1716487200-1716487200@a-desk.org
SUMMARY:“Provisori” Pep Duran Esteva
DESCRIPTION:
URL:https://a-desk.org/en/agenda/provisori-pep-duran-esteva/
LOCATION:Pompeu Fabra\, C/ Ramon Trias Fargas\, 25-27. Barcelona
CATEGORIES:Inauguració/Exposició
END:VEVENT
BEGIN:VEVENT
DTSTART;TZID=Europe/Madrid:20240523T180000
DTEND;TZID=Europe/Madrid:20240523T180000
DTSTAMP:20260422T075239
CREATED:20240521T180753Z
LAST-MODIFIED:20240521T180753Z
UID:56434-1716487200-1716487200@a-desk.org
SUMMARY:“La barcassa\, un lloc per a tothom”
DESCRIPTION:
URL:https://a-desk.org/en/agenda/la-barcassa-un-lloc-per-a-tothom/
LOCATION:La Capella\, C/ Hospital\, 56\, Barcelona\, Barcelona\, 08001
CATEGORIES:Presentació
END:VEVENT
BEGIN:VEVENT
DTSTART;TZID=Europe/Madrid:20240523T190000
DTEND;TZID=Europe/Madrid:20240523T190000
DTSTAMP:20260422T075239
CREATED:20240518T164445Z
LAST-MODIFIED:20240518T164445Z
UID:56366-1716490800-1716490800@a-desk.org
SUMMARY:“Cuentos possibles” Jeff Wall
DESCRIPTION:
URL:https://a-desk.org/en/agenda/cuentos-possibles-jeff-wall/
LOCATION:La Virreina\, La Rambla\, 99\, 08002 Barcelona mapa\, Barcelona\, Barcelona\, 08002\, Spain
CATEGORIES:Inauguració/Exposició
END:VEVENT
BEGIN:VEVENT
DTSTART;TZID=Europe/Madrid:20240523T190000
DTEND;TZID=Europe/Madrid:20240523T190000
DTSTAMP:20260422T075239
CREATED:20240520T141157Z
LAST-MODIFIED:20240520T141157Z
UID:56426-1716490800-1716490800@a-desk.org
SUMMARY:"Història no oficial durant la hipotètica Transició. El cas Vídeo-Nou / Servei de Vídeo Comunitari" Daniel Gasol
DESCRIPTION:
URL:https://a-desk.org/en/agenda/historia-no-oficial-durant-la-hipotetica-transicio-el-cas-video-nou-servei-de-video-comunitari-daniel-gasol/
LOCATION:Fundació Lluís Coromina – Espai Isern Dalmau\, C/ de Mallorca\, 305\, Barcelona\, Barcelona\, 08037\, España
CATEGORIES:Presentació de llibre
END:VEVENT
BEGIN:VEVENT
DTSTART;TZID=Europe/Madrid:20240523T190000
DTEND;TZID=Europe/Madrid:20240523T200000
DTSTAMP:20260422T075239
CREATED:20240518T164014Z
LAST-MODIFIED:20240518T164014Z
UID:56360-1716490800-1716494400@a-desk.org
SUMMARY:"Ensenyar a transgredir"
DESCRIPTION:
URL:https://a-desk.org/en/agenda/ensenyar-a-transgredir/
LOCATION:Ona Llibres\, C/ Pau Claris\, 94\, 08010 Barcelona mapa\, Barcelona\, Barcelona\, 08010\, Spain
CATEGORIES:Conversa
END:VEVENT
BEGIN:VEVENT
DTSTART;TZID=Europe/Madrid:20240523T190000
DTEND;TZID=Europe/Madrid:20240523T200000
DTSTAMP:20260422T075239
CREATED:20240518T171336Z
LAST-MODIFIED:20240518T171336Z
UID:56394-1716490800-1716494400@a-desk.org
SUMMARY:Dijous de veu i paraula / Crema l’argelaga\, amb Sònia Moya\, Lu Rois i Santi Careta
DESCRIPTION:
URL:https://a-desk.org/en/agenda/dijous-de-veu-i-paraula-crema-largelaga-amb-sonia-moya-lu-rois-i-santi-careta/
LOCATION:Santa Mònica\, La Rambla\, 7\, 08002 Barcelona mapa\, Barcelona\, Barcelona\, 08002\, Spain
CATEGORIES:Activitat,Concert,Recital
END:VEVENT
BEGIN:VEVENT
DTSTART;TZID=Europe/Madrid:20240523T200000
DTEND;TZID=Europe/Madrid:20240523T200000
DTSTAMP:20260422T075239
CREATED:20240520T140703Z
LAST-MODIFIED:20240520T140703Z
UID:56424-1716494400-1716494400@a-desk.org
SUMMARY:"Violence 24/7" Mahmoud Alhaj
DESCRIPTION:
URL:https://a-desk.org/en/agenda/violence-24-7-mahmoud-alhaj/
LOCATION:Galeria Uxval Gochez\, C/ de Sicília\, 382\, Barcelona mapa\, Barcelona\, Barcelona\, 08025
CATEGORIES:Inauguració/Exposició
END:VEVENT
END:VCALENDAR