BEGIN:VCALENDAR
VERSION:2.0
PRODID:-//A*Desk - ECPv6.8.1//NONSGML v1.0//EN
CALSCALE:GREGORIAN
METHOD:PUBLISH
X-WR-CALNAME:A*Desk
X-ORIGINAL-URL:https://a-desk.org/en/
X-WR-CALDESC:Events for A*Desk
REFRESH-INTERVAL;VALUE=DURATION:PT1H
X-Robots-Tag:noindex
X-PUBLISHED-TTL:PT1H
BEGIN:VTIMEZONE
TZID:Europe/Madrid
BEGIN:DAYLIGHT
TZOFFSETFROM:+0100
TZOFFSETTO:+0200
TZNAME:CEST
DTSTART:20240331T010000
END:DAYLIGHT
BEGIN:STANDARD
TZOFFSETFROM:+0200
TZOFFSETTO:+0100
TZNAME:CET
DTSTART:20241027T010000
END:STANDARD
BEGIN:DAYLIGHT
TZOFFSETFROM:+0100
TZOFFSETTO:+0200
TZNAME:CEST
DTSTART:20250330T010000
END:DAYLIGHT
BEGIN:STANDARD
TZOFFSETFROM:+0200
TZOFFSETTO:+0100
TZNAME:CET
DTSTART:20251026T010000
END:STANDARD
END:VTIMEZONE
BEGIN:VEVENT
DTSTART;TZID=Europe/Madrid:20240118T110000
DTEND;TZID=Europe/Madrid:20240602T200000
DTSTAMP:20260422T171254
CREATED:20240109T183526Z
LAST-MODIFIED:20240109T183526Z
UID:52798-1705575600-1717358400@a-desk.org
SUMMARY:"El curso de los acontecimientos. Un atlas de la colección Foto Colectania" Carles Guerra
DESCRIPTION:
URL:https://a-desk.org/en/agenda/el-curso-de-los-acontecimientos-un-atlas-de-la-coleccion-foto-colectania-carles-guerra-2/
LOCATION:Fundació Foto Colectania\, Passeig de Picasso\, 14\, 08003 Barcelona mapa\, Barcelona\, Barcelona\, 08003\, Spain
CATEGORIES:Exposició
END:VEVENT
BEGIN:VEVENT
DTSTART;TZID=Europe/Madrid:20240202T110000
DTEND;TZID=Europe/Madrid:20240714T140000
DTSTAMP:20260422T171254
CREATED:20240126T103144Z
LAST-MODIFIED:20240126T103144Z
UID:53401-1706871600-1720965600@a-desk.org
SUMMARY:"Anònims" Susana Solano
DESCRIPTION:
URL:https://a-desk.org/en/agenda/anonims-susana-solano-2/
LOCATION:Fundació Vila Casas. Espais Volart\, C/ Ausiàs Marc\, 22\, 08010 Barcelona mapa\, Barcelona\, Barcelona\, 08010\, Spain
CATEGORIES:Exposició
END:VEVENT
BEGIN:VEVENT
DTSTART;TZID=Europe/Madrid:20240202T110000
DTEND;TZID=Europe/Madrid:20240714T140000
DTSTAMP:20260422T171254
CREATED:20240201T093228Z
LAST-MODIFIED:20240201T093228Z
UID:53693-1706871600-1720965600@a-desk.org
SUMMARY:"Anònims" Susana Solano
DESCRIPTION:
URL:https://a-desk.org/en/agenda/anonims-susana-solano-4/
LOCATION:Fundació Vila Casas. Espais Volart\, C/ Ausiàs Marc\, 22\, 08010 Barcelona mapa\, Barcelona\, Barcelona\, 08010\, Spain
CATEGORIES:Exposició
END:VEVENT
BEGIN:VEVENT
DTSTART;TZID=Europe/Madrid:20240202T190000
DTEND;TZID=Europe/Madrid:20240531T200000
DTSTAMP:20260422T171254
CREATED:20240128T115401Z
LAST-MODIFIED:20240128T115401Z
UID:53486-1706900400-1717185600@a-desk.org
SUMMARY:Sons d’educació al Born
DESCRIPTION:
URL:https://a-desk.org/en/agenda/sons-deducacio-al-born/
LOCATION:Diversos llocs
CATEGORIES:Cicle,Concert,Música
END:VEVENT
BEGIN:VEVENT
DTSTART;TZID=Europe/Madrid:20240210T110000
DTEND;TZID=Europe/Madrid:20250301T193000
DTSTAMP:20260422T171254
CREATED:20240123T113352Z
LAST-MODIFIED:20240123T113352Z
UID:53216-1707562800-1740857400@a-desk.org
SUMMARY:"[contra]panorama" VV.AA
DESCRIPTION:
URL:https://a-desk.org/en/agenda/contrapanorama-vv-aa/
LOCATION:MACBA\, Plaça dels Àngels\, 1\, 08001 Barcelona mapa\, Barcelona\, Barcelona\, 08001\, Spain
CATEGORIES:Activitat,Cicle,Diàleg,Exposició,Mostra,Recerca
END:VEVENT
BEGIN:VEVENT
DTSTART;TZID=Europe/Madrid:20240211T110000
DTEND;TZID=Europe/Madrid:20240608T140000
DTSTAMP:20260422T171254
CREATED:20240206T094844Z
LAST-MODIFIED:20240206T094844Z
UID:53833-1707649200-1717855200@a-desk.org
SUMMARY:"El joc de l’equívoc" Joan Pla
DESCRIPTION:
URL:https://a-desk.org/en/agenda/el-joc-de-lequivoc-joan-pla-2/
LOCATION:Fundació Vila Casas. Palau Solterra\, Carrer de l'Església\, 10\, Torroella de Montgrí\, Girona\, 17257\, España
CATEGORIES:Exposició
END:VEVENT
BEGIN:VEVENT
DTSTART;TZID=Europe/Madrid:20240301T110000
DTEND;TZID=Europe/Madrid:20240602T203000
DTSTAMP:20260422T171254
CREATED:20240209T104959Z
LAST-MODIFIED:20240209T104959Z
UID:54042-1709290800-1717360200@a-desk.org
SUMMARY:"L’altre costat" VV.AA
DESCRIPTION:
URL:https://a-desk.org/en/agenda/laltre-costat-vv-aa-2/
LOCATION:Santa Mònica\, La Rambla\, 7\, 08002 Barcelona mapa\, Barcelona\, Barcelona\, 08002\, Spain
CATEGORIES:Exposició
END:VEVENT
BEGIN:VEVENT
DTSTART;VALUE=DATE:20240528
DTEND;VALUE=DATE:20240711
DTSTAMP:20260422T171254
CREATED:20240518T162750Z
LAST-MODIFIED:20240518T162750Z
UID:56339-1716854400-1720655999@a-desk.org
SUMMARY:Primavera Fotogràfica 2024
DESCRIPTION:
URL:https://a-desk.org/en/agenda/primavera-fotografica-2024-16/
LOCATION:MNAC\, Palau Nacional\, Parc de Montjuïc\, s/n\, 08038 Barcelona mapa\, Barcelona\, Barcelona\, 08038\, Spain
CATEGORIES:Festival,Fotografia
END:VEVENT
BEGIN:VEVENT
DTSTART;TZID=Europe/Madrid:20240530T180000
DTEND;TZID=Europe/Madrid:20240530T180000
DTSTAMP:20260422T171254
CREATED:20240528T090111Z
LAST-MODIFIED:20240528T090111Z
UID:56543-1717092000-1717092000@a-desk.org
SUMMARY:Sara Gómez. Sessió de curtmetratges I
DESCRIPTION:
URL:https://a-desk.org/en/agenda/sara-gomez-sessio-de-curtmetratges-i/
LOCATION:Filmoteca\, Plaça de Salvador Seguí\, 1\, 08001 Barcelona mapa\, Barcelona\, Barcelona\, 08001\, Spain
CATEGORIES:Curtmetratges
END:VEVENT
BEGIN:VEVENT
DTSTART;TZID=Europe/Madrid:20240530T180000
DTEND;TZID=Europe/Madrid:20240530T180000
DTSTAMP:20260422T171254
CREATED:20240528T091749Z
LAST-MODIFIED:20240528T091749Z
UID:56552-1717092000-1717092000@a-desk.org
SUMMARY:Això al poble no li agradarà. Festival d’arts vives a comarques gironines
DESCRIPTION:
URL:https://a-desk.org/en/agenda/aixo-al-poble-no-li-agradara-festival-darts-vives-a-comarques-gironines/
LOCATION:Teatre Principal d’Olot\, Passeig d'en Blay\, 5\, 17800 Olot\, Girona
CATEGORIES:Festival
END:VEVENT
BEGIN:VEVENT
DTSTART;TZID=Europe/Madrid:20240530T180000
DTEND;TZID=Europe/Madrid:20240530T193000
DTSTAMP:20260422T171254
CREATED:20240528T092806Z
LAST-MODIFIED:20240528T092806Z
UID:56562-1717092000-1717097400@a-desk.org
SUMMARY:“Ciudad: ver es inventar”
DESCRIPTION:
URL:https://a-desk.org/en/agenda/ciudad-ver-es-inventar/
LOCATION:Editorial Gustavo Gili\, Rosselló\, 87-89\, Barcelona\, Barcelona\, 08029\, España
CATEGORIES:Conference
END:VEVENT
BEGIN:VEVENT
DTSTART;TZID=Europe/Madrid:20240530T183000
DTEND;TZID=Europe/Madrid:20240530T200000
DTSTAMP:20260422T171254
CREATED:20240209T095022Z
LAST-MODIFIED:20240209T095022Z
UID:54022-1717093800-1717099200@a-desk.org
SUMMARY:Club de lectura a mida: LGTBIQ+ amb Jesús Arpal
DESCRIPTION:
URL:https://a-desk.org/en/agenda/club-de-lectura-a-mida-lgtbiq-amb-jesus-arpal-3/
LOCATION:Biblioteca Sagrada Família-Josep M. Ainaud de Lasa\, C/ Provença\, 480\, Barcelona\, Barcelona\, 08025\, España
CATEGORIES:Cicle,Lectura,Literatura,Trobada
END:VEVENT
BEGIN:VEVENT
DTSTART;TZID=Europe/Madrid:20240530T190000
DTEND;TZID=Europe/Madrid:20240530T190000
DTSTAMP:20260422T171254
CREATED:20240528T090241Z
LAST-MODIFIED:20240528T090241Z
UID:56545-1717095600-1717095600@a-desk.org
SUMMARY:“La natura en disputa: claus per la desarticular la nova filosofia de la classe dominant” Luciana Cadahia\, Antonio Gómez Villar
DESCRIPTION:
URL:https://a-desk.org/en/agenda/la-natura-en-disputa-claus-per-la-desarticular-la-nova-filosofia-de-la-classe-dominant-luciana-cadahia-antonio-gomez-villar/
LOCATION:La Virreina\, La Rambla\, 99\, 08002 Barcelona mapa\, Barcelona\, Barcelona\, 08002\, Spain
CATEGORIES:Seminari
END:VEVENT
BEGIN:VEVENT
DTSTART;TZID=Europe/Madrid:20240530T193000
DTEND;TZID=Europe/Madrid:20240530T203000
DTSTAMP:20260422T171254
CREATED:20240528T085352Z
LAST-MODIFIED:20240528T085352Z
UID:56539-1717097400-1717101000@a-desk.org
SUMMARY:“El holocausto de las flores” Temple de Vesta
DESCRIPTION:
URL:https://a-desk.org/en/agenda/el-holocausto-de-las-flores-temple-de-vesta/
LOCATION:La Casa Elizalde\, C/ València\, 302\, 08009 Barcelona mapa\, Barcelona\, Barcelona\, 08009\, Spain
CATEGORIES:Teatre
END:VEVENT
BEGIN:VEVENT
DTSTART;TZID=Europe/Madrid:20240530T200000
DTEND;TZID=Europe/Madrid:20240530T200000
DTSTAMP:20260422T171254
CREATED:20240528T090834Z
LAST-MODIFIED:20240528T090834Z
UID:56547-1717099200-1717099200@a-desk.org
SUMMARY:Unusual Symptoms / Theatre Bremen / Adrienn Hód + conversa postfunció
DESCRIPTION:
URL:https://a-desk.org/en/agenda/unusual-symptoms-theatre-bremen-adrienn-hod-conversa-postfuncio/
LOCATION:Mercat de les Flors\, C/ Lleida\, 59\, 08004 Barcelona mapa\, Barcelona\, Barcelona\, 08004\, Spain
CATEGORIES:Conversa,Espectacle
END:VEVENT
BEGIN:VEVENT
DTSTART;TZID=Europe/Madrid:20240530T200000
DTEND;TZID=Europe/Madrid:20240530T200000
DTSTAMP:20260422T171254
CREATED:20240528T091331Z
LAST-MODIFIED:20240528T091331Z
UID:56549-1717099200-1717099200@a-desk.org
SUMMARY:"Second Skin" Vanessa Pey
DESCRIPTION:
URL:https://a-desk.org/en/agenda/second-skin-vanessa-pey/
LOCATION:Les Golfes\, / d'En Granada\, 11\, 43003 Tarragona
CATEGORIES:Inauguració/Exposició
END:VEVENT
END:VCALENDAR