BEGIN:VCALENDAR
VERSION:2.0
PRODID:-//A*Desk - ECPv6.8.1//NONSGML v1.0//EN
CALSCALE:GREGORIAN
METHOD:PUBLISH
X-WR-CALNAME:A*Desk
X-ORIGINAL-URL:https://a-desk.org/en/
X-WR-CALDESC:Events for A*Desk
REFRESH-INTERVAL;VALUE=DURATION:PT1H
X-Robots-Tag:noindex
X-PUBLISHED-TTL:PT1H
BEGIN:VTIMEZONE
TZID:Europe/Madrid
BEGIN:DAYLIGHT
TZOFFSETFROM:+0100
TZOFFSETTO:+0200
TZNAME:CEST
DTSTART:20240331T010000
END:DAYLIGHT
BEGIN:STANDARD
TZOFFSETFROM:+0200
TZOFFSETTO:+0100
TZNAME:CET
DTSTART:20241027T010000
END:STANDARD
BEGIN:DAYLIGHT
TZOFFSETFROM:+0100
TZOFFSETTO:+0200
TZNAME:CEST
DTSTART:20250330T010000
END:DAYLIGHT
BEGIN:STANDARD
TZOFFSETFROM:+0200
TZOFFSETTO:+0100
TZNAME:CET
DTSTART:20251026T010000
END:STANDARD
END:VTIMEZONE
BEGIN:VEVENT
DTSTART;TZID=Europe/Madrid:20240202T110000
DTEND;TZID=Europe/Madrid:20240714T140000
DTSTAMP:20260423T020938
CREATED:20240126T103144Z
LAST-MODIFIED:20240126T103144Z
UID:53401-1706871600-1720965600@a-desk.org
SUMMARY:"Anònims" Susana Solano
DESCRIPTION:
URL:https://a-desk.org/en/agenda/anonims-susana-solano-2/
LOCATION:Fundació Vila Casas. Espais Volart\, C/ Ausiàs Marc\, 22\, 08010 Barcelona mapa\, Barcelona\, Barcelona\, 08010\, Spain
CATEGORIES:Exposició
END:VEVENT
BEGIN:VEVENT
DTSTART;TZID=Europe/Madrid:20240202T110000
DTEND;TZID=Europe/Madrid:20240714T140000
DTSTAMP:20260423T020938
CREATED:20240201T093228Z
LAST-MODIFIED:20240201T093228Z
UID:53693-1706871600-1720965600@a-desk.org
SUMMARY:"Anònims" Susana Solano
DESCRIPTION:
URL:https://a-desk.org/en/agenda/anonims-susana-solano-4/
LOCATION:Fundació Vila Casas. Espais Volart\, C/ Ausiàs Marc\, 22\, 08010 Barcelona mapa\, Barcelona\, Barcelona\, 08010\, Spain
CATEGORIES:Exposició
END:VEVENT
BEGIN:VEVENT
DTSTART;TZID=Europe/Madrid:20240210T110000
DTEND;TZID=Europe/Madrid:20250301T193000
DTSTAMP:20260423T020938
CREATED:20240123T113352Z
LAST-MODIFIED:20240123T113352Z
UID:53216-1707562800-1740857400@a-desk.org
SUMMARY:"[contra]panorama" VV.AA
DESCRIPTION:
URL:https://a-desk.org/en/agenda/contrapanorama-vv-aa/
LOCATION:MACBA\, Plaça dels Àngels\, 1\, 08001 Barcelona mapa\, Barcelona\, Barcelona\, 08001\, Spain
CATEGORIES:Activitat,Cicle,Diàleg,Exposició,Mostra,Recerca
END:VEVENT
BEGIN:VEVENT
DTSTART;TZID=Europe/Madrid:20240211T110000
DTEND;TZID=Europe/Madrid:20240608T140000
DTSTAMP:20260423T020938
CREATED:20240206T094844Z
LAST-MODIFIED:20240206T094844Z
UID:53833-1707649200-1717855200@a-desk.org
SUMMARY:"El joc de l’equívoc" Joan Pla
DESCRIPTION:
URL:https://a-desk.org/en/agenda/el-joc-de-lequivoc-joan-pla-2/
LOCATION:Fundació Vila Casas. Palau Solterra\, Carrer de l'Església\, 10\, Torroella de Montgrí\, Girona\, 17257\, España
CATEGORIES:Exposició
END:VEVENT
BEGIN:VEVENT
DTSTART;VALUE=DATE:20240528
DTEND;VALUE=DATE:20240711
DTSTAMP:20260423T020938
CREATED:20240518T162750Z
LAST-MODIFIED:20240518T162750Z
UID:56339-1716854400-1720655999@a-desk.org
SUMMARY:Primavera Fotogràfica 2024
DESCRIPTION:
URL:https://a-desk.org/en/agenda/primavera-fotografica-2024-16/
LOCATION:MNAC\, Palau Nacional\, Parc de Montjuïc\, s/n\, 08038 Barcelona mapa\, Barcelona\, Barcelona\, 08038\, Spain
CATEGORIES:Festival,Fotografia
END:VEVENT
BEGIN:VEVENT
DTSTART;VALUE=DATE:20240531
DTEND;VALUE=DATE:20240715
DTSTAMP:20260423T020938
CREATED:20240530T202627Z
LAST-MODIFIED:20240530T202627Z
UID:56608-1717113600-1721001599@a-desk.org
SUMMARY:LUMÍNIC  2024
DESCRIPTION:
URL:https://a-desk.org/en/agenda/luminic-2024/
LOCATION:Barcelona
CATEGORIES:Festival
END:VEVENT
BEGIN:VEVENT
DTSTART;TZID=Europe/Madrid:20240603T110000
DTEND;TZID=Europe/Madrid:20240609T183000
DTSTAMP:20260423T020938
CREATED:20240531T071116Z
LAST-MODIFIED:20240531T071116Z
UID:56626-1717412400-1717957800@a-desk.org
SUMMARY:Setmana internacional dels Arxius
DESCRIPTION:
URL:https://a-desk.org/en/agenda/setmana-internacional-dels-arxius/
LOCATION:Barcelona
END:VEVENT
BEGIN:VEVENT
DTSTART;TZID=Europe/Madrid:20240605T000000
DTEND;TZID=Europe/Madrid:20240605T050000
DTSTAMP:20260423T020938
CREATED:20240605T080409Z
LAST-MODIFIED:20240605T080409Z
UID:56716-1717545600-1717563600@a-desk.org
SUMMARY:Caníbal bye bye: the last dance
DESCRIPTION:
URL:https://a-desk.org/en/agenda/canibal-bye-bye-the-last-dance/
LOCATION:Sala Apolo\, C/ Nou de la Rambla\, 113\, Barcelona\, Barcelona\, 08004\, España
CATEGORIES:Música
END:VEVENT
BEGIN:VEVENT
DTSTART;TZID=Europe/Madrid:20240605T120000
DTEND;TZID=Europe/Madrid:20240605T180000
DTSTAMP:20260423T020938
CREATED:20240531T075348Z
LAST-MODIFIED:20240531T075348Z
UID:56633-1717588800-1717610400@a-desk.org
SUMMARY:Si no vols pols no vinguis a l'era 24 | Jornada 1
DESCRIPTION:
URL:https://a-desk.org/en/agenda/si-no-vols-pols-no-vinguis-a-lera-24-jornada-1-2/
LOCATION:Espai nyamnyam\, Carrer de Can Caló\, 38\, Mieres\, Girona\, 17830\, España
CATEGORIES:Cicle
END:VEVENT
BEGIN:VEVENT
DTSTART;TZID=Europe/Madrid:20240605T170000
DTEND;TZID=Europe/Madrid:20240605T203000
DTSTAMP:20260423T020938
CREATED:20240602T084938Z
LAST-MODIFIED:20240602T084938Z
UID:56669-1717606800-1717619400@a-desk.org
SUMMARY:Pràctiques impròpies. Desinstitucionalització en salut\, cultura i acadèmia
DESCRIPTION:
URL:https://a-desk.org/en/agenda/practiques-impropies-desinstitucionalitzacio-en-salut-cultura-i-academia/
LOCATION:La Escocesa\, C/ Pere IV\, 345\, 08020 Barcelona mapa\, Barcelona\, Barcelona\, 08020\, Spain
CATEGORIES:Jornada,Trobada
END:VEVENT
BEGIN:VEVENT
DTSTART;TZID=Europe/Madrid:20240605T180000
DTEND;TZID=Europe/Madrid:20240605T210000
DTSTAMP:20260423T020938
CREATED:20240602T082357Z
LAST-MODIFIED:20240602T082357Z
UID:56647-1717610400-1717621200@a-desk.org
SUMMARY:“Pensar a través de les imatges” Andrea Soto Calderón
DESCRIPTION:
URL:https://a-desk.org/en/agenda/pensar-a-traves-de-les-imatges-andrea-soto-calderon/
LOCATION:La Virreina\, La Rambla\, 99\, 08002 Barcelona mapa\, Barcelona\, Barcelona\, 08002\, Spain
CATEGORIES:Seminari
END:VEVENT
BEGIN:VEVENT
DTSTART;TZID=Europe/Madrid:20240605T183000
DTEND;TZID=Europe/Madrid:20240605T193000
DTSTAMP:20260423T020938
CREATED:20240602T082235Z
LAST-MODIFIED:20240602T082235Z
UID:56645-1717612200-1717615800@a-desk.org
SUMMARY:Un diàleg sobre l’apropiacionisme en l'art. De Picasso a Equipo Crónica 1/2
DESCRIPTION:
URL:https://a-desk.org/en/agenda/un-dialeg-sobre-lapropiacionisme-en-lart-de-picasso-a-equipo-cronica-1-2/
LOCATION:Museu Picasso de Barcelona\, C/ de Montcada\, 15-23\, Barcelona\, Barcelona\, 08003\, España
CATEGORIES:Diàleg,Exposició,Guided tour
END:VEVENT
BEGIN:VEVENT
DTSTART;TZID=Europe/Madrid:20240605T183000
DTEND;TZID=Europe/Madrid:20240605T200000
DTSTAMP:20260423T020938
CREATED:20240604T092332Z
LAST-MODIFIED:20240604T092332Z
UID:56706-1717612200-1717617600@a-desk.org
SUMMARY:"Veritats fràgils" Patrick Radden Keefe
DESCRIPTION:
URL:https://a-desk.org/en/agenda/veritats-fragils-patrick-radden-keefe/
LOCATION:CCCB\, C/ Montalegre\, 5\, 08001 Barcelona mapa\, Barcelona\, Barcelona\, 08001\, Spain
CATEGORIES:Cicle,Conference,Inauguració
END:VEVENT
BEGIN:VEVENT
DTSTART;TZID=Europe/Madrid:20240605T190000
DTEND;TZID=Europe/Madrid:20240605T190000
DTSTAMP:20260423T020938
CREATED:20240602T081755Z
LAST-MODIFIED:20240602T081755Z
UID:56643-1717614000-1717614000@a-desk.org
SUMMARY:Neomatèria Extra
DESCRIPTION:
URL:https://a-desk.org/en/agenda/neomateria-extra/
LOCATION:Disseny Hub\, Pl. de las Glories Catalanes\, 37-38\, 08018 Barcelona mapa\, Barcelona\, Barcelona\, 08018\, Spain
CATEGORIES:Conference
END:VEVENT
BEGIN:VEVENT
DTSTART;TZID=Europe/Madrid:20240605T193000
DTEND;TZID=Europe/Madrid:20240605T210000
DTSTAMP:20260423T020938
CREATED:20240602T081631Z
LAST-MODIFIED:20240602T081631Z
UID:56641-1717615800-1717621200@a-desk.org
SUMMARY:“Els Masriera i la Barcelona del seu temps” Pilar Vélez Vicente
DESCRIPTION:
URL:https://a-desk.org/en/agenda/els-masriera-i-la-barcelona-del-seu-temps-pilar-velez-vicente/
LOCATION:La Casa Elizalde\, C/ València\, 302\, 08009 Barcelona mapa\, Barcelona\, Barcelona\, 08009\, Spain
CATEGORIES:Conference
END:VEVENT
END:VCALENDAR