BEGIN:VCALENDAR
VERSION:2.0
PRODID:-//A*Desk - ECPv6.8.1//NONSGML v1.0//EN
CALSCALE:GREGORIAN
METHOD:PUBLISH
X-ORIGINAL-URL:https://a-desk.org/en/
X-WR-CALDESC:Events for A*Desk
REFRESH-INTERVAL;VALUE=DURATION:PT1H
X-Robots-Tag:noindex
X-PUBLISHED-TTL:PT1H
BEGIN:VTIMEZONE
TZID:Europe/Madrid
BEGIN:DAYLIGHT
TZOFFSETFROM:+0100
TZOFFSETTO:+0200
TZNAME:CEST
DTSTART:20240331T010000
END:DAYLIGHT
BEGIN:STANDARD
TZOFFSETFROM:+0200
TZOFFSETTO:+0100
TZNAME:CET
DTSTART:20241027T010000
END:STANDARD
BEGIN:DAYLIGHT
TZOFFSETFROM:+0100
TZOFFSETTO:+0200
TZNAME:CEST
DTSTART:20250330T010000
END:DAYLIGHT
BEGIN:STANDARD
TZOFFSETFROM:+0200
TZOFFSETTO:+0100
TZNAME:CET
DTSTART:20251026T010000
END:STANDARD
END:VTIMEZONE
BEGIN:VEVENT
DTSTART;TZID=Europe/Madrid:20240202T110000
DTEND;TZID=Europe/Madrid:20240714T140000
DTSTAMP:20260423T122053
CREATED:20240126T103144Z
LAST-MODIFIED:20240126T103144Z
UID:53401-1706871600-1720965600@a-desk.org
SUMMARY:"Anònims" Susana Solano
DESCRIPTION:
URL:https://a-desk.org/en/agenda/anonims-susana-solano-2/
LOCATION:Fundació Vila Casas. Espais Volart\, C/ Ausiàs Marc\, 22\, 08010 Barcelona mapa\, Barcelona\, Barcelona\, 08010\, Spain
CATEGORIES:Exposició
END:VEVENT
BEGIN:VEVENT
DTSTART;TZID=Europe/Madrid:20240202T110000
DTEND;TZID=Europe/Madrid:20240714T140000
DTSTAMP:20260423T122053
CREATED:20240201T093228Z
LAST-MODIFIED:20240201T093228Z
UID:53693-1706871600-1720965600@a-desk.org
SUMMARY:"Anònims" Susana Solano
DESCRIPTION:
URL:https://a-desk.org/en/agenda/anonims-susana-solano-4/
LOCATION:Fundació Vila Casas. Espais Volart\, C/ Ausiàs Marc\, 22\, 08010 Barcelona mapa\, Barcelona\, Barcelona\, 08010\, Spain
CATEGORIES:Exposició
END:VEVENT
BEGIN:VEVENT
DTSTART;TZID=Europe/Madrid:20240210T110000
DTEND;TZID=Europe/Madrid:20250301T193000
DTSTAMP:20260423T122053
CREATED:20240123T113352Z
LAST-MODIFIED:20240123T113352Z
UID:53216-1707562800-1740857400@a-desk.org
SUMMARY:"[contra]panorama" VV.AA
DESCRIPTION:
URL:https://a-desk.org/en/agenda/contrapanorama-vv-aa/
LOCATION:MACBA\, Plaça dels Àngels\, 1\, 08001 Barcelona mapa\, Barcelona\, Barcelona\, 08001\, Spain
CATEGORIES:Activitat,Cicle,Diàleg,Exposició,Mostra,Recerca
END:VEVENT
BEGIN:VEVENT
DTSTART;VALUE=DATE:20240528
DTEND;VALUE=DATE:20240711
DTSTAMP:20260423T122053
CREATED:20240518T162750Z
LAST-MODIFIED:20240518T162750Z
UID:56339-1716854400-1720655999@a-desk.org
SUMMARY:Primavera Fotogràfica 2024
DESCRIPTION:
URL:https://a-desk.org/en/agenda/primavera-fotografica-2024-16/
LOCATION:MNAC\, Palau Nacional\, Parc de Montjuïc\, s/n\, 08038 Barcelona mapa\, Barcelona\, Barcelona\, 08038\, Spain
CATEGORIES:Festival,Fotografia
END:VEVENT
BEGIN:VEVENT
DTSTART;VALUE=DATE:20240531
DTEND;VALUE=DATE:20240715
DTSTAMP:20260423T122053
CREATED:20240530T202627Z
LAST-MODIFIED:20240530T202627Z
UID:56608-1717113600-1721001599@a-desk.org
SUMMARY:LUMÍNIC  2024
DESCRIPTION:
URL:https://a-desk.org/en/agenda/luminic-2024/
LOCATION:Barcelona
CATEGORIES:Festival
END:VEVENT
BEGIN:VEVENT
DTSTART;TZID=Europe/Madrid:20240612T180000
DTEND;TZID=Europe/Madrid:20240612T180000
DTSTAMP:20260423T122053
CREATED:20240607T084728Z
LAST-MODIFIED:20240607T084728Z
UID:56780-1718215200-1718215200@a-desk.org
SUMMARY:“Dalt\, la serra” Rita Sala
DESCRIPTION:
URL:https://a-desk.org/en/agenda/dalt-la-serra-rita-sala/
LOCATION:Ana Mas Projects\, Isaac Peral 7\, Hospitalet de Llobregat\, Barcelona\, 08902\, España
CATEGORIES:Inauguració/Exposició
END:VEVENT
BEGIN:VEVENT
DTSTART;TZID=Europe/Madrid:20240612T183000
DTEND;TZID=Europe/Madrid:20240612T183000
DTSTAMP:20260423T122053
CREATED:20240607T085209Z
LAST-MODIFIED:20240607T085209Z
UID:56784-1718217000-1718217000@a-desk.org
SUMMARY:"Forgotten landscapes" d'Helga Juárez | El cielo en las estrellas
DESCRIPTION:
URL:https://a-desk.org/en/agenda/forgotten-landscapes-dhelga-juarez-el-cielo-en-las-estrellas/
LOCATION:CC Sant Andreu\, C/ Gran de Sant Andreu\, 111\, Barcelona\, Barcelona\, 08030\, España
CATEGORIES:Inauguració,Performance
END:VEVENT
BEGIN:VEVENT
DTSTART;TZID=Europe/Madrid:20240612T183000
DTEND;TZID=Europe/Madrid:20240612T183000
DTSTAMP:20260423T122053
CREATED:20240607T085335Z
LAST-MODIFIED:20240607T085335Z
UID:56786-1718217000-1718217000@a-desk.org
SUMMARY:“Arxivar la vida\, pensar la mort”
DESCRIPTION:
URL:https://a-desk.org/en/agenda/arxivar-la-vida-pensar-la-mort/
LOCATION:Centre de Documentació de Ca la Dona\, Carrer Ripoll\, 25\, Barcelona\, Barcelona\, 08002\, España
CATEGORIES:Conversa,Trobada
END:VEVENT
BEGIN:VEVENT
DTSTART;TZID=Europe/Madrid:20240612T183000
DTEND;TZID=Europe/Madrid:20240612T200000
DTSTAMP:20260423T122053
CREATED:20240607T085658Z
LAST-MODIFIED:20240607T085716Z
UID:56790-1718217000-1718222400@a-desk.org
SUMMARY:“Corrupció\, cleptòcrates i Cucúlandia” Tom Burgis i Patrick Radden Keefe
DESCRIPTION:
URL:https://a-desk.org/en/agenda/corrupcio-cleptocrates-i-cuculandia/
LOCATION:CCCB\, C/ Montalegre\, 5\, 08001 Barcelona mapa\, Barcelona\, Barcelona\, 08001\, Spain
CATEGORIES:Debat
END:VEVENT
BEGIN:VEVENT
DTSTART;TZID=Europe/Madrid:20240612T190000
DTEND;TZID=Europe/Madrid:20240612T190000
DTSTAMP:20260423T122053
CREATED:20240607T084935Z
LAST-MODIFIED:20240607T084935Z
UID:56782-1718218800-1718218800@a-desk.org
SUMMARY:“Estructuras un hilo una flor” Cristina Sin
DESCRIPTION:
URL:https://a-desk.org/en/agenda/estructuras-un-hilo-una-flor-cristina-sin/
LOCATION:Galeria H2O\, C/ Verdi\, 152\, 08012 Barcelona mapa\, Barcelona\, Barcelona\, 08012\, Spain
CATEGORIES:Inauguració/Exposició
END:VEVENT
BEGIN:VEVENT
DTSTART;TZID=Europe/Madrid:20240612T210000
DTEND;TZID=Europe/Madrid:20240612T210000
DTSTAMP:20260423T122053
CREATED:20240607T085523Z
LAST-MODIFIED:20240607T085523Z
UID:56788-1718226000-1718226000@a-desk.org
SUMMARY:Concert Pascal Comelade | Barceló. Tots som grecs
DESCRIPTION:
URL:https://a-desk.org/en/agenda/concert-pascal-comelade-barcelo-tots-som-grecs/
LOCATION:Palau de la Música\, C/ Palau de la Música\, 4-6\, Barcelona\, Barcelona\, 08003\, España
CATEGORIES:Concert
END:VEVENT
END:VCALENDAR