BEGIN:VCALENDAR
VERSION:2.0
PRODID:-//A*Desk - ECPv6.8.1//NONSGML v1.0//EN
CALSCALE:GREGORIAN
METHOD:PUBLISH
X-WR-CALNAME:A*Desk
X-ORIGINAL-URL:https://a-desk.org/en/
X-WR-CALDESC:Events for A*Desk
REFRESH-INTERVAL;VALUE=DURATION:PT1H
X-Robots-Tag:noindex
X-PUBLISHED-TTL:PT1H
BEGIN:VTIMEZONE
TZID:Europe/Madrid
BEGIN:DAYLIGHT
TZOFFSETFROM:+0100
TZOFFSETTO:+0200
TZNAME:CEST
DTSTART:20240331T010000
END:DAYLIGHT
BEGIN:STANDARD
TZOFFSETFROM:+0200
TZOFFSETTO:+0100
TZNAME:CET
DTSTART:20241027T010000
END:STANDARD
BEGIN:DAYLIGHT
TZOFFSETFROM:+0100
TZOFFSETTO:+0200
TZNAME:CEST
DTSTART:20250330T010000
END:DAYLIGHT
BEGIN:STANDARD
TZOFFSETFROM:+0200
TZOFFSETTO:+0100
TZNAME:CET
DTSTART:20251026T010000
END:STANDARD
END:VTIMEZONE
BEGIN:VEVENT
DTSTART;TZID=Europe/Madrid:20240202T110000
DTEND;TZID=Europe/Madrid:20240714T140000
DTSTAMP:20260423T144930
CREATED:20240126T103144Z
LAST-MODIFIED:20240126T103144Z
UID:53401-1706871600-1720965600@a-desk.org
SUMMARY:"Anònims" Susana Solano
DESCRIPTION:
URL:https://a-desk.org/en/agenda/anonims-susana-solano-2/
LOCATION:Fundació Vila Casas. Espais Volart\, C/ Ausiàs Marc\, 22\, 08010 Barcelona mapa\, Barcelona\, Barcelona\, 08010\, Spain
CATEGORIES:Exposició
END:VEVENT
BEGIN:VEVENT
DTSTART;TZID=Europe/Madrid:20240202T110000
DTEND;TZID=Europe/Madrid:20240714T140000
DTSTAMP:20260423T144930
CREATED:20240201T093228Z
LAST-MODIFIED:20240201T093228Z
UID:53693-1706871600-1720965600@a-desk.org
SUMMARY:"Anònims" Susana Solano
DESCRIPTION:
URL:https://a-desk.org/en/agenda/anonims-susana-solano-4/
LOCATION:Fundació Vila Casas. Espais Volart\, C/ Ausiàs Marc\, 22\, 08010 Barcelona mapa\, Barcelona\, Barcelona\, 08010\, Spain
CATEGORIES:Exposició
END:VEVENT
BEGIN:VEVENT
DTSTART;TZID=Europe/Madrid:20240210T110000
DTEND;TZID=Europe/Madrid:20250301T193000
DTSTAMP:20260423T144930
CREATED:20240123T113352Z
LAST-MODIFIED:20240123T113352Z
UID:53216-1707562800-1740857400@a-desk.org
SUMMARY:"[contra]panorama" VV.AA
DESCRIPTION:
URL:https://a-desk.org/en/agenda/contrapanorama-vv-aa/
LOCATION:MACBA\, Plaça dels Àngels\, 1\, 08001 Barcelona mapa\, Barcelona\, Barcelona\, 08001\, Spain
CATEGORIES:Activitat,Cicle,Diàleg,Exposició,Mostra,Recerca
END:VEVENT
BEGIN:VEVENT
DTSTART;VALUE=DATE:20240528
DTEND;VALUE=DATE:20240711
DTSTAMP:20260423T144930
CREATED:20240518T162750Z
LAST-MODIFIED:20240518T162750Z
UID:56339-1716854400-1720655999@a-desk.org
SUMMARY:Primavera Fotogràfica 2024
DESCRIPTION:
URL:https://a-desk.org/en/agenda/primavera-fotografica-2024-16/
LOCATION:MNAC\, Palau Nacional\, Parc de Montjuïc\, s/n\, 08038 Barcelona mapa\, Barcelona\, Barcelona\, 08038\, Spain
CATEGORIES:Festival,Fotografia
END:VEVENT
BEGIN:VEVENT
DTSTART;VALUE=DATE:20240531
DTEND;VALUE=DATE:20240715
DTSTAMP:20260423T144930
CREATED:20240530T202627Z
LAST-MODIFIED:20240530T202627Z
UID:56608-1717113600-1721001599@a-desk.org
SUMMARY:LUMÍNIC  2024
DESCRIPTION:
URL:https://a-desk.org/en/agenda/luminic-2024/
LOCATION:Barcelona
CATEGORIES:Festival
END:VEVENT
BEGIN:VEVENT
DTSTART;TZID=Europe/Madrid:20240613T233000
DTEND;TZID=Europe/Madrid:20240613T233000
DTSTAMP:20260423T144930
CREATED:20240608T074318Z
LAST-MODIFIED:20240612T090903Z
UID:56869-1718321400-1718321400@a-desk.org
SUMMARY:"Fruita amarga" Regina José Galindo
DESCRIPTION:
URL:https://a-desk.org/en/agenda/fruita-amarga-regina-jose-galindo/
LOCATION:Plaça de Ramón Berenguer IV\, 25007 Lleida
CATEGORIES:Performance
END:VEVENT
BEGIN:VEVENT
DTSTART;VALUE=DATE:20240614
DTEND;VALUE=DATE:20240615
DTSTAMP:20260423T144930
CREATED:20240607T092414Z
LAST-MODIFIED:20240607T092414Z
UID:56817-1718323200-1718409599@a-desk.org
SUMMARY:Sónar 2024
DESCRIPTION:
URL:https://a-desk.org/en/agenda/sonar-2024-2/
LOCATION:Barcelona
CATEGORIES:Festival
END:VEVENT
BEGIN:VEVENT
DTSTART;VALUE=DATE:20240614
DTEND;VALUE=DATE:20240615
DTSTAMP:20260423T144930
CREATED:20240607T093123Z
LAST-MODIFIED:20240607T093123Z
UID:56825-1718323200-1718409599@a-desk.org
SUMMARY:mónFILMAT 2024
DESCRIPTION:
URL:https://a-desk.org/en/agenda/monfilmat-2024-2/
LOCATION:Barcelona
CATEGORIES:Cinema,Festival
END:VEVENT
BEGIN:VEVENT
DTSTART;TZID=Europe/Madrid:20240614T190000
DTEND;TZID=Europe/Madrid:20240614T190000
DTSTAMP:20260423T144930
CREATED:20240607T095931Z
LAST-MODIFIED:20240608T072142Z
UID:56852-1718391600-1718391600@a-desk.org
SUMMARY:“Una ascensió en espiral. Mirar enrere desde la fi'” Raisa Maudit
DESCRIPTION:
URL:https://a-desk.org/en/agenda/una-ascension-en-espiral-mirar-atras-desde-el-fin-raisa-maudit/
LOCATION:La Virreina\, La Rambla\, 99\, 08002 Barcelona mapa\, Barcelona\, Barcelona\, 08002\, Spain
CATEGORIES:Inauguració/Exposició
END:VEVENT
BEGIN:VEVENT
DTSTART;TZID=Europe/Madrid:20240614T190000
DTEND;TZID=Europe/Madrid:20240614T200000
DTSTAMP:20260423T144930
CREATED:20240607T090155Z
LAST-MODIFIED:20240607T090155Z
UID:56795-1718391600-1718395200@a-desk.org
SUMMARY:Poesia
DESCRIPTION:
URL:https://a-desk.org/en/agenda/poesia/
LOCATION:Ona Llibres\, C/ Pau Claris\, 94\, 08010 Barcelona mapa\, Barcelona\, Barcelona\, 08010\, Spain
CATEGORIES:Conversa,Literatura,Trobada
END:VEVENT
BEGIN:VEVENT
DTSTART;TZID=Europe/Madrid:20240614T203000
DTEND;TZID=Europe/Madrid:20240614T203000
DTSTAMP:20260423T144930
CREATED:20240607T093551Z
LAST-MODIFIED:20240607T093551Z
UID:56832-1718397000-1718397000@a-desk.org
SUMMARY:Projecció “Mamífera” + col·loqui
DESCRIPTION:
URL:https://a-desk.org/en/agenda/projeccio-mamifera-col%c2%b7loqui/
LOCATION:Espai Texas\, C/ de Bailèn\, 205\, Gràcia\, Barcelona\, Barcelona\, 08037\, España
CATEGORIES:Col·loqui,Projecció
END:VEVENT
BEGIN:VEVENT
DTSTART;TZID=Europe/Madrid:20240614T230000
DTEND;TZID=Europe/Madrid:20240614T230000
DTSTAMP:20260423T144930
CREATED:20240608T075401Z
LAST-MODIFIED:20240608T075401Z
UID:56877-1718406000-1718406000@a-desk.org
SUMMARY:Nea Onnim
DESCRIPTION:
URL:https://a-desk.org/en/agenda/nea-onnim/
LOCATION:l’afluent\, Sacho de Avila 76\, Barcelona\, Spain 08018
CATEGORIES:Música
END:VEVENT
END:VCALENDAR