BEGIN:VCALENDAR
VERSION:2.0
PRODID:-//A*Desk - ECPv6.8.1//NONSGML v1.0//EN
CALSCALE:GREGORIAN
METHOD:PUBLISH
X-ORIGINAL-URL:https://a-desk.org/en/
X-WR-CALDESC:Events for A*Desk
REFRESH-INTERVAL;VALUE=DURATION:PT1H
X-Robots-Tag:noindex
X-PUBLISHED-TTL:PT1H
BEGIN:VTIMEZONE
TZID:Europe/Madrid
BEGIN:DAYLIGHT
TZOFFSETFROM:+0100
TZOFFSETTO:+0200
TZNAME:CEST
DTSTART:20240331T010000
END:DAYLIGHT
BEGIN:STANDARD
TZOFFSETFROM:+0200
TZOFFSETTO:+0100
TZNAME:CET
DTSTART:20241027T010000
END:STANDARD
BEGIN:DAYLIGHT
TZOFFSETFROM:+0100
TZOFFSETTO:+0200
TZNAME:CEST
DTSTART:20250330T010000
END:DAYLIGHT
BEGIN:STANDARD
TZOFFSETFROM:+0200
TZOFFSETTO:+0100
TZNAME:CET
DTSTART:20251026T010000
END:STANDARD
END:VTIMEZONE
BEGIN:VEVENT
DTSTART;TZID=Europe/Madrid:20240202T110000
DTEND;TZID=Europe/Madrid:20240714T140000
DTSTAMP:20260423T172438
CREATED:20240126T103144Z
LAST-MODIFIED:20240126T103144Z
UID:53401-1706871600-1720965600@a-desk.org
SUMMARY:"Anònims" Susana Solano
DESCRIPTION:
URL:https://a-desk.org/en/agenda/anonims-susana-solano-2/
LOCATION:Fundació Vila Casas. Espais Volart\, C/ Ausiàs Marc\, 22\, 08010 Barcelona mapa\, Barcelona\, Barcelona\, 08010\, Spain
CATEGORIES:Exposició
END:VEVENT
BEGIN:VEVENT
DTSTART;TZID=Europe/Madrid:20240202T110000
DTEND;TZID=Europe/Madrid:20240714T140000
DTSTAMP:20260423T172438
CREATED:20240201T093228Z
LAST-MODIFIED:20240201T093228Z
UID:53693-1706871600-1720965600@a-desk.org
SUMMARY:"Anònims" Susana Solano
DESCRIPTION:
URL:https://a-desk.org/en/agenda/anonims-susana-solano-4/
LOCATION:Fundació Vila Casas. Espais Volart\, C/ Ausiàs Marc\, 22\, 08010 Barcelona mapa\, Barcelona\, Barcelona\, 08010\, Spain
CATEGORIES:Exposició
END:VEVENT
BEGIN:VEVENT
DTSTART;TZID=Europe/Madrid:20240210T110000
DTEND;TZID=Europe/Madrid:20250301T193000
DTSTAMP:20260423T172438
CREATED:20240123T113352Z
LAST-MODIFIED:20240123T113352Z
UID:53216-1707562800-1740857400@a-desk.org
SUMMARY:"[contra]panorama" VV.AA
DESCRIPTION:
URL:https://a-desk.org/en/agenda/contrapanorama-vv-aa/
LOCATION:MACBA\, Plaça dels Àngels\, 1\, 08001 Barcelona mapa\, Barcelona\, Barcelona\, 08001\, Spain
CATEGORIES:Activitat,Cicle,Diàleg,Exposició,Mostra,Recerca
END:VEVENT
BEGIN:VEVENT
DTSTART;VALUE=DATE:20240528
DTEND;VALUE=DATE:20240711
DTSTAMP:20260423T172438
CREATED:20240518T162750Z
LAST-MODIFIED:20240518T162750Z
UID:56339-1716854400-1720655999@a-desk.org
SUMMARY:Primavera Fotogràfica 2024
DESCRIPTION:
URL:https://a-desk.org/en/agenda/primavera-fotografica-2024-16/
LOCATION:MNAC\, Palau Nacional\, Parc de Montjuïc\, s/n\, 08038 Barcelona mapa\, Barcelona\, Barcelona\, 08038\, Spain
CATEGORIES:Festival,Fotografia
END:VEVENT
BEGIN:VEVENT
DTSTART;VALUE=DATE:20240531
DTEND;VALUE=DATE:20240715
DTSTAMP:20260423T172438
CREATED:20240530T202627Z
LAST-MODIFIED:20240530T202627Z
UID:56608-1717113600-1721001599@a-desk.org
SUMMARY:LUMÍNIC  2024
DESCRIPTION:
URL:https://a-desk.org/en/agenda/luminic-2024/
LOCATION:Barcelona
CATEGORIES:Festival
END:VEVENT
BEGIN:VEVENT
DTSTART;VALUE=DATE:20240616
DTEND;VALUE=DATE:20240617
DTSTAMP:20260423T172438
CREATED:20240607T093409Z
LAST-MODIFIED:20240607T093409Z
UID:56830-1718496000-1718582399@a-desk.org
SUMMARY:mónFILMAT 2024
DESCRIPTION:
URL:https://a-desk.org/en/agenda/monfilmat-2024-4/
LOCATION:Barcelona
CATEGORIES:Cinema,Festival
END:VEVENT
BEGIN:VEVENT
DTSTART;VALUE=DATE:20240616
DTEND;VALUE=DATE:20240617
DTSTAMP:20260423T172438
CREATED:20240607T094754Z
LAST-MODIFIED:20240607T094754Z
UID:56843-1718496000-1718582399@a-desk.org
SUMMARY:Món del llibre 2024
DESCRIPTION:
URL:https://a-desk.org/en/agenda/mon-del-llibre-2024-2/
LOCATION:Barcelona
CATEGORIES:Festival,Literatura
END:VEVENT
BEGIN:VEVENT
DTSTART;TZID=Europe/Madrid:20240616T100000
DTEND;TZID=Europe/Madrid:20240616T200000
DTSTAMP:20260423T172438
CREATED:20240128T183056Z
LAST-MODIFIED:20240128T183056Z
UID:53535-1718532000-1718568000@a-desk.org
SUMMARY:Visita el Mirador del CCCB
DESCRIPTION:
URL:https://a-desk.org/en/agenda/visita-el-mirador-del-cccb-7/
LOCATION:CCCB\, C/ Montalegre\, 5\, 08001 Barcelona mapa\, Barcelona\, Barcelona\, 08001\, Spain
CATEGORIES:Jornada,Guided tour
END:VEVENT
BEGIN:VEVENT
DTSTART;TZID=Europe/Madrid:20240616T120000
DTEND;TZID=Europe/Madrid:20240616T120000
DTSTAMP:20260423T172438
CREATED:20240607T095017Z
LAST-MODIFIED:20240607T095017Z
UID:56845-1718539200-1718539200@a-desk.org
SUMMARY:“El silenci és un camuflatge: maneres d'escoltar un ordinador” Col·lectiu Estampa + “Le ventre de Paris” Maria Alcaide | Això al poble no li agradarà
DESCRIPTION:
URL:https://a-desk.org/en/agenda/el-silenci-es-un-camuflatge-maneres-descoltar-un-ordinador-col%c2%b7lectiu-estampa-le-ventre-de-paris-maria-alcaide-aixo-al-poble-no-li-agradara/
LOCATION:Teatre l’Ateneu de Celrà\, Plaça de l'Església\, 8 - 17460 Celrà (Girona)
CATEGORIES:Activitat
END:VEVENT
BEGIN:VEVENT
DTSTART;TZID=Europe/Madrid:20240616T160000
DTEND;TZID=Europe/Madrid:20240616T160000
DTSTAMP:20260423T172438
CREATED:20240607T101025Z
LAST-MODIFIED:20240607T101025Z
UID:56854-1718553600-1718553600@a-desk.org
SUMMARY:"La Vénus d’argent" Héléna Klotz
DESCRIPTION:
URL:https://a-desk.org/en/agenda/la-venus-dargent-helena-klotz/
LOCATION:Institut français – Barcelona\, Carrer de Moià\, 8\, Barcelona\, Barcelona\, 08006\, España
CATEGORIES:Cinema,Mostra
END:VEVENT
BEGIN:VEVENT
DTSTART;TZID=Europe/Madrid:20240616T180000
DTEND;TZID=Europe/Madrid:20240616T190000
DTSTAMP:20260423T172438
CREATED:20240607T103208Z
LAST-MODIFIED:20240607T103208Z
UID:56861-1718560800-1718564400@a-desk.org
SUMMARY:CLÀSSIC BYRON – Hisako Hiseki
DESCRIPTION:
URL:https://a-desk.org/en/agenda/classic-byron-hisako-hiseki/
LOCATION:Llibreria Byron\, C/ Casanova\, 32\, 08011 Barcelona mapa\, Barcelona\, Barcelona\, 08011\, Spain
CATEGORIES:Concert
END:VEVENT
END:VCALENDAR