BEGIN:VCALENDAR
VERSION:2.0
PRODID:-//A*Desk - ECPv6.8.1//NONSGML v1.0//EN
CALSCALE:GREGORIAN
METHOD:PUBLISH
X-ORIGINAL-URL:https://a-desk.org/en/
X-WR-CALDESC:Events for A*Desk
REFRESH-INTERVAL;VALUE=DURATION:PT1H
X-Robots-Tag:noindex
X-PUBLISHED-TTL:PT1H
BEGIN:VTIMEZONE
TZID:Europe/Madrid
BEGIN:DAYLIGHT
TZOFFSETFROM:+0100
TZOFFSETTO:+0200
TZNAME:CEST
DTSTART:20240331T010000
END:DAYLIGHT
BEGIN:STANDARD
TZOFFSETFROM:+0200
TZOFFSETTO:+0100
TZNAME:CET
DTSTART:20241027T010000
END:STANDARD
BEGIN:DAYLIGHT
TZOFFSETFROM:+0100
TZOFFSETTO:+0200
TZNAME:CEST
DTSTART:20250330T010000
END:DAYLIGHT
BEGIN:STANDARD
TZOFFSETFROM:+0200
TZOFFSETTO:+0100
TZNAME:CET
DTSTART:20251026T010000
END:STANDARD
END:VTIMEZONE
BEGIN:VEVENT
DTSTART;TZID=Europe/Madrid:20240202T110000
DTEND;TZID=Europe/Madrid:20240714T140000
DTSTAMP:20260423T214000
CREATED:20240126T103144Z
LAST-MODIFIED:20240126T103144Z
UID:53401-1706871600-1720965600@a-desk.org
SUMMARY:"Anònims" Susana Solano
DESCRIPTION:
URL:https://a-desk.org/en/agenda/anonims-susana-solano-2/
LOCATION:Fundació Vila Casas. Espais Volart\, C/ Ausiàs Marc\, 22\, 08010 Barcelona mapa\, Barcelona\, Barcelona\, 08010\, Spain
CATEGORIES:Exposició
END:VEVENT
BEGIN:VEVENT
DTSTART;TZID=Europe/Madrid:20240202T110000
DTEND;TZID=Europe/Madrid:20240714T140000
DTSTAMP:20260423T214000
CREATED:20240201T093228Z
LAST-MODIFIED:20240201T093228Z
UID:53693-1706871600-1720965600@a-desk.org
SUMMARY:"Anònims" Susana Solano
DESCRIPTION:
URL:https://a-desk.org/en/agenda/anonims-susana-solano-4/
LOCATION:Fundació Vila Casas. Espais Volart\, C/ Ausiàs Marc\, 22\, 08010 Barcelona mapa\, Barcelona\, Barcelona\, 08010\, Spain
CATEGORIES:Exposició
END:VEVENT
BEGIN:VEVENT
DTSTART;TZID=Europe/Madrid:20240210T110000
DTEND;TZID=Europe/Madrid:20250301T193000
DTSTAMP:20260423T214000
CREATED:20240123T113352Z
LAST-MODIFIED:20240123T113352Z
UID:53216-1707562800-1740857400@a-desk.org
SUMMARY:"[contra]panorama" VV.AA
DESCRIPTION:
URL:https://a-desk.org/en/agenda/contrapanorama-vv-aa/
LOCATION:MACBA\, Plaça dels Àngels\, 1\, 08001 Barcelona mapa\, Barcelona\, Barcelona\, 08001\, Spain
CATEGORIES:Activitat,Cicle,Diàleg,Exposició,Mostra,Recerca
END:VEVENT
BEGIN:VEVENT
DTSTART;VALUE=DATE:20240528
DTEND;VALUE=DATE:20240711
DTSTAMP:20260423T214000
CREATED:20240518T162750Z
LAST-MODIFIED:20240518T162750Z
UID:56339-1716854400-1720655999@a-desk.org
SUMMARY:Primavera Fotogràfica 2024
DESCRIPTION:
URL:https://a-desk.org/en/agenda/primavera-fotografica-2024-16/
LOCATION:MNAC\, Palau Nacional\, Parc de Montjuïc\, s/n\, 08038 Barcelona mapa\, Barcelona\, Barcelona\, 08038\, Spain
CATEGORIES:Festival,Fotografia
END:VEVENT
BEGIN:VEVENT
DTSTART;VALUE=DATE:20240531
DTEND;VALUE=DATE:20240715
DTSTAMP:20260423T214000
CREATED:20240530T202627Z
LAST-MODIFIED:20240530T202627Z
UID:56608-1717113600-1721001599@a-desk.org
SUMMARY:LUMÍNIC  2024
DESCRIPTION:
URL:https://a-desk.org/en/agenda/luminic-2024/
LOCATION:Barcelona
CATEGORIES:Festival
END:VEVENT
BEGIN:VEVENT
DTSTART;TZID=Europe/Madrid:20240619T180000
DTEND;TZID=Europe/Madrid:20240619T193000
DTSTAMP:20260423T214000
CREATED:20240616T082916Z
LAST-MODIFIED:20240616T082916Z
UID:56947-1718820000-1718825400@a-desk.org
SUMMARY:"Ciencia de las ciudades: imaginando futuros" Ramon Gras
DESCRIPTION:
URL:https://a-desk.org/en/agenda/ciencia-de-las-ciudades-imaginando-futuros-ramon-gras/
LOCATION:Editorial Gustavo Gili\, Rosselló\, 87-89\, Barcelona\, Barcelona\, 08029\, España
CATEGORIES:Conference,Presentació de llibre
END:VEVENT
BEGIN:VEVENT
DTSTART;TZID=Europe/Madrid:20240619T183000
DTEND;TZID=Europe/Madrid:20240619T210000
DTSTAMP:20260423T214000
CREATED:20240616T083524Z
LAST-MODIFIED:20240616T083524Z
UID:56953-1718821800-1718830800@a-desk.org
SUMMARY:“Teatre Studium” Lluís Masriera
DESCRIPTION:
URL:https://a-desk.org/en/agenda/teatre-studium-lluis-masriera/
LOCATION:La Casa Elizalde\, C/ València\, 302\, 08009 Barcelona mapa\, Barcelona\, Barcelona\, 08009\, Spain
CATEGORIES:Conference
END:VEVENT
BEGIN:VEVENT
DTSTART;TZID=Europe/Madrid:20240619T190000
DTEND;TZID=Europe/Madrid:20240619T190000
DTSTAMP:20260423T214000
CREATED:20240616T082539Z
LAST-MODIFIED:20240616T082539Z
UID:56943-1718823600-1718823600@a-desk.org
SUMMARY:"El tiempo se detiene" Sarah Moon
DESCRIPTION:
URL:https://a-desk.org/en/agenda/el-tiempo-se-detiene-sarah-moon/
LOCATION:Fundació Foto Colectania\, Passeig de Picasso\, 14\, 08003 Barcelona mapa\, Barcelona\, Barcelona\, 08003\, Spain
CATEGORIES:Inauguració/Exposició
END:VEVENT
BEGIN:VEVENT
DTSTART;TZID=Europe/Madrid:20240619T190000
DTEND;TZID=Europe/Madrid:20240619T190000
DTSTAMP:20260423T214000
CREATED:20240616T083141Z
LAST-MODIFIED:20240619T093742Z
UID:56949-1718823600-1718823600@a-desk.org
SUMMARY:Taula rodona: Jeff Wall\, Custodia Moreno\, Josep Maria Cuenca i Miquel Molina
DESCRIPTION:
URL:https://a-desk.org/en/agenda/taula-rodona-jeff-wall-custodia-moreno-josep-maria-cuenca-i-miquel-molina/
LOCATION:Biblioteca Juan Marsé-El Carmel\, Carrer de la Murtra\, 135\, 145\, Horta-Guinardó\, 08032 Barcelona
CATEGORIES:Taula rodona
END:VEVENT
BEGIN:VEVENT
DTSTART;TZID=Europe/Madrid:20240619T200000
DTEND;TZID=Europe/Madrid:20240619T200000
DTSTAMP:20260423T214000
CREATED:20240616T082706Z
LAST-MODIFIED:20240616T082706Z
UID:56945-1718827200-1718827200@a-desk.org
SUMMARY:“Maintenance” Cristina Reid
DESCRIPTION:
URL:https://a-desk.org/en/agenda/maintenance-cristina-reid/
LOCATION:Souvenir\, Travessia de Sant Antoni\, 27\, 08012 Barcelona mapa\, Barcelona\, Barcelona\, 08012\, Spain
CATEGORIES:Inauguració/Exposició
END:VEVENT
BEGIN:VEVENT
DTSTART;TZID=Europe/Madrid:20240619T200000
DTEND;TZID=Europe/Madrid:20240619T200000
DTSTAMP:20260423T214000
CREATED:20240616T083730Z
LAST-MODIFIED:20240616T083730Z
UID:56955-1718827200-1718827200@a-desk.org
SUMMARY:El Desplume
DESCRIPTION:
URL:https://a-desk.org/en/agenda/el-desplume-7/
LOCATION:Antic Teatre\, C/ Verdaguer i Callís\, 12\, Barcelona\, Barcelona\, 08003\, España
CATEGORIES:Cabaret
END:VEVENT
BEGIN:VEVENT
DTSTART;TZID=Europe/Madrid:20240619T203000
DTEND;TZID=Europe/Madrid:20240619T203000
DTSTAMP:20260423T214000
CREATED:20240616T083337Z
LAST-MODIFIED:20240616T083337Z
UID:56951-1718829000-1718829000@a-desk.org
SUMMARY:“Villa" Guillemo Calderón
DESCRIPTION:
URL:https://a-desk.org/en/agenda/villa-guillemo-calderon/
LOCATION:Sala Beckett\, C/ Pere IV\, 228\, 232\, 08005 Barcelona mapa\, Barcelona\, Barcelona\, 08005\, Spain
CATEGORIES:Teatre
END:VEVENT
END:VCALENDAR