BEGIN:VCALENDAR
VERSION:2.0
PRODID:-//A*Desk - ECPv6.8.1//NONSGML v1.0//EN
CALSCALE:GREGORIAN
METHOD:PUBLISH
X-ORIGINAL-URL:https://a-desk.org/en/
X-WR-CALDESC:Events for A*Desk
REFRESH-INTERVAL;VALUE=DURATION:PT1H
X-Robots-Tag:noindex
X-PUBLISHED-TTL:PT1H
BEGIN:VTIMEZONE
TZID:Europe/Madrid
BEGIN:DAYLIGHT
TZOFFSETFROM:+0100
TZOFFSETTO:+0200
TZNAME:CEST
DTSTART:20240331T010000
END:DAYLIGHT
BEGIN:STANDARD
TZOFFSETFROM:+0200
TZOFFSETTO:+0100
TZNAME:CET
DTSTART:20241027T010000
END:STANDARD
BEGIN:DAYLIGHT
TZOFFSETFROM:+0100
TZOFFSETTO:+0200
TZNAME:CEST
DTSTART:20250330T010000
END:DAYLIGHT
BEGIN:STANDARD
TZOFFSETFROM:+0200
TZOFFSETTO:+0100
TZNAME:CET
DTSTART:20251026T010000
END:STANDARD
END:VTIMEZONE
BEGIN:VEVENT
DTSTART;TZID=Europe/Madrid:20240202T110000
DTEND;TZID=Europe/Madrid:20240714T140000
DTSTAMP:20260423T225352
CREATED:20240126T103144Z
LAST-MODIFIED:20240126T103144Z
UID:53401-1706871600-1720965600@a-desk.org
SUMMARY:"Anònims" Susana Solano
DESCRIPTION:
URL:https://a-desk.org/en/agenda/anonims-susana-solano-2/
LOCATION:Fundació Vila Casas. Espais Volart\, C/ Ausiàs Marc\, 22\, 08010 Barcelona mapa\, Barcelona\, Barcelona\, 08010\, Spain
CATEGORIES:Exposició
END:VEVENT
BEGIN:VEVENT
DTSTART;TZID=Europe/Madrid:20240202T110000
DTEND;TZID=Europe/Madrid:20240714T140000
DTSTAMP:20260423T225352
CREATED:20240201T093228Z
LAST-MODIFIED:20240201T093228Z
UID:53693-1706871600-1720965600@a-desk.org
SUMMARY:"Anònims" Susana Solano
DESCRIPTION:
URL:https://a-desk.org/en/agenda/anonims-susana-solano-4/
LOCATION:Fundació Vila Casas. Espais Volart\, C/ Ausiàs Marc\, 22\, 08010 Barcelona mapa\, Barcelona\, Barcelona\, 08010\, Spain
CATEGORIES:Exposició
END:VEVENT
BEGIN:VEVENT
DTSTART;TZID=Europe/Madrid:20240210T110000
DTEND;TZID=Europe/Madrid:20250301T193000
DTSTAMP:20260423T225352
CREATED:20240123T113352Z
LAST-MODIFIED:20240123T113352Z
UID:53216-1707562800-1740857400@a-desk.org
SUMMARY:"[contra]panorama" VV.AA
DESCRIPTION:
URL:https://a-desk.org/en/agenda/contrapanorama-vv-aa/
LOCATION:MACBA\, Plaça dels Àngels\, 1\, 08001 Barcelona mapa\, Barcelona\, Barcelona\, 08001\, Spain
CATEGORIES:Activitat,Cicle,Diàleg,Exposició,Mostra,Recerca
END:VEVENT
BEGIN:VEVENT
DTSTART;VALUE=DATE:20240528
DTEND;VALUE=DATE:20240711
DTSTAMP:20260423T225352
CREATED:20240518T162750Z
LAST-MODIFIED:20240518T162750Z
UID:56339-1716854400-1720655999@a-desk.org
SUMMARY:Primavera Fotogràfica 2024
DESCRIPTION:
URL:https://a-desk.org/en/agenda/primavera-fotografica-2024-16/
LOCATION:MNAC\, Palau Nacional\, Parc de Montjuïc\, s/n\, 08038 Barcelona mapa\, Barcelona\, Barcelona\, 08038\, Spain
CATEGORIES:Festival,Fotografia
END:VEVENT
BEGIN:VEVENT
DTSTART;VALUE=DATE:20240531
DTEND;VALUE=DATE:20240715
DTSTAMP:20260423T225352
CREATED:20240530T202627Z
LAST-MODIFIED:20240530T202627Z
UID:56608-1717113600-1721001599@a-desk.org
SUMMARY:LUMÍNIC  2024
DESCRIPTION:
URL:https://a-desk.org/en/agenda/luminic-2024/
LOCATION:Barcelona
CATEGORIES:Festival
END:VEVENT
BEGIN:VEVENT
DTSTART;TZID=Europe/Madrid:20240620T090000
DTEND;TZID=Europe/Madrid:20240620T133000
DTSTAMP:20260423T225352
CREATED:20240616T084938Z
LAST-MODIFIED:20240616T084938Z
UID:56966-1718874000-1718890200@a-desk.org
SUMMARY:L'artesania a l'actualitat | Conferència Anual del Consell Europeu de l'Artesania
DESCRIPTION:
URL:https://a-desk.org/en/agenda/lartesania-a-lactualitat-conferencia-anual-del-consell-europeu-de-lartesania/
LOCATION:Disseny Hub\, Pl. de las Glories Catalanes\, 37-38\, 08018 Barcelona mapa\, Barcelona\, Barcelona\, 08018\, Spain
CATEGORIES:Conference
END:VEVENT
BEGIN:VEVENT
DTSTART;TZID=Europe/Madrid:20240620T173000
DTEND;TZID=Europe/Madrid:20240620T173000
DTSTAMP:20260423T225352
CREATED:20240618T102116Z
LAST-MODIFIED:20240618T102116Z
UID:57035-1718904600-1718904600@a-desk.org
SUMMARY:Activació de “The Paint by Number Museum (A Reader)” per Rafel G. Bianchi
DESCRIPTION:
URL:https://a-desk.org/en/agenda/activacio-de-the-paint-by-number-museum-a-reader-per-rafel-g-bianchi/
LOCATION:La Capella\, C/ Hospital\, 56\, Barcelona\, Barcelona\, 08001
CATEGORIES:Lectura,Presentació
END:VEVENT
BEGIN:VEVENT
DTSTART;TZID=Europe/Madrid:20240620T180000
DTEND;TZID=Europe/Madrid:20240620T180000
DTSTAMP:20260423T225352
CREATED:20240616T084050Z
LAST-MODIFIED:20240616T084050Z
UID:56959-1718906400-1718906400@a-desk.org
SUMMARY:“Elisava: El Bosc”
DESCRIPTION:
URL:https://a-desk.org/en/agenda/elisava-el-bosc/
LOCATION:Fundació Vila Casas. Can Framis\, C/ Roc Boronat\, 116\, 126\, 08018 Barcelona mapa\, Barcelona\, Barcelona\, 08018\, Spain
CATEGORIES:Inauguració/Exposició
END:VEVENT
BEGIN:VEVENT
DTSTART;TZID=Europe/Madrid:20240620T180000
DTEND;TZID=Europe/Madrid:20240620T180000
DTSTAMP:20260423T225352
CREATED:20240618T100204Z
LAST-MODIFIED:20240618T100204Z
UID:57026-1718906400-1718906400@a-desk.org
SUMMARY:“Collserola i els seus artistes”
DESCRIPTION:
URL:https://a-desk.org/en/agenda/collserola-i-els-seus-artistes/
LOCATION:Galeria Canals\, Carrer d'Orient\, 24\, Sant Cugat del Vallès\, Barcelona\, 08172\, España
CATEGORIES:Inauguració/Exposició
END:VEVENT
BEGIN:VEVENT
DTSTART;TZID=Europe/Madrid:20240620T180000
DTEND;TZID=Europe/Madrid:20240620T200000
DTSTAMP:20260423T225352
CREATED:20240616T085656Z
LAST-MODIFIED:20240616T085656Z
UID:56973-1718906400-1718913600@a-desk.org
SUMMARY:“Vinader: un viaje interplanetario” Daniel Cao
DESCRIPTION:
URL:https://a-desk.org/en/agenda/vinader-un-viaje-interplanetario-daniel-cao/
LOCATION:Centre Cívic Convent de Sant Agustí\, C/ del Comerç\, 36\, Barcelona\, Barcelona\, 08003\, España
CATEGORIES:Audiovisual,Inauguració
END:VEVENT
BEGIN:VEVENT
DTSTART;TZID=Europe/Madrid:20240620T180000
DTEND;TZID=Europe/Madrid:20240620T200000
DTSTAMP:20260423T225352
CREATED:20240618T095619Z
LAST-MODIFIED:20240618T095619Z
UID:57020-1718906400-1718913600@a-desk.org
SUMMARY:SocialFestBcn – Art i Salut Art com a mitjà de sanació amb concert vibracional
DESCRIPTION:
URL:https://a-desk.org/en/agenda/socialfestbcn-art-i-salut-art-com-a-mitja-de-sanacio-amb-concert-vibracional/
LOCATION:Santa Mònica\, La Rambla\, 7\, 08002 Barcelona mapa\, Barcelona\, Barcelona\, 08002\, Spain
CATEGORIES:Concert,Taula rodona
END:VEVENT
BEGIN:VEVENT
DTSTART;TZID=Europe/Madrid:20240620T183000
DTEND;TZID=Europe/Madrid:20240620T203000
DTSTAMP:20260423T225352
CREATED:20240616T085917Z
LAST-MODIFIED:20240616T085947Z
UID:56975-1718908200-1718915400@a-desk.org
SUMMARY:Hito Steyerl\, Nausikaä El-Mecky i Maria Alekhina “Art i llibertat”
DESCRIPTION:
URL:https://a-desk.org/en/agenda/hito-steyerl-nausikaa-el-mecky-i-maria-alekhina-art-i-llibertat/
LOCATION:CCCB\, C/ Montalegre\, 5\, 08001 Barcelona mapa\, Barcelona\, Barcelona\, 08001\, Spain
CATEGORIES:Conference,Debat
END:VEVENT
BEGIN:VEVENT
DTSTART;TZID=Europe/Madrid:20240620T190000
DTEND;TZID=Europe/Madrid:20240620T190000
DTSTAMP:20260423T225352
CREATED:20240616T085450Z
LAST-MODIFIED:20240616T085450Z
UID:56971-1718910000-1718910000@a-desk.org
SUMMARY:Inauguració del Festival Llimonades
DESCRIPTION:
URL:https://a-desk.org/en/agenda/inauguracio-del-festival-llimonades/
LOCATION:CC Pati Llimona\, C/ Regomir\, 3\, 08002 Barcelona mapa\, Barcelona\, Barcelona\, 08002\, Spain
CATEGORIES:Festival
END:VEVENT
BEGIN:VEVENT
DTSTART;TZID=Europe/Madrid:20240620T190000
DTEND;TZID=Europe/Madrid:20240620T190000
DTSTAMP:20260423T225352
CREATED:20240619T094439Z
LAST-MODIFIED:20240619T094439Z
UID:57052-1718910000-1718910000@a-desk.org
SUMMARY:Dijous de veu i paraula Yo sé perder\, amb la Compañía La Soledad
DESCRIPTION:
URL:https://a-desk.org/en/agenda/dijous-de-veu-i-paraula-yo-se-perder-amb-la-compania-la-soledad/
LOCATION:Santa Mònica\, La Rambla\, 7\, 08002 Barcelona mapa\, Barcelona\, Barcelona\, 08002\, Spain
CATEGORIES:Teatre
END:VEVENT
BEGIN:VEVENT
DTSTART;TZID=Europe/Madrid:20240620T193000
DTEND;TZID=Europe/Madrid:20240620T193000
DTSTAMP:20260423T225352
CREATED:20240616T083859Z
LAST-MODIFIED:20240616T083859Z
UID:56957-1718911800-1718911800@a-desk.org
SUMMARY:“Una ciutat desconeguda sota la boira. Noves imatges de la Barcelona dels barris”
DESCRIPTION:
URL:https://a-desk.org/en/agenda/una-ciutat-desconeguda-sota-la-boira-noves-imatges-de-la-barcelona-dels-barris/
LOCATION:MACBA\, Plaça dels Àngels\, 1\, 08001 Barcelona mapa\, Barcelona\, Barcelona\, 08001\, Spain
CATEGORIES:Inauguració/Exposició
END:VEVENT
BEGIN:VEVENT
DTSTART;TZID=Europe/Madrid:20240620T203000
DTEND;TZID=Europe/Madrid:20240620T203000
DTSTAMP:20260423T225352
CREATED:20240616T084501Z
LAST-MODIFIED:20240616T084501Z
UID:56961-1718915400-1718915400@a-desk.org
SUMMARY:4X4: Perfona de Julia Barbany
DESCRIPTION:
URL:https://a-desk.org/en/agenda/4x4-perfona-de-julia-barbany/
LOCATION:Sala Taro\, C/ de Rossend Arús\, 9\, Sants-Montjuïc\, 08014 Barcelona
CATEGORIES:Performance
END:VEVENT
END:VCALENDAR