BEGIN:VCALENDAR
VERSION:2.0
PRODID:-//A*Desk - ECPv6.8.1//NONSGML v1.0//EN
CALSCALE:GREGORIAN
METHOD:PUBLISH
X-WR-CALNAME:A*Desk
X-ORIGINAL-URL:https://a-desk.org/en/
X-WR-CALDESC:Events for A*Desk
REFRESH-INTERVAL;VALUE=DURATION:PT1H
X-Robots-Tag:noindex
X-PUBLISHED-TTL:PT1H
BEGIN:VTIMEZONE
TZID:Europe/Madrid
BEGIN:DAYLIGHT
TZOFFSETFROM:+0100
TZOFFSETTO:+0200
TZNAME:CEST
DTSTART:20240331T010000
END:DAYLIGHT
BEGIN:STANDARD
TZOFFSETFROM:+0200
TZOFFSETTO:+0100
TZNAME:CET
DTSTART:20241027T010000
END:STANDARD
BEGIN:DAYLIGHT
TZOFFSETFROM:+0100
TZOFFSETTO:+0200
TZNAME:CEST
DTSTART:20250330T010000
END:DAYLIGHT
BEGIN:STANDARD
TZOFFSETFROM:+0200
TZOFFSETTO:+0100
TZNAME:CET
DTSTART:20251026T010000
END:STANDARD
END:VTIMEZONE
BEGIN:VEVENT
DTSTART;TZID=Europe/Madrid:20240202T110000
DTEND;TZID=Europe/Madrid:20240714T140000
DTSTAMP:20260424T084506
CREATED:20240126T103144Z
LAST-MODIFIED:20240126T103144Z
UID:53401-1706871600-1720965600@a-desk.org
SUMMARY:"Anònims" Susana Solano
DESCRIPTION:
URL:https://a-desk.org/en/agenda/anonims-susana-solano-2/
LOCATION:Fundació Vila Casas. Espais Volart\, C/ Ausiàs Marc\, 22\, 08010 Barcelona mapa\, Barcelona\, Barcelona\, 08010\, Spain
CATEGORIES:Exposició
END:VEVENT
BEGIN:VEVENT
DTSTART;TZID=Europe/Madrid:20240202T110000
DTEND;TZID=Europe/Madrid:20240714T140000
DTSTAMP:20260424T084506
CREATED:20240201T093228Z
LAST-MODIFIED:20240201T093228Z
UID:53693-1706871600-1720965600@a-desk.org
SUMMARY:"Anònims" Susana Solano
DESCRIPTION:
URL:https://a-desk.org/en/agenda/anonims-susana-solano-4/
LOCATION:Fundació Vila Casas. Espais Volart\, C/ Ausiàs Marc\, 22\, 08010 Barcelona mapa\, Barcelona\, Barcelona\, 08010\, Spain
CATEGORIES:Exposició
END:VEVENT
BEGIN:VEVENT
DTSTART;TZID=Europe/Madrid:20240210T110000
DTEND;TZID=Europe/Madrid:20250301T193000
DTSTAMP:20260424T084506
CREATED:20240123T113352Z
LAST-MODIFIED:20240123T113352Z
UID:53216-1707562800-1740857400@a-desk.org
SUMMARY:"[contra]panorama" VV.AA
DESCRIPTION:
URL:https://a-desk.org/en/agenda/contrapanorama-vv-aa/
LOCATION:MACBA\, Plaça dels Àngels\, 1\, 08001 Barcelona mapa\, Barcelona\, Barcelona\, 08001\, Spain
CATEGORIES:Activitat,Cicle,Diàleg,Exposició,Mostra,Recerca
END:VEVENT
BEGIN:VEVENT
DTSTART;VALUE=DATE:20240528
DTEND;VALUE=DATE:20240711
DTSTAMP:20260424T084506
CREATED:20240518T162750Z
LAST-MODIFIED:20240518T162750Z
UID:56339-1716854400-1720655999@a-desk.org
SUMMARY:Primavera Fotogràfica 2024
DESCRIPTION:
URL:https://a-desk.org/en/agenda/primavera-fotografica-2024-16/
LOCATION:MNAC\, Palau Nacional\, Parc de Montjuïc\, s/n\, 08038 Barcelona mapa\, Barcelona\, Barcelona\, 08038\, Spain
CATEGORIES:Festival,Fotografia
END:VEVENT
BEGIN:VEVENT
DTSTART;VALUE=DATE:20240531
DTEND;VALUE=DATE:20240715
DTSTAMP:20260424T084506
CREATED:20240530T202627Z
LAST-MODIFIED:20240530T202627Z
UID:56608-1717113600-1721001599@a-desk.org
SUMMARY:LUMÍNIC  2024
DESCRIPTION:
URL:https://a-desk.org/en/agenda/luminic-2024/
LOCATION:Barcelona
CATEGORIES:Festival
END:VEVENT
BEGIN:VEVENT
DTSTART;VALUE=DATE:20240626
DTEND;VALUE=DATE:20240805
DTSTAMP:20260424T084506
CREATED:20240616T091037Z
LAST-MODIFIED:20240701T101947Z
UID:56989-1719360000-1722815999@a-desk.org
SUMMARY:Grec Festival 2024
DESCRIPTION:
URL:https://a-desk.org/en/agenda/grec-fesitval-2024/
LOCATION:Barcelona
CATEGORIES:Festival,Teatre
END:VEVENT
BEGIN:VEVENT
DTSTART;TZID=Europe/Madrid:20240628T170000
DTEND;TZID=Europe/Madrid:20240628T170000
DTSTAMP:20260424T084507
CREATED:20240622T141320Z
LAST-MODIFIED:20240622T141320Z
UID:57147-1719594000-1719594000@a-desk.org
SUMMARY:Invocacions. Programa d’encanteris\, conjurs i oracles / Acte II
DESCRIPTION:
URL:https://a-desk.org/en/agenda/invocacions-programa-dencanteris-conjurs-i-oracles-acte-ii/
LOCATION:MACBA\, Plaça dels Àngels\, 1\, 08001 Barcelona mapa\, Barcelona\, Barcelona\, 08001\, Spain
CATEGORIES:Activitat
END:VEVENT
BEGIN:VEVENT
DTSTART;TZID=Europe/Madrid:20240628T170000
DTEND;TZID=Europe/Madrid:20240628T200000
DTSTAMP:20260424T084507
CREATED:20240109T105938Z
LAST-MODIFIED:20240109T105938Z
UID:52706-1719594000-1719604800@a-desk.org
SUMMARY:"Escola de Context. Transmaricabollo" Daniel Gasol
DESCRIPTION:
URL:https://a-desk.org/en/agenda/escola-de-context-transmaricabollo-daniel-gasol-9/
LOCATION:La Capella\, C/ Hospital\, 56\, Barcelona\, Barcelona\, 08001
CATEGORIES:Cicle,Conversa,Recerca,Taula rodona,Trobada
END:VEVENT
BEGIN:VEVENT
DTSTART;TZID=Europe/Madrid:20240628T180000
DTEND;TZID=Europe/Madrid:20240628T200000
DTSTAMP:20260424T084507
CREATED:20240622T141023Z
LAST-MODIFIED:20240622T141023Z
UID:57143-1719597600-1719604800@a-desk.org
SUMMARY:Inauguració Escola Brossa
DESCRIPTION:
URL:https://a-desk.org/en/agenda/inauguracio-escola-brossa/
LOCATION:Fundació Joan Brossa\, C/ Flassaders\, 40\, 08003 Barcelona mapa\, Barcelona\, Barcelona\, 08003\, Spain
CATEGORIES:Inauguració
END:VEVENT
BEGIN:VEVENT
DTSTART;TZID=Europe/Madrid:20240628T190000
DTEND;TZID=Europe/Madrid:20240628T190000
DTSTAMP:20260424T084507
CREATED:20240622T141437Z
LAST-MODIFIED:20240622T141437Z
UID:57149-1719601200-1719601200@a-desk.org
SUMMARY:“Festa Particular” Ana Jotta & Jorge Nesbitt
DESCRIPTION:
URL:https://a-desk.org/en/agenda/festa-particular-ana-jotta-jorge-nesbitt/
LOCATION:Projecte SD\, Ptge. de Mercader\, 8\, 08008 Barcelona mapa\, Barcelona\, Barcelona\, 08008
CATEGORIES:Inauguració/Exposició
END:VEVENT
BEGIN:VEVENT
DTSTART;TZID=Europe/Madrid:20240628T190000
DTEND;TZID=Europe/Madrid:20240628T190000
DTSTAMP:20260424T084507
CREATED:20240625T083329Z
LAST-MODIFIED:20240625T083329Z
UID:57212-1719601200-1719601200@a-desk.org
SUMMARY:Warren Walker / Antonin Violot
DESCRIPTION:
URL:https://a-desk.org/en/agenda/warren-walker-antonin-violot/
LOCATION:jamboree\, Pl. Reial\, 17\, Ciutat Vella\, 08002 Barcelona
CATEGORIES:Concert
END:VEVENT
BEGIN:VEVENT
DTSTART;TZID=Europe/Madrid:20240628T193000
DTEND;TZID=Europe/Madrid:20240628T193000
DTSTAMP:20260424T084507
CREATED:20240622T140717Z
LAST-MODIFIED:20240622T140717Z
UID:57141-1719603000-1719603000@a-desk.org
SUMMARY:"In situ o la desesperació per la insaciabilitat de connectar amb algú al s.xxi" Cia. La espina
DESCRIPTION:
URL:https://a-desk.org/en/agenda/in-situ-o-la-desesperacio-per-la-insaciabilitat-de-connectar-amb-algu-al-s-xxi-cia-la-espina/
LOCATION:CC Can Felipa\, Pl. Josep Mª Huertas Claveria\, Barcelona\, Barcelona\, 08005\, España
CATEGORIES:Arts escèniques
END:VEVENT
BEGIN:VEVENT
DTSTART;TZID=Europe/Madrid:20240628T200000
DTEND;TZID=Europe/Madrid:20240628T200000
DTSTAMP:20260424T084507
CREATED:20240622T141213Z
LAST-MODIFIED:20240622T141213Z
UID:57145-1719604800-1719604800@a-desk.org
SUMMARY:“La paella dels dijous”
DESCRIPTION:
URL:https://a-desk.org/en/agenda/la-paella-dels-dijous/
LOCATION:Espai Texas\, C/ de Bailèn\, 205\, Gràcia\, Barcelona\, Barcelona\, 08037\, España
CATEGORIES:Teatre
END:VEVENT
BEGIN:VEVENT
DTSTART;TZID=Europe/Madrid:20240628T223000
DTEND;TZID=Europe/Madrid:20240628T223000
DTSTAMP:20260424T084507
CREATED:20240626T092604Z
LAST-MODIFIED:20240626T092604Z
UID:57241-1719613800-1719613800@a-desk.org
SUMMARY:CLAMOUR: orgullo y catarsis electrónica
DESCRIPTION:
URL:https://a-desk.org/en/agenda/clamour-orgullo-y-catarsis-electronica/
LOCATION:Sala Paral·lel 62\, Av. del Paral·lel\, 62\, 08001 Barcelona mapa\, Barcelona\, Barcelona\, 08001\, Spain
CATEGORIES:Música
END:VEVENT
END:VCALENDAR