BEGIN:VCALENDAR
VERSION:2.0
PRODID:-//A*Desk - ECPv6.8.1//NONSGML v1.0//EN
CALSCALE:GREGORIAN
METHOD:PUBLISH
X-ORIGINAL-URL:https://a-desk.org/en/
X-WR-CALDESC:Events for A*Desk
REFRESH-INTERVAL;VALUE=DURATION:PT1H
X-Robots-Tag:noindex
X-PUBLISHED-TTL:PT1H
BEGIN:VTIMEZONE
TZID:Europe/Madrid
BEGIN:DAYLIGHT
TZOFFSETFROM:+0100
TZOFFSETTO:+0200
TZNAME:CEST
DTSTART:20240331T010000
END:DAYLIGHT
BEGIN:STANDARD
TZOFFSETFROM:+0200
TZOFFSETTO:+0100
TZNAME:CET
DTSTART:20241027T010000
END:STANDARD
BEGIN:DAYLIGHT
TZOFFSETFROM:+0100
TZOFFSETTO:+0200
TZNAME:CEST
DTSTART:20250330T010000
END:DAYLIGHT
BEGIN:STANDARD
TZOFFSETFROM:+0200
TZOFFSETTO:+0100
TZNAME:CET
DTSTART:20251026T010000
END:STANDARD
END:VTIMEZONE
BEGIN:VEVENT
DTSTART;TZID=Europe/Madrid:20240202T110000
DTEND;TZID=Europe/Madrid:20240714T140000
DTSTAMP:20260424T100118
CREATED:20240126T103144Z
LAST-MODIFIED:20240126T103144Z
UID:53401-1706871600-1720965600@a-desk.org
SUMMARY:"Anònims" Susana Solano
DESCRIPTION:
URL:https://a-desk.org/en/agenda/anonims-susana-solano-2/
LOCATION:Fundació Vila Casas. Espais Volart\, C/ Ausiàs Marc\, 22\, 08010 Barcelona mapa\, Barcelona\, Barcelona\, 08010\, Spain
CATEGORIES:Exposició
END:VEVENT
BEGIN:VEVENT
DTSTART;TZID=Europe/Madrid:20240202T110000
DTEND;TZID=Europe/Madrid:20240714T140000
DTSTAMP:20260424T100118
CREATED:20240201T093228Z
LAST-MODIFIED:20240201T093228Z
UID:53693-1706871600-1720965600@a-desk.org
SUMMARY:"Anònims" Susana Solano
DESCRIPTION:
URL:https://a-desk.org/en/agenda/anonims-susana-solano-4/
LOCATION:Fundació Vila Casas. Espais Volart\, C/ Ausiàs Marc\, 22\, 08010 Barcelona mapa\, Barcelona\, Barcelona\, 08010\, Spain
CATEGORIES:Exposició
END:VEVENT
BEGIN:VEVENT
DTSTART;TZID=Europe/Madrid:20240210T110000
DTEND;TZID=Europe/Madrid:20250301T193000
DTSTAMP:20260424T100118
CREATED:20240123T113352Z
LAST-MODIFIED:20240123T113352Z
UID:53216-1707562800-1740857400@a-desk.org
SUMMARY:"[contra]panorama" VV.AA
DESCRIPTION:
URL:https://a-desk.org/en/agenda/contrapanorama-vv-aa/
LOCATION:MACBA\, Plaça dels Àngels\, 1\, 08001 Barcelona mapa\, Barcelona\, Barcelona\, 08001\, Spain
CATEGORIES:Activitat,Cicle,Diàleg,Exposició,Mostra,Recerca
END:VEVENT
BEGIN:VEVENT
DTSTART;VALUE=DATE:20240528
DTEND;VALUE=DATE:20240711
DTSTAMP:20260424T100118
CREATED:20240518T162750Z
LAST-MODIFIED:20240518T162750Z
UID:56339-1716854400-1720655999@a-desk.org
SUMMARY:Primavera Fotogràfica 2024
DESCRIPTION:
URL:https://a-desk.org/en/agenda/primavera-fotografica-2024-16/
LOCATION:MNAC\, Palau Nacional\, Parc de Montjuïc\, s/n\, 08038 Barcelona mapa\, Barcelona\, Barcelona\, 08038\, Spain
CATEGORIES:Festival,Fotografia
END:VEVENT
BEGIN:VEVENT
DTSTART;VALUE=DATE:20240531
DTEND;VALUE=DATE:20240715
DTSTAMP:20260424T100118
CREATED:20240530T202627Z
LAST-MODIFIED:20240530T202627Z
UID:56608-1717113600-1721001599@a-desk.org
SUMMARY:LUMÍNIC  2024
DESCRIPTION:
URL:https://a-desk.org/en/agenda/luminic-2024/
LOCATION:Barcelona
CATEGORIES:Festival
END:VEVENT
BEGIN:VEVENT
DTSTART;VALUE=DATE:20240626
DTEND;VALUE=DATE:20240805
DTSTAMP:20260424T100118
CREATED:20240616T091037Z
LAST-MODIFIED:20240701T101947Z
UID:56989-1719360000-1722815999@a-desk.org
SUMMARY:Grec Festival 2024
DESCRIPTION:
URL:https://a-desk.org/en/agenda/grec-fesitval-2024/
LOCATION:Barcelona
CATEGORIES:Festival,Teatre
END:VEVENT
BEGIN:VEVENT
DTSTART;TZID=Europe/Madrid:20240629T103000
DTEND;TZID=Europe/Madrid:20240629T103000
DTSTAMP:20260424T100118
CREATED:20240622T143023Z
LAST-MODIFIED:20240622T143023Z
UID:57159-1719657000-1719657000@a-desk.org
SUMMARY:Festival Bone x Iklectik
DESCRIPTION:
URL:https://a-desk.org/en/agenda/festival-bone-x-iklectik/
LOCATION:Barcelona
CATEGORIES:Festival,Música
END:VEVENT
BEGIN:VEVENT
DTSTART;TZID=Europe/Madrid:20240629T110000
DTEND;TZID=Europe/Madrid:20240629T110000
DTSTAMP:20260424T100118
CREATED:20240622T144250Z
LAST-MODIFIED:20240622T144450Z
UID:57169-1719658800-1719658800@a-desk.org
SUMMARY:“Ruta sobre perifèries” Oscar Guayabero
DESCRIPTION:
URL:https://a-desk.org/en/agenda/ruta-sobre-periferies-oscar-guayabero/
LOCATION:Plaça de Terenci Moix\, Ciutat Vella\, 08001 Barcelona
CATEGORIES:Ruta
END:VEVENT
BEGIN:VEVENT
DTSTART;TZID=Europe/Madrid:20240629T120000
DTEND;TZID=Europe/Madrid:20240629T120000
DTSTAMP:20260424T100118
CREATED:20240622T143349Z
LAST-MODIFIED:20240622T143349Z
UID:57162-1719662400-1719662400@a-desk.org
SUMMARY:“Tan lluny\, tan a prop” Leopold Samsó
DESCRIPTION:
URL:https://a-desk.org/en/agenda/tan-lluny-tan-a-prop-leopold-samso/
LOCATION:Fundació Vila Casas. Palau Solterra\, Carrer de l'Església\, 10\, Torroella de Montgrí\, Girona\, 17257\, España
CATEGORIES:Inauguració/Exposició
END:VEVENT
BEGIN:VEVENT
DTSTART;TZID=Europe/Madrid:20240629T120000
DTEND;TZID=Europe/Madrid:20240629T140000
DTSTAMP:20260424T100118
CREATED:20240622T144044Z
LAST-MODIFIED:20240622T144044Z
UID:57167-1719662400-1719669600@a-desk.org
SUMMARY:“La festa del llagostí” Neus Masdeu
DESCRIPTION:
URL:https://a-desk.org/en/agenda/la-festa-del-llagosti-neus-masdeu/
LOCATION:Fundació Joan Brossa\, C/ Flassaders\, 40\, 08003 Barcelona mapa\, Barcelona\, Barcelona\, 08003\, Spain
CATEGORIES:Espectacle,Performance
END:VEVENT
BEGIN:VEVENT
DTSTART;TZID=Europe/Madrid:20240629T120000
DTEND;TZID=Europe/Madrid:20240629T220000
DTSTAMP:20260424T100118
CREATED:20240622T141950Z
LAST-MODIFIED:20240622T141950Z
UID:57153-1719662400-1719698400@a-desk.org
SUMMARY:Boombeta 2024
DESCRIPTION:
URL:https://a-desk.org/en/agenda/boombeta-2024/
LOCATION:Jardins dels Drets Humans de la Marina\, C Foneria\, 19\, Barcelona\, Barcelona\, España
CATEGORIES:Arts en viu,Cicle
END:VEVENT
BEGIN:VEVENT
DTSTART;TZID=Europe/Madrid:20240629T170000
DTEND;TZID=Europe/Madrid:20240629T170000
DTSTAMP:20260424T100118
CREATED:20240622T144834Z
LAST-MODIFIED:20240622T144834Z
UID:57172-1719680400-1719680400@a-desk.org
SUMMARY:“Sobretaula. Una festa x cinc cèntims”
DESCRIPTION:
URL:https://a-desk.org/en/agenda/sobretaula-una-festa-x-cinc-centims/
LOCATION:Fundació Joan Brossa\, C/ Flassaders\, 40\, 08003 Barcelona mapa\, Barcelona\, Barcelona\, 08003\, Spain
CATEGORIES:Conversa,intervenció
END:VEVENT
BEGIN:VEVENT
DTSTART;TZID=Europe/Madrid:20240629T180000
DTEND;TZID=Europe/Madrid:20240629T190000
DTSTAMP:20260424T100118
CREATED:20240622T142202Z
LAST-MODIFIED:20240622T142202Z
UID:57156-1719684000-1719687600@a-desk.org
SUMMARY:Qui tem la ideologia?
DESCRIPTION:
URL:https://a-desk.org/en/agenda/qui-tem-la-ideologia/
LOCATION:Fundación Joan Miró\, Parc de Montjuïc\, s/n\, 08038 Barcelona mapa\, Barcelona\, Barcelona\, 08038\, Spain
CATEGORIES:Col·loqui,Projecció
END:VEVENT
BEGIN:VEVENT
DTSTART;TZID=Europe/Madrid:20240629T210000
DTEND;TZID=Europe/Madrid:20240629T210000
DTSTAMP:20260424T100118
CREATED:20240622T143634Z
LAST-MODIFIED:20240622T143808Z
UID:57164-1719694800-1719694800@a-desk.org
SUMMARY:“Stripart”
DESCRIPTION:
URL:https://a-desk.org/en/agenda/stripart/
LOCATION:CC Guinardó\, Ronda del Guinardó\, 113\, 08041 Barcelona mapa\, Barcelona\, Barcelona\, 08041\, Spain
CATEGORIES:Festival
END:VEVENT
BEGIN:VEVENT
DTSTART;TZID=Europe/Madrid:20240629T220000
DTEND;TZID=Europe/Madrid:20240629T230000
DTSTAMP:20260424T100118
CREATED:20240624T125849Z
LAST-MODIFIED:20240624T125849Z
UID:57207-1719698400-1719702000@a-desk.org
SUMMARY:“Otra serenata” visita nocturna con Anna Dot
DESCRIPTION:
URL:https://a-desk.org/en/agenda/otra-serenata-visita-nocturna-con-anna-dot/
LOCATION:Palau de la Música\, C/ Palau de la Música\, 4-6\, Barcelona\, Barcelona\, 08003\, España
CATEGORIES:Guided tour
END:VEVENT
END:VCALENDAR