BEGIN:VCALENDAR
VERSION:2.0
PRODID:-//A*Desk - ECPv6.8.1//NONSGML v1.0//EN
CALSCALE:GREGORIAN
METHOD:PUBLISH
X-WR-CALNAME:A*Desk
X-ORIGINAL-URL:https://a-desk.org/en/
X-WR-CALDESC:Events for A*Desk
REFRESH-INTERVAL;VALUE=DURATION:PT1H
X-Robots-Tag:noindex
X-PUBLISHED-TTL:PT1H
BEGIN:VTIMEZONE
TZID:Europe/Madrid
BEGIN:DAYLIGHT
TZOFFSETFROM:+0100
TZOFFSETTO:+0200
TZNAME:CEST
DTSTART:20240331T010000
END:DAYLIGHT
BEGIN:STANDARD
TZOFFSETFROM:+0200
TZOFFSETTO:+0100
TZNAME:CET
DTSTART:20241027T010000
END:STANDARD
BEGIN:DAYLIGHT
TZOFFSETFROM:+0100
TZOFFSETTO:+0200
TZNAME:CEST
DTSTART:20250330T010000
END:DAYLIGHT
BEGIN:STANDARD
TZOFFSETFROM:+0200
TZOFFSETTO:+0100
TZNAME:CET
DTSTART:20251026T010000
END:STANDARD
END:VTIMEZONE
BEGIN:VEVENT
DTSTART;TZID=Europe/Madrid:20240202T110000
DTEND;TZID=Europe/Madrid:20240714T140000
DTSTAMP:20260424T174928
CREATED:20240126T103144Z
LAST-MODIFIED:20240126T103144Z
UID:53401-1706871600-1720965600@a-desk.org
SUMMARY:"Anònims" Susana Solano
DESCRIPTION:
URL:https://a-desk.org/en/agenda/anonims-susana-solano-2/
LOCATION:Fundació Vila Casas. Espais Volart\, C/ Ausiàs Marc\, 22\, 08010 Barcelona mapa\, Barcelona\, Barcelona\, 08010\, Spain
CATEGORIES:Exposició
END:VEVENT
BEGIN:VEVENT
DTSTART;TZID=Europe/Madrid:20240202T110000
DTEND;TZID=Europe/Madrid:20240714T140000
DTSTAMP:20260424T174928
CREATED:20240201T093228Z
LAST-MODIFIED:20240201T093228Z
UID:53693-1706871600-1720965600@a-desk.org
SUMMARY:"Anònims" Susana Solano
DESCRIPTION:
URL:https://a-desk.org/en/agenda/anonims-susana-solano-4/
LOCATION:Fundació Vila Casas. Espais Volart\, C/ Ausiàs Marc\, 22\, 08010 Barcelona mapa\, Barcelona\, Barcelona\, 08010\, Spain
CATEGORIES:Exposició
END:VEVENT
BEGIN:VEVENT
DTSTART;TZID=Europe/Madrid:20240210T110000
DTEND;TZID=Europe/Madrid:20250301T193000
DTSTAMP:20260424T174928
CREATED:20240123T113352Z
LAST-MODIFIED:20240123T113352Z
UID:53216-1707562800-1740857400@a-desk.org
SUMMARY:"[contra]panorama" VV.AA
DESCRIPTION:
URL:https://a-desk.org/en/agenda/contrapanorama-vv-aa/
LOCATION:MACBA\, Plaça dels Àngels\, 1\, 08001 Barcelona mapa\, Barcelona\, Barcelona\, 08001\, Spain
CATEGORIES:Activitat,Cicle,Diàleg,Exposició,Mostra,Recerca
END:VEVENT
BEGIN:VEVENT
DTSTART;VALUE=DATE:20240528
DTEND;VALUE=DATE:20240711
DTSTAMP:20260424T174928
CREATED:20240518T162750Z
LAST-MODIFIED:20240518T162750Z
UID:56339-1716854400-1720655999@a-desk.org
SUMMARY:Primavera Fotogràfica 2024
DESCRIPTION:
URL:https://a-desk.org/en/agenda/primavera-fotografica-2024-16/
LOCATION:MNAC\, Palau Nacional\, Parc de Montjuïc\, s/n\, 08038 Barcelona mapa\, Barcelona\, Barcelona\, 08038\, Spain
CATEGORIES:Festival,Fotografia
END:VEVENT
BEGIN:VEVENT
DTSTART;VALUE=DATE:20240531
DTEND;VALUE=DATE:20240715
DTSTAMP:20260424T174928
CREATED:20240530T202627Z
LAST-MODIFIED:20240530T202627Z
UID:56608-1717113600-1721001599@a-desk.org
SUMMARY:LUMÍNIC  2024
DESCRIPTION:
URL:https://a-desk.org/en/agenda/luminic-2024/
LOCATION:Barcelona
CATEGORIES:Festival
END:VEVENT
BEGIN:VEVENT
DTSTART;VALUE=DATE:20240626
DTEND;VALUE=DATE:20240805
DTSTAMP:20260424T174928
CREATED:20240616T091037Z
LAST-MODIFIED:20240701T101947Z
UID:56989-1719360000-1722815999@a-desk.org
SUMMARY:Grec Festival 2024
DESCRIPTION:
URL:https://a-desk.org/en/agenda/grec-fesitval-2024/
LOCATION:Barcelona
CATEGORIES:Festival,Teatre
END:VEVENT
BEGIN:VEVENT
DTSTART;TZID=Europe/Madrid:20240705T093000
DTEND;TZID=Europe/Madrid:20240705T140000
DTSTAMP:20260424T174928
CREATED:20240627T190949Z
LAST-MODIFIED:20240627T190949Z
UID:57388-1720171800-1720188000@a-desk.org
SUMMARY:"Idees per rescatar el futur. 20 anys d’universitat popular"
DESCRIPTION:
URL:https://a-desk.org/en/agenda/idees-per-rescatar-el-futur-20-anys-duniversitat-popular-3/
LOCATION:Sala Brigades Internacionals de la UGT de Catalunya\, Rambla Santa Mònica\, 10\, Barcelona.
CATEGORIES:Jornada
END:VEVENT
BEGIN:VEVENT
DTSTART;TZID=Europe/Madrid:20240705T120000
DTEND;TZID=Europe/Madrid:20240705T120000
DTSTAMP:20260424T174928
CREATED:20240630T135110Z
LAST-MODIFIED:20240630T135110Z
UID:57510-1720180800-1720180800@a-desk.org
SUMMARY:Visita comentada "Givers\, takers and lovers" Jone Erzilla
DESCRIPTION:
URL:https://a-desk.org/en/agenda/visita-comentada-givers-takers-and-lovers-jone-erzilla/
LOCATION:CC Can Felipa\, Pl. Josep Mª Huertas Claveria\, Barcelona\, Barcelona\, 08005\, España
CATEGORIES:Guided tour
END:VEVENT
BEGIN:VEVENT
DTSTART;TZID=Europe/Madrid:20240705T180000
DTEND;TZID=Europe/Madrid:20240705T230000
DTSTAMP:20260424T174928
CREATED:20240628T095439Z
LAST-MODIFIED:20240628T095439Z
UID:57432-1720202400-1720220400@a-desk.org
SUMMARY:Festival Ex Abrupto
DESCRIPTION:
URL:https://a-desk.org/en/agenda/festival-ex-abrupto/
LOCATION:Barcelona
CATEGORIES:Festival
END:VEVENT
BEGIN:VEVENT
DTSTART;TZID=Europe/Madrid:20240705T190000
DTEND;TZID=Europe/Madrid:20240705T200000
DTSTAMP:20260424T174928
CREATED:20240629T122806Z
LAST-MODIFIED:20240629T122806Z
UID:57461-1720206000-1720209600@a-desk.org
SUMMARY:"Anita Margarita" Anna Roura Fortet
DESCRIPTION:
URL:https://a-desk.org/en/agenda/anita-margarita-anna-roura-fortet/
LOCATION:(A)parador22\, C/ de les Hortes\, 22\, Girona\, Girona\, 17001\, España
CATEGORIES:Inauguració/Exposició
END:VEVENT
BEGIN:VEVENT
DTSTART;TZID=Europe/Madrid:20240705T190000
DTEND;TZID=Europe/Madrid:20240705T203000
DTSTAMP:20260424T174928
CREATED:20240629T122609Z
LAST-MODIFIED:20240629T122609Z
UID:57457-1720206000-1720211400@a-desk.org
SUMMARY:"L'idiota" Javier Peñafiel
DESCRIPTION:
URL:https://a-desk.org/en/agenda/lidiota-javier-penafiel/
LOCATION:Bòlit. Centre d’Art Contemporani Girona\, Rambla de la Llibertat\, 1\, Girona\, Girona\, 17004\, España
CATEGORIES:Inauguració/Exposició
END:VEVENT
BEGIN:VEVENT
DTSTART;TZID=Europe/Madrid:20240705T190000
DTEND;TZID=Europe/Madrid:20240705T203000
DTSTAMP:20260424T174928
CREATED:20240629T130034Z
LAST-MODIFIED:20240629T130034Z
UID:57491-1720206000-1720211400@a-desk.org
SUMMARY:Ralph Moore Quartet
DESCRIPTION:
URL:https://a-desk.org/en/agenda/ralph-moore-quartet/
LOCATION:jamboree\, Pl. Reial\, 17\, Ciutat Vella\, 08002 Barcelona
CATEGORIES:Concert
END:VEVENT
BEGIN:VEVENT
DTSTART;TZID=Europe/Madrid:20240705T193000
DTEND;TZID=Europe/Madrid:20240705T193000
DTSTAMP:20260424T174928
CREATED:20240630T133354Z
LAST-MODIFIED:20240630T133841Z
UID:57502-1720207800-1720207800@a-desk.org
SUMMARY:"Revelar el mural" Mohamed L’Ghacham
DESCRIPTION:
URL:https://a-desk.org/en/agenda/revelar-el-mural-mohamed-lghacham/
LOCATION:La Presó. M|A|C\, Muralla de la Presó\, 2\, 08302 Mataró\, Barcelona
CATEGORIES:Inauguració/Exposició
END:VEVENT
BEGIN:VEVENT
DTSTART;TZID=Europe/Madrid:20240705T200000
DTEND;TZID=Europe/Madrid:20240705T210000
DTSTAMP:20260424T174928
CREATED:20240628T094323Z
LAST-MODIFIED:20240628T094323Z
UID:57422-1720209600-1720213200@a-desk.org
SUMMARY:“CAÍN loops i did it again” Nina Orsini
DESCRIPTION:
URL:https://a-desk.org/en/agenda/cain-loops-i-did-it-again-nina-orsini/
LOCATION:Antic Teatre\, C/ Verdaguer i Callís\, 12\, Barcelona\, Barcelona\, 08003\, España
CATEGORIES:Teatre
END:VEVENT
BEGIN:VEVENT
DTSTART;TZID=Europe/Madrid:20240705T200000
DTEND;TZID=Europe/Madrid:20240705T220000
DTSTAMP:20260424T174928
CREATED:20240629T122403Z
LAST-MODIFIED:20240629T122403Z
UID:57454-1720209600-1720216800@a-desk.org
SUMMARY:“Bruixes de Barcelona. Dones i persecució en època moderna”
DESCRIPTION:
URL:https://a-desk.org/en/agenda/bruixes-de-barcelona-dones-i-persecucio-en-epoca-moderna/
LOCATION:El Born CCM\, Plaça Comercial\, 12\, 08003 Barcelona mapa\, Barcelona\, Barcelona\, 08003\, Spain
CATEGORIES:Itinerari
END:VEVENT
END:VCALENDAR