BEGIN:VCALENDAR
VERSION:2.0
PRODID:-//A*Desk - ECPv6.8.1//NONSGML v1.0//EN
CALSCALE:GREGORIAN
METHOD:PUBLISH
X-WR-CALNAME:A*Desk
X-ORIGINAL-URL:https://a-desk.org/en/
X-WR-CALDESC:Events for A*Desk
REFRESH-INTERVAL;VALUE=DURATION:PT1H
X-Robots-Tag:noindex
X-PUBLISHED-TTL:PT1H
BEGIN:VTIMEZONE
TZID:Europe/Madrid
BEGIN:DAYLIGHT
TZOFFSETFROM:+0100
TZOFFSETTO:+0200
TZNAME:CEST
DTSTART:20240331T010000
END:DAYLIGHT
BEGIN:STANDARD
TZOFFSETFROM:+0200
TZOFFSETTO:+0100
TZNAME:CET
DTSTART:20241027T010000
END:STANDARD
BEGIN:DAYLIGHT
TZOFFSETFROM:+0100
TZOFFSETTO:+0200
TZNAME:CEST
DTSTART:20250330T010000
END:DAYLIGHT
BEGIN:STANDARD
TZOFFSETFROM:+0200
TZOFFSETTO:+0100
TZNAME:CET
DTSTART:20251026T010000
END:STANDARD
END:VTIMEZONE
BEGIN:VEVENT
DTSTART;TZID=Europe/Madrid:20240202T110000
DTEND;TZID=Europe/Madrid:20240714T140000
DTSTAMP:20260424T212538
CREATED:20240126T103144Z
LAST-MODIFIED:20240126T103144Z
UID:53401-1706871600-1720965600@a-desk.org
SUMMARY:"Anònims" Susana Solano
DESCRIPTION:
URL:https://a-desk.org/en/agenda/anonims-susana-solano-2/
LOCATION:Fundació Vila Casas. Espais Volart\, C/ Ausiàs Marc\, 22\, 08010 Barcelona mapa\, Barcelona\, Barcelona\, 08010\, Spain
CATEGORIES:Exposició
END:VEVENT
BEGIN:VEVENT
DTSTART;TZID=Europe/Madrid:20240202T110000
DTEND;TZID=Europe/Madrid:20240714T140000
DTSTAMP:20260424T212538
CREATED:20240201T093228Z
LAST-MODIFIED:20240201T093228Z
UID:53693-1706871600-1720965600@a-desk.org
SUMMARY:"Anònims" Susana Solano
DESCRIPTION:
URL:https://a-desk.org/en/agenda/anonims-susana-solano-4/
LOCATION:Fundació Vila Casas. Espais Volart\, C/ Ausiàs Marc\, 22\, 08010 Barcelona mapa\, Barcelona\, Barcelona\, 08010\, Spain
CATEGORIES:Exposició
END:VEVENT
BEGIN:VEVENT
DTSTART;TZID=Europe/Madrid:20240210T110000
DTEND;TZID=Europe/Madrid:20250301T193000
DTSTAMP:20260424T212538
CREATED:20240123T113352Z
LAST-MODIFIED:20240123T113352Z
UID:53216-1707562800-1740857400@a-desk.org
SUMMARY:"[contra]panorama" VV.AA
DESCRIPTION:
URL:https://a-desk.org/en/agenda/contrapanorama-vv-aa/
LOCATION:MACBA\, Plaça dels Àngels\, 1\, 08001 Barcelona mapa\, Barcelona\, Barcelona\, 08001\, Spain
CATEGORIES:Activitat,Cicle,Diàleg,Exposició,Mostra,Recerca
END:VEVENT
BEGIN:VEVENT
DTSTART;VALUE=DATE:20240528
DTEND;VALUE=DATE:20240711
DTSTAMP:20260424T212538
CREATED:20240518T162750Z
LAST-MODIFIED:20240518T162750Z
UID:56339-1716854400-1720655999@a-desk.org
SUMMARY:Primavera Fotogràfica 2024
DESCRIPTION:
URL:https://a-desk.org/en/agenda/primavera-fotografica-2024-16/
LOCATION:MNAC\, Palau Nacional\, Parc de Montjuïc\, s/n\, 08038 Barcelona mapa\, Barcelona\, Barcelona\, 08038\, Spain
CATEGORIES:Festival,Fotografia
END:VEVENT
BEGIN:VEVENT
DTSTART;VALUE=DATE:20240531
DTEND;VALUE=DATE:20240715
DTSTAMP:20260424T212538
CREATED:20240530T202627Z
LAST-MODIFIED:20240530T202627Z
UID:56608-1717113600-1721001599@a-desk.org
SUMMARY:LUMÍNIC  2024
DESCRIPTION:
URL:https://a-desk.org/en/agenda/luminic-2024/
LOCATION:Barcelona
CATEGORIES:Festival
END:VEVENT
BEGIN:VEVENT
DTSTART;VALUE=DATE:20240626
DTEND;VALUE=DATE:20240805
DTSTAMP:20260424T212538
CREATED:20240616T091037Z
LAST-MODIFIED:20240701T101947Z
UID:56989-1719360000-1722815999@a-desk.org
SUMMARY:Grec Festival 2024
DESCRIPTION:
URL:https://a-desk.org/en/agenda/grec-fesitval-2024/
LOCATION:Barcelona
CATEGORIES:Festival,Teatre
END:VEVENT
BEGIN:VEVENT
DTSTART;TZID=Europe/Madrid:20240708T160000
DTEND;TZID=Europe/Madrid:20240708T160000
DTSTAMP:20260424T212538
CREATED:20240629T125350Z
LAST-MODIFIED:20240629T125350Z
UID:57487-1720454400-1720454400@a-desk.org
SUMMARY:“Cultura i medicina. El sofriment com a focus”
DESCRIPTION:
URL:https://a-desk.org/en/agenda/cultura-i-medicina-el-sofriment-com-a-focus/
LOCATION:Fundació Vila Casas. Espais Volart\, C/ Ausiàs Marc\, 22\, 08010 Barcelona mapa\, Barcelona\, Barcelona\, 08010\, Spain
CATEGORIES:Debat,Diàleg
END:VEVENT
BEGIN:VEVENT
DTSTART;TZID=Europe/Madrid:20240708T170000
DTEND;TZID=Europe/Madrid:20240708T200000
DTSTAMP:20260424T212538
CREATED:20240630T132256Z
LAST-MODIFIED:20240701T104715Z
UID:57496-1720458000-1720468800@a-desk.org
SUMMARY:“Contra sus muros: Nuestra revuelta es existir. Indústria de fronteres com a sistema de tancament”
DESCRIPTION:
URL:https://a-desk.org/en/agenda/lumbre-migrante/
LOCATION:Monument a Colom\, Plaça Portal de la Pau\, s/n\, Barcelona\, Barcelona\, 08001\, España
CATEGORIES:Ruta
END:VEVENT
BEGIN:VEVENT
DTSTART;TZID=Europe/Madrid:20240708T180000
DTEND;TZID=Europe/Madrid:20240708T180000
DTSTAMP:20260424T212538
CREATED:20240629T125223Z
LAST-MODIFIED:20240629T125223Z
UID:57485-1720461600-1720461600@a-desk.org
SUMMARY:“La Ilusión de la abundància” Erika González Ramírez\, Mattihieu Lietaert
DESCRIPTION:
URL:https://a-desk.org/en/agenda/la-ilusion-de-la-abundancia-erika-gonzalez-ramirez-mattihieu-lietaert/
LOCATION:Zumzeig\, C/ Béjar\, 53\, 08014 Barcelona mapa\, Barcelona\, Barcelona\, 08014\, Spain
CATEGORIES:Projecció
END:VEVENT
BEGIN:VEVENT
DTSTART;TZID=Europe/Madrid:20240708T181500
DTEND;TZID=Europe/Madrid:20240708T181500
DTSTAMP:20260424T212538
CREATED:20240704T133215Z
LAST-MODIFIED:20240704T133455Z
UID:57769-1720462500-1720462500@a-desk.org
SUMMARY:Presentació del llibre “10 anys de teatre a Mallorca (2013-2023)
DESCRIPTION:
URL:https://a-desk.org/en/agenda/un-cafe-amb-pablo-remon-obrador-estiu/
LOCATION:Sala Beckett\, C/ Pere IV\, 228\, 232\, 08005 Barcelona mapa\, Barcelona\, Barcelona\, 08005\, Spain
CATEGORIES:Conversa
END:VEVENT
BEGIN:VEVENT
DTSTART;TZID=Europe/Madrid:20240708T183000
DTEND;TZID=Europe/Madrid:20240708T200000
DTSTAMP:20260424T212538
CREATED:20240701T130727Z
LAST-MODIFIED:20240701T130727Z
UID:57606-1720463400-1720468800@a-desk.org
SUMMARY:Curs intensiu Juliol: Improvització des del llenguatge del moviment
DESCRIPTION:
URL:https://a-desk.org/en/agenda/curs-intensiu-juliol-improvitzacio-des-del-llenguatge-del-moviment/
LOCATION:La Visiva\, C/ de Sepúlveda\, 85\, L'Eixample\, 08015 Barcelona
CATEGORIES:Curs
END:VEVENT
BEGIN:VEVENT
DTSTART;TZID=Europe/Madrid:20240708T190000
DTEND;TZID=Europe/Madrid:20240708T190000
DTSTAMP:20260424T212538
CREATED:20240629T124940Z
LAST-MODIFIED:20240629T124940Z
UID:57481-1720465200-1720465200@a-desk.org
SUMMARY:“Hijas de la Nakba: Voces de mujeres palestines” Estel·la Vidal
DESCRIPTION:
URL:https://a-desk.org/en/agenda/hijas-de-la-nakba-voces-de-mujeres-palestines-estel%c2%b7la-vidal/
LOCATION:Llibreria Finestres\, C/ Diputació\, 249\, 08007 Barcelona mapa\, Barcelona\, Barcelona\, 08007\, Spain
CATEGORIES:Diàleg,Presentació de llibre
END:VEVENT
BEGIN:VEVENT
DTSTART;TZID=Europe/Madrid:20240708T190000
DTEND;TZID=Europe/Madrid:20240708T190000
DTSTAMP:20260424T212538
CREATED:20240701T171350Z
LAST-MODIFIED:20240701T171800Z
UID:57652-1720465200-1720465200@a-desk.org
SUMMARY:III Edició Festival de poesia Maregassa: Clara Fiol Dols\, Anna Gual
DESCRIPTION:
URL:https://a-desk.org/en/agenda/iii-edicio-festival-de-poesia-maregassa/
LOCATION:Ona Llibres\, C/ Pau Claris\, 94\, 08010 Barcelona mapa\, Barcelona\, Barcelona\, 08010\, Spain
CATEGORIES:Poetry,Trobada
END:VEVENT
BEGIN:VEVENT
DTSTART;TZID=Europe/Madrid:20240708T190000
DTEND;TZID=Europe/Madrid:20240708T210000
DTSTAMP:20260424T212538
CREATED:20240702T133623Z
LAST-MODIFIED:20240702T133623Z
UID:57681-1720465200-1720472400@a-desk.org
SUMMARY:“Un tòtem per al barri” Pep Walls
DESCRIPTION:
URL:https://a-desk.org/en/agenda/un-totem-per-al-barri-pep-walls/
LOCATION:Plaça d’Empúries\, 17005 Girona
CATEGORIES:Joc
END:VEVENT
BEGIN:VEVENT
DTSTART;TZID=Europe/Madrid:20240708T193000
DTEND;TZID=Europe/Madrid:20240708T193000
DTSTAMP:20260424T212538
CREATED:20240701T140423Z
LAST-MODIFIED:20240701T140636Z
UID:57628-1720467000-1720467000@a-desk.org
SUMMARY:DRAGMAS CAP.06: PUPI POISSON
DESCRIPTION:
URL:https://a-desk.org/en/agenda/dragmas-el-podcast-cap-06/
LOCATION:Sala Paral·lel 62\, Av. del Paral·lel\, 62\, 08001 Barcelona mapa\, Barcelona\, Barcelona\, 08001\, Spain
CATEGORIES:Pòdcast en directe
END:VEVENT
BEGIN:VEVENT
DTSTART;TZID=Europe/Madrid:20240708T210000
DTEND;TZID=Europe/Madrid:20240708T210000
DTSTAMP:20260424T212538
CREATED:20240629T125058Z
LAST-MODIFIED:20240629T125058Z
UID:57483-1720472400-1720472400@a-desk.org
SUMMARY:“Un cuerpo sin talento” Monte Isla
DESCRIPTION:
URL:https://a-desk.org/en/agenda/un-cuerpo-sin-talento-monte-isla/
LOCATION:Mercat de les Flors\, C/ Lleida\, 59\, 08004 Barcelona mapa\, Barcelona\, Barcelona\, 08004\, Spain
CATEGORIES:Espectacle
END:VEVENT
END:VCALENDAR