BEGIN:VCALENDAR
VERSION:2.0
PRODID:-//A*Desk - ECPv6.8.1//NONSGML v1.0//EN
CALSCALE:GREGORIAN
METHOD:PUBLISH
X-ORIGINAL-URL:https://a-desk.org/en/
X-WR-CALDESC:Events for A*Desk
REFRESH-INTERVAL;VALUE=DURATION:PT1H
X-Robots-Tag:noindex
X-PUBLISHED-TTL:PT1H
BEGIN:VTIMEZONE
TZID:Europe/Madrid
BEGIN:DAYLIGHT
TZOFFSETFROM:+0100
TZOFFSETTO:+0200
TZNAME:CEST
DTSTART:20240331T010000
END:DAYLIGHT
BEGIN:STANDARD
TZOFFSETFROM:+0200
TZOFFSETTO:+0100
TZNAME:CET
DTSTART:20241027T010000
END:STANDARD
BEGIN:DAYLIGHT
TZOFFSETFROM:+0100
TZOFFSETTO:+0200
TZNAME:CEST
DTSTART:20250330T010000
END:DAYLIGHT
BEGIN:STANDARD
TZOFFSETFROM:+0200
TZOFFSETTO:+0100
TZNAME:CET
DTSTART:20251026T010000
END:STANDARD
END:VTIMEZONE
BEGIN:VEVENT
DTSTART;TZID=Europe/Madrid:20240202T110000
DTEND;TZID=Europe/Madrid:20240714T140000
DTSTAMP:20260424T234928
CREATED:20240126T103144Z
LAST-MODIFIED:20240126T103144Z
UID:53401-1706871600-1720965600@a-desk.org
SUMMARY:"Anònims" Susana Solano
DESCRIPTION:
URL:https://a-desk.org/en/agenda/anonims-susana-solano-2/
LOCATION:Fundació Vila Casas. Espais Volart\, C/ Ausiàs Marc\, 22\, 08010 Barcelona mapa\, Barcelona\, Barcelona\, 08010\, Spain
CATEGORIES:Exposició
END:VEVENT
BEGIN:VEVENT
DTSTART;TZID=Europe/Madrid:20240202T110000
DTEND;TZID=Europe/Madrid:20240714T140000
DTSTAMP:20260424T234928
CREATED:20240201T093228Z
LAST-MODIFIED:20240201T093228Z
UID:53693-1706871600-1720965600@a-desk.org
SUMMARY:"Anònims" Susana Solano
DESCRIPTION:
URL:https://a-desk.org/en/agenda/anonims-susana-solano-4/
LOCATION:Fundació Vila Casas. Espais Volart\, C/ Ausiàs Marc\, 22\, 08010 Barcelona mapa\, Barcelona\, Barcelona\, 08010\, Spain
CATEGORIES:Exposició
END:VEVENT
BEGIN:VEVENT
DTSTART;TZID=Europe/Madrid:20240210T110000
DTEND;TZID=Europe/Madrid:20250301T193000
DTSTAMP:20260424T234928
CREATED:20240123T113352Z
LAST-MODIFIED:20240123T113352Z
UID:53216-1707562800-1740857400@a-desk.org
SUMMARY:"[contra]panorama" VV.AA
DESCRIPTION:
URL:https://a-desk.org/en/agenda/contrapanorama-vv-aa/
LOCATION:MACBA\, Plaça dels Àngels\, 1\, 08001 Barcelona mapa\, Barcelona\, Barcelona\, 08001\, Spain
CATEGORIES:Activitat,Cicle,Diàleg,Exposició,Mostra,Recerca
END:VEVENT
BEGIN:VEVENT
DTSTART;VALUE=DATE:20240528
DTEND;VALUE=DATE:20240711
DTSTAMP:20260424T234928
CREATED:20240518T162750Z
LAST-MODIFIED:20240518T162750Z
UID:56339-1716854400-1720655999@a-desk.org
SUMMARY:Primavera Fotogràfica 2024
DESCRIPTION:
URL:https://a-desk.org/en/agenda/primavera-fotografica-2024-16/
LOCATION:MNAC\, Palau Nacional\, Parc de Montjuïc\, s/n\, 08038 Barcelona mapa\, Barcelona\, Barcelona\, 08038\, Spain
CATEGORIES:Festival,Fotografia
END:VEVENT
BEGIN:VEVENT
DTSTART;VALUE=DATE:20240531
DTEND;VALUE=DATE:20240715
DTSTAMP:20260424T234928
CREATED:20240530T202627Z
LAST-MODIFIED:20240530T202627Z
UID:56608-1717113600-1721001599@a-desk.org
SUMMARY:LUMÍNIC  2024
DESCRIPTION:
URL:https://a-desk.org/en/agenda/luminic-2024/
LOCATION:Barcelona
CATEGORIES:Festival
END:VEVENT
BEGIN:VEVENT
DTSTART;VALUE=DATE:20240626
DTEND;VALUE=DATE:20240805
DTSTAMP:20260424T234928
CREATED:20240616T091037Z
LAST-MODIFIED:20240701T101947Z
UID:56989-1719360000-1722815999@a-desk.org
SUMMARY:Grec Festival 2024
DESCRIPTION:
URL:https://a-desk.org/en/agenda/grec-fesitval-2024/
LOCATION:Barcelona
CATEGORIES:Festival,Teatre
END:VEVENT
BEGIN:VEVENT
DTSTART;VALUE=DATE:20240710
DTEND;VALUE=DATE:20240711
DTSTAMP:20260424T234928
CREATED:20240701T112237Z
LAST-MODIFIED:20240701T112237Z
UID:57548-1720569600-1720655999@a-desk.org
SUMMARY:Festival Cruïlla 2024
DESCRIPTION:
URL:https://a-desk.org/en/agenda/festival-cruilla-2024/
LOCATION:Parc del Fòrum\, Carrer de la Pau\, 12\, Barcelona\, Barcelona\, 08930\, España
CATEGORIES:Festival
END:VEVENT
BEGIN:VEVENT
DTSTART;TZID=Europe/Madrid:20240710T090000
DTEND;TZID=Europe/Madrid:20240710T203000
DTSTAMP:20260424T234928
CREATED:20240704T151615Z
LAST-MODIFIED:20240704T151646Z
UID:57801-1720602000-1720643400@a-desk.org
SUMMARY:RE-ART: Exposición de Arte Sostenible
DESCRIPTION:
URL:https://a-desk.org/en/agenda/re-art-exposicion-de-arte-sostenible/
LOCATION:Casa Seat\, Passeig de Gràcia\, 109\, Barcelona\, Barcelona\, 08008\, España
CATEGORIES:Exposició
END:VEVENT
BEGIN:VEVENT
DTSTART;TZID=Europe/Madrid:20240710T160000
DTEND;TZID=Europe/Madrid:20240710T160000
DTSTAMP:20260424T234928
CREATED:20240702T125326Z
LAST-MODIFIED:20240702T125326Z
UID:57677-1720627200-1720627200@a-desk.org
SUMMARY:«Subúrbia» per a persones amb ceguesa o baixa visió
DESCRIPTION:
URL:https://a-desk.org/en/agenda/suburbia-per-a-persones-amb-ceguesa-o-baixa-visio/
LOCATION:CCCB\, C/ Montalegre\, 5\, 08001 Barcelona mapa\, Barcelona\, Barcelona\, 08001\, Spain
CATEGORIES:Guided tour
END:VEVENT
BEGIN:VEVENT
DTSTART;TZID=Europe/Madrid:20240710T183000
DTEND;TZID=Europe/Madrid:20240710T183000
DTSTAMP:20260424T234928
CREATED:20240701T111956Z
LAST-MODIFIED:20240701T111956Z
UID:57531-1720636200-1720636200@a-desk.org
SUMMARY:Visita comentada “Arxiu Cabanyal. A la memòria del lloc” amb Joana Hurtado
DESCRIPTION:
URL:https://a-desk.org/en/agenda/visita-comentada-arxiu-cabanyal-a-la-memoria-del-lloc-amb-joana-hurtado/
LOCATION:Fabra i Coats\, C/ Sant Adrià\, 20\, 08030 Barcelona mapa\, Barcelona\, Barcelona\, 08030\, Spain
CATEGORIES:Guided tour
END:VEVENT
BEGIN:VEVENT
DTSTART;TZID=Europe/Madrid:20240710T183000
DTEND;TZID=Europe/Madrid:20240710T183000
DTSTAMP:20260424T234928
CREATED:20240704T141750Z
LAST-MODIFIED:20240704T141750Z
UID:57777-1720636200-1720636200@a-desk.org
SUMMARY:Art Ferran Freixa. La poètica de l'espai - Taula Rodona: Marc Vidal\, Marina Freixa\, Pep Rigol
DESCRIPTION:
URL:https://a-desk.org/en/agenda/art-ferran-freixa-la-poetica-de-lespai-taula-rodona-marc-vidal-marina-freixa-pep-rigol/
LOCATION:Artur Ramon Art\, C/ de Bailèn\, 19\, Barcelona\, Barcelona\, 08010\, España
CATEGORIES:Taula rodona
END:VEVENT
BEGIN:VEVENT
DTSTART;TZID=Europe/Madrid:20240710T183000
DTEND;TZID=Europe/Madrid:20240710T203000
DTSTAMP:20260424T234928
CREATED:20240702T130006Z
LAST-MODIFIED:20240702T130006Z
UID:57679-1720636200-1720643400@a-desk.org
SUMMARY:Las imágenes de la histeria
DESCRIPTION:
URL:https://a-desk.org/en/agenda/las-imagenes-de-la-histeria/
LOCATION:Barcelona
CATEGORIES:Curs
END:VEVENT
BEGIN:VEVENT
DTSTART;TZID=Europe/Madrid:20240710T183000
DTEND;TZID=Europe/Madrid:20240710T210000
DTSTAMP:20260424T234928
CREATED:20240704T150714Z
LAST-MODIFIED:20240704T150714Z
UID:57799-1720636200-1720645200@a-desk.org
SUMMARY:Abans de passar a la història (hem de sobreviure): I. Composició de classe. Sessió 2.
DESCRIPTION:
URL:https://a-desk.org/en/agenda/abans-de-passar-a-la-historia-hem-de-sobreviure-i-composicio-de-classe-sessio-2/
LOCATION:MACBA\, Plaça dels Àngels\, 1\, 08001 Barcelona mapa\, Barcelona\, Barcelona\, 08001\, Spain
CATEGORIES:Arts en viu,Conference,Curs,Música
END:VEVENT
BEGIN:VEVENT
DTSTART;TZID=Europe/Madrid:20240710T190000
DTEND;TZID=Europe/Madrid:20240710T190000
DTSTAMP:20260424T234928
CREATED:20240701T171723Z
LAST-MODIFIED:20240701T171723Z
UID:57656-1720638000-1720638000@a-desk.org
SUMMARY:III Edició Festival de poesia Maregassa: Odile Arqué\, Eduard Sanahuja
DESCRIPTION:
URL:https://a-desk.org/en/agenda/iii-edicio-festival-de-poesia-maregassa-odile-arque-eduard-sanahuja/
LOCATION:Ona Llibres\, C/ Pau Claris\, 94\, 08010 Barcelona mapa\, Barcelona\, Barcelona\, 08010\, Spain
CATEGORIES:Poetry,Trobada
END:VEVENT
BEGIN:VEVENT
DTSTART;TZID=Europe/Madrid:20240710T190000
DTEND;TZID=Europe/Madrid:20240710T190000
DTSTAMP:20260424T234928
CREATED:20240704T143935Z
LAST-MODIFIED:20240704T143935Z
UID:57785-1720638000-1720638000@a-desk.org
SUMMARY:MAGBa_Mostra d’Art Generatiu de Barcelona
DESCRIPTION:
URL:https://a-desk.org/en/agenda/magba_mostra-dart-generatiu-de-barcelona/
LOCATION:Fundació Palo Alto\, Carrer dels Pellaires\, 30 - 38\, Sant Martí\, 08019 Barcelona
CATEGORIES:Inauguració/Exposició
END:VEVENT
BEGIN:VEVENT
DTSTART;TZID=Europe/Madrid:20240710T190000
DTEND;TZID=Europe/Madrid:20240710T190000
DTSTAMP:20260424T234928
CREATED:20240704T145527Z
LAST-MODIFIED:20240704T145527Z
UID:57794-1720638000-1720638000@a-desk.org
SUMMARY:RCR Programa Obert: "El cos i la ciutat" Hygor Mel\, Michail Rybakov
DESCRIPTION:
URL:https://a-desk.org/en/agenda/rcr-programa-obert-el-cos-i-la-ciutat-hygor-mel-michail-rybakov/
LOCATION:Pati de l’Hospici\, 17800 Olot\, Girona
CATEGORIES:Conference
END:VEVENT
BEGIN:VEVENT
DTSTART;TZID=Europe/Madrid:20240710T190000
DTEND;TZID=Europe/Madrid:20240710T190000
DTSTAMP:20260424T234928
CREATED:20240704T162725Z
LAST-MODIFIED:20240704T162725Z
UID:57807-1720638000-1720638000@a-desk.org
SUMMARY:“What the foc?!” Gerardo Salinas\, Junior Mthombeni
DESCRIPTION:
URL:https://a-desk.org/en/agenda/what-the-foc-gerardo-salinas-junior-mthombeni-2/
LOCATION:TNC\, Plaça de les Arts\, 1\, L'Eixample\, Barcelona\, Barcelona\, 08013\, España
CATEGORIES:Teatre
END:VEVENT
BEGIN:VEVENT
DTSTART;TZID=Europe/Madrid:20240710T190000
DTEND;TZID=Europe/Madrid:20240710T210000
DTSTAMP:20260424T234928
CREATED:20240702T124705Z
LAST-MODIFIED:20240702T124705Z
UID:57673-1720638000-1720645200@a-desk.org
SUMMARY:“The flesh”  Conversa entre Yves B. Golden i Pablo Mera
DESCRIPTION:
URL:https://a-desk.org/en/agenda/the-flesh-conversa-entre-yves-b-golden-i-pablo-mera/
LOCATION:La Escocesa\, C/ Pere IV\, 345\, 08020 Barcelona mapa\, Barcelona\, Barcelona\, 08020\, Spain
CATEGORIES:Conversa,Presentació
END:VEVENT
BEGIN:VEVENT
DTSTART;TZID=Europe/Madrid:20240710T190000
DTEND;TZID=Europe/Madrid:20240710T210000
DTSTAMP:20260424T234928
CREATED:20240702T133838Z
LAST-MODIFIED:20240702T133838Z
UID:57686-1720638000-1720645200@a-desk.org
SUMMARY:“Un tòtem per al barri” Pep Walls
DESCRIPTION:
URL:https://a-desk.org/en/agenda/un-totem-per-al-barri-pep-walls-3/
LOCATION:Plaça d’Empúries\, 17005 Girona
CATEGORIES:Joc
END:VEVENT
BEGIN:VEVENT
DTSTART;TZID=Europe/Madrid:20240710T193000
DTEND;TZID=Europe/Madrid:20240710T193000
DTSTAMP:20260424T234928
CREATED:20240701T111647Z
LAST-MODIFIED:20240701T111647Z
UID:57529-1720639800-1720639800@a-desk.org
SUMMARY:“Cuerpos celestes” Azkonatoloxza
DESCRIPTION:
URL:https://a-desk.org/en/agenda/cuerpos-celestes-azkonatoloxza/
LOCATION:CCCB\, C/ Montalegre\, 5\, 08001 Barcelona mapa\, Barcelona\, Barcelona\, 08001\, Spain
CATEGORIES:Espectacle
END:VEVENT
BEGIN:VEVENT
DTSTART;TZID=Europe/Madrid:20240710T220000
DTEND;TZID=Europe/Madrid:20240710T230000
DTSTAMP:20260424T234928
CREATED:20240706T124518Z
LAST-MODIFIED:20240706T124518Z
UID:57860-1720648800-1720652400@a-desk.org
SUMMARY:Dues Creacions Internacionals: Katie Vickers\, Albert Quesada
DESCRIPTION:
URL:https://a-desk.org/en/agenda/dues-creacions-internacionals-katie-vickers-albert-quesada/
LOCATION:La Casa Elizalde\, C/ València\, 302\, 08009 Barcelona mapa\, Barcelona\, Barcelona\, 08009\, Spain
CATEGORIES:Dansa
END:VEVENT
END:VCALENDAR