BEGIN:VCALENDAR
VERSION:2.0
PRODID:-//A*Desk - ECPv6.8.1//NONSGML v1.0//EN
CALSCALE:GREGORIAN
METHOD:PUBLISH
X-WR-CALNAME:A*Desk
X-ORIGINAL-URL:https://a-desk.org/en/
X-WR-CALDESC:Events for A*Desk
REFRESH-INTERVAL;VALUE=DURATION:PT1H
X-Robots-Tag:noindex
X-PUBLISHED-TTL:PT1H
BEGIN:VTIMEZONE
TZID:Europe/Madrid
BEGIN:DAYLIGHT
TZOFFSETFROM:+0100
TZOFFSETTO:+0200
TZNAME:CEST
DTSTART:20240331T010000
END:DAYLIGHT
BEGIN:STANDARD
TZOFFSETFROM:+0200
TZOFFSETTO:+0100
TZNAME:CET
DTSTART:20241027T010000
END:STANDARD
BEGIN:DAYLIGHT
TZOFFSETFROM:+0100
TZOFFSETTO:+0200
TZNAME:CEST
DTSTART:20250330T010000
END:DAYLIGHT
BEGIN:STANDARD
TZOFFSETFROM:+0200
TZOFFSETTO:+0100
TZNAME:CET
DTSTART:20251026T010000
END:STANDARD
END:VTIMEZONE
BEGIN:VEVENT
DTSTART;TZID=Europe/Madrid:20240202T110000
DTEND;TZID=Europe/Madrid:20240714T140000
DTSTAMP:20260425T010703
CREATED:20240126T103144Z
LAST-MODIFIED:20240126T103144Z
UID:53401-1706871600-1720965600@a-desk.org
SUMMARY:"Anònims" Susana Solano
DESCRIPTION:
URL:https://a-desk.org/en/agenda/anonims-susana-solano-2/
LOCATION:Fundació Vila Casas. Espais Volart\, C/ Ausiàs Marc\, 22\, 08010 Barcelona mapa\, Barcelona\, Barcelona\, 08010\, Spain
CATEGORIES:Exposició
END:VEVENT
BEGIN:VEVENT
DTSTART;TZID=Europe/Madrid:20240202T110000
DTEND;TZID=Europe/Madrid:20240714T140000
DTSTAMP:20260425T010703
CREATED:20240201T093228Z
LAST-MODIFIED:20240201T093228Z
UID:53693-1706871600-1720965600@a-desk.org
SUMMARY:"Anònims" Susana Solano
DESCRIPTION:
URL:https://a-desk.org/en/agenda/anonims-susana-solano-4/
LOCATION:Fundació Vila Casas. Espais Volart\, C/ Ausiàs Marc\, 22\, 08010 Barcelona mapa\, Barcelona\, Barcelona\, 08010\, Spain
CATEGORIES:Exposició
END:VEVENT
BEGIN:VEVENT
DTSTART;TZID=Europe/Madrid:20240210T110000
DTEND;TZID=Europe/Madrid:20250301T193000
DTSTAMP:20260425T010703
CREATED:20240123T113352Z
LAST-MODIFIED:20240123T113352Z
UID:53216-1707562800-1740857400@a-desk.org
SUMMARY:"[contra]panorama" VV.AA
DESCRIPTION:
URL:https://a-desk.org/en/agenda/contrapanorama-vv-aa/
LOCATION:MACBA\, Plaça dels Àngels\, 1\, 08001 Barcelona mapa\, Barcelona\, Barcelona\, 08001\, Spain
CATEGORIES:Activitat,Cicle,Diàleg,Exposició,Mostra,Recerca
END:VEVENT
BEGIN:VEVENT
DTSTART;VALUE=DATE:20240531
DTEND;VALUE=DATE:20240715
DTSTAMP:20260425T010703
CREATED:20240530T202627Z
LAST-MODIFIED:20240530T202627Z
UID:56608-1717113600-1721001599@a-desk.org
SUMMARY:LUMÍNIC  2024
DESCRIPTION:
URL:https://a-desk.org/en/agenda/luminic-2024/
LOCATION:Barcelona
CATEGORIES:Festival
END:VEVENT
BEGIN:VEVENT
DTSTART;VALUE=DATE:20240626
DTEND;VALUE=DATE:20240805
DTSTAMP:20260425T010703
CREATED:20240616T091037Z
LAST-MODIFIED:20240701T101947Z
UID:56989-1719360000-1722815999@a-desk.org
SUMMARY:Grec Festival 2024
DESCRIPTION:
URL:https://a-desk.org/en/agenda/grec-fesitval-2024/
LOCATION:Barcelona
CATEGORIES:Festival,Teatre
END:VEVENT
BEGIN:VEVENT
DTSTART;VALUE=DATE:20240711
DTEND;VALUE=DATE:20240712
DTSTAMP:20260425T010703
CREATED:20240701T112522Z
LAST-MODIFIED:20240701T112522Z
UID:57550-1720656000-1720742399@a-desk.org
SUMMARY:Festival Cruïlla 2024
DESCRIPTION:
URL:https://a-desk.org/en/agenda/festival-cruilla-2024-2/
LOCATION:Parc del Fòrum\, Carrer de la Pau\, 12\, Barcelona\, Barcelona\, 08930\, España
CATEGORIES:Festival
END:VEVENT
BEGIN:VEVENT
DTSTART;VALUE=DATE:20240711
DTEND;VALUE=DATE:20240712
DTSTAMP:20260425T010703
CREATED:20240706T121646Z
LAST-MODIFIED:20240706T121712Z
UID:57842-1720656000-1720742399@a-desk.org
SUMMARY:Festa Major del Raval
DESCRIPTION:
URL:https://a-desk.org/en/agenda/festa-major-del-raval/
LOCATION:Barcelona
CATEGORIES:Festivitat
END:VEVENT
BEGIN:VEVENT
DTSTART;TZID=Europe/Madrid:20240711T163000
DTEND;TZID=Europe/Madrid:20240711T230000
DTSTAMP:20260425T010703
CREATED:20240706T120632Z
LAST-MODIFIED:20240706T120632Z
UID:57835-1720715400-1720738800@a-desk.org
SUMMARY:Eufònic Pro 2024
DESCRIPTION:
URL:https://a-desk.org/en/agenda/eufonic-pro-2024/
LOCATION:Escola d’Art i Cultura de Tortosa\, Plaça de Sant Joan\, 5\, 43500 Tortosa\, Tarragona
CATEGORIES:Festival
END:VEVENT
BEGIN:VEVENT
DTSTART;TZID=Europe/Madrid:20240711T180000
DTEND;TZID=Europe/Madrid:20240711T180000
DTSTAMP:20260425T010703
CREATED:20240707T142319Z
LAST-MODIFIED:20240707T142319Z
UID:57940-1720720800-1720720800@a-desk.org
SUMMARY:"La vida dura al final" AURA Fundació
DESCRIPTION:
URL:https://a-desk.org/en/agenda/la-vida-dura-al-final-aura-fundacio/
LOCATION:Teatre Akademia\, c/ Buenos Aires 47-49\, Barcelona\, Spain 08036
CATEGORIES:Teatre
END:VEVENT
BEGIN:VEVENT
DTSTART;TZID=Europe/Madrid:20240711T190000
DTEND;TZID=Europe/Madrid:20240711T190000
DTSTAMP:20260425T010703
CREATED:20240701T113010Z
LAST-MODIFIED:20240701T114056Z
UID:57558-1720724400-1720724400@a-desk.org
SUMMARY:"SCUM Manifesto" Carole Roussopoulos\, Delphine Seyrig / “Precursores: feminismes\, càmera en mà i arxiu a l’espatlla”
DESCRIPTION:
URL:https://a-desk.org/en/agenda/scum-manifesto-carole-roussopoulos-delphine-seyrig/
LOCATION:Filmoteca\, Plaça de Salvador Seguí\, 1\, 08001 Barcelona mapa\, Barcelona\, Barcelona\, 08001\, Spain
CATEGORIES:Inauguració,Projecció
END:VEVENT
BEGIN:VEVENT
DTSTART;TZID=Europe/Madrid:20240711T190000
DTEND;TZID=Europe/Madrid:20240711T190000
DTSTAMP:20260425T010703
CREATED:20240704T163630Z
LAST-MODIFIED:20240704T163630Z
UID:57813-1720724400-1720724400@a-desk.org
SUMMARY:POSTDRONE + ASHRAR + JEHIA
DESCRIPTION:
URL:https://a-desk.org/en/agenda/postdrone-ashrar-jehia/
LOCATION:Casa Montjuïc\, Carrer de Vila i Vilà\, 65\, Sants-Montjuïc\, 08004 Barcelona
CATEGORIES:Música
END:VEVENT
BEGIN:VEVENT
DTSTART;TZID=Europe/Madrid:20240711T190000
DTEND;TZID=Europe/Madrid:20240711T190000
DTSTAMP:20260425T010703
CREATED:20240706T121212Z
LAST-MODIFIED:20240706T121212Z
UID:57840-1720724400-1720724400@a-desk.org
SUMMARY:"La nit ovípara" Maria Sevilla / "Traumacore" Núria Gómez Gabriel
DESCRIPTION:
URL:https://a-desk.org/en/agenda/la-nit-ovipara-maria-sevilla-traumacore-nuria-gomez-gabriel/
LOCATION:Llibreria Finestres\, C/ Diputació\, 249\, 08007 Barcelona mapa\, Barcelona\, Barcelona\, 08007\, Spain
CATEGORIES:Conversa,Presentació
END:VEVENT
BEGIN:VEVENT
DTSTART;TZID=Europe/Madrid:20240711T193000
DTEND;TZID=Europe/Madrid:20240711T193000
DTSTAMP:20260425T010703
CREATED:20240708T092658Z
LAST-MODIFIED:20240708T092658Z
UID:58053-1720726200-1720726200@a-desk.org
SUMMARY:“Cuerpos celestes” Azkonatoloxza
DESCRIPTION:
URL:https://a-desk.org/en/agenda/cuerpos-celestes-azkonatoloxza-2/
LOCATION:CCCB\, C/ Montalegre\, 5\, 08001 Barcelona mapa\, Barcelona\, Barcelona\, 08001\, Spain
CATEGORIES:Espectacle
END:VEVENT
BEGIN:VEVENT
DTSTART;TZID=Europe/Madrid:20240711T200000
DTEND;TZID=Europe/Madrid:20240711T200000
DTSTAMP:20260425T010703
CREATED:20240704T163231Z
LAST-MODIFIED:20240704T163231Z
UID:57809-1720728000-1720728000@a-desk.org
SUMMARY:Bach Doméstico | Bachcelona
DESCRIPTION:
URL:https://a-desk.org/en/agenda/bach-domestico-bachcelona/
LOCATION:La Fàbrica Lliure\, Carrer Sant Lluis 63\, Barcelona\, Spain 08024
CATEGORIES:Concert
END:VEVENT
BEGIN:VEVENT
DTSTART;TZID=Europe/Madrid:20240711T200000
DTEND;TZID=Europe/Madrid:20240711T200000
DTSTAMP:20260425T010703
CREATED:20240704T164633Z
LAST-MODIFIED:20240704T164633Z
UID:57823-1720728000-1720728000@a-desk.org
SUMMARY:Minibús Intergalàctic – Vespres Estiu
DESCRIPTION:
URL:https://a-desk.org/en/agenda/minibus-intergalactic-vespres-estiu/
LOCATION:Universitat de Barcelona\, Gran Via de les Corts Catalanes 585\, Barcelona\, Barcelona\, 08007\, España
CATEGORIES:Concert
END:VEVENT
BEGIN:VEVENT
DTSTART;TZID=Europe/Madrid:20240711T200000
DTEND;TZID=Europe/Madrid:20240711T230000
DTSTAMP:20260425T010703
CREATED:20240704T163753Z
LAST-MODIFIED:20240704T163753Z
UID:57817-1720728000-1720738800@a-desk.org
SUMMARY:“Sobretot quedar\, quedar\, quedar (part 2)”
DESCRIPTION:
URL:https://a-desk.org/en/agenda/sobretot-quedar-quedar-quedar-part-2/
LOCATION:Centre de Documentació de Ca la Dona\, Carrer Ripoll\, 25\, Barcelona\, Barcelona\, 08002\, España
CATEGORIES:Projecció
END:VEVENT
BEGIN:VEVENT
DTSTART;TZID=Europe/Madrid:20240711T203000
DTEND;TZID=Europe/Madrid:20240711T203000
DTSTAMP:20260425T010703
CREATED:20240709T103514Z
LAST-MODIFIED:20240709T103514Z
UID:58072-1720729800-1720729800@a-desk.org
SUMMARY:Fransia
DESCRIPTION:
URL:https://a-desk.org/en/agenda/fransia/
LOCATION:Sala Paral·lel 62\, Av. del Paral·lel\, 62\, 08001 Barcelona mapa\, Barcelona\, Barcelona\, 08001\, Spain
CATEGORIES:Música
END:VEVENT
BEGIN:VEVENT
DTSTART;TZID=Europe/Madrid:20240711T210000
DTEND;TZID=Europe/Madrid:20240711T210000
DTSTAMP:20260425T010703
CREATED:20240704T164024Z
LAST-MODIFIED:20240709T082730Z
UID:57819-1720731600-1720731600@a-desk.org
SUMMARY:Clàssica a la Platja / Orquestra Simfònica de Barcelona i Nacional de Catalunya + l'Orfeó Català
DESCRIPTION:
URL:https://a-desk.org/en/agenda/lobc-i-ludovic-morlot-a-la-platja/
LOCATION:Platja de Sant Sebastià\, Platja de Sant Sebastià\, Sitges\, Barcelona\, España
CATEGORIES:Concert
END:VEVENT
BEGIN:VEVENT
DTSTART;TZID=Europe/Madrid:20240711T210000
DTEND;TZID=Europe/Madrid:20240711T210000
DTSTAMP:20260425T010703
CREATED:20240706T120748Z
LAST-MODIFIED:20240706T120748Z
UID:57838-1720731600-1720731600@a-desk.org
SUMMARY:Joan Baez: I am a noise
DESCRIPTION:
URL:https://a-desk.org/en/agenda/joan-baez-i-am-a-noise/
LOCATION:Espai Texas\, C/ de Bailèn\, 205\, Gràcia\, Barcelona\, Barcelona\, 08037\, España
CATEGORIES:Projecció
END:VEVENT
BEGIN:VEVENT
DTSTART;TZID=Europe/Madrid:20240711T220000
DTEND;TZID=Europe/Madrid:20240711T223000
DTSTAMP:20260425T010703
CREATED:20240706T123850Z
LAST-MODIFIED:20240706T123850Z
UID:57854-1720735200-1720737000@a-desk.org
SUMMARY:Tarquim
DESCRIPTION:
URL:https://a-desk.org/en/agenda/tarquim/
LOCATION:CC Urgell\, Carrer del Comte d'Urgell\, 145\, Barcelona\, Barcelona\, 08036\, España
CATEGORIES:Música
END:VEVENT
END:VCALENDAR