BEGIN:VCALENDAR
VERSION:2.0
PRODID:-//A*Desk - ECPv6.8.1//NONSGML v1.0//EN
CALSCALE:GREGORIAN
METHOD:PUBLISH
X-WR-CALNAME:A*Desk
X-ORIGINAL-URL:https://a-desk.org/en/
X-WR-CALDESC:Events for A*Desk
REFRESH-INTERVAL;VALUE=DURATION:PT1H
X-Robots-Tag:noindex
X-PUBLISHED-TTL:PT1H
BEGIN:VTIMEZONE
TZID:Europe/Madrid
BEGIN:DAYLIGHT
TZOFFSETFROM:+0100
TZOFFSETTO:+0200
TZNAME:CEST
DTSTART:20240331T010000
END:DAYLIGHT
BEGIN:STANDARD
TZOFFSETFROM:+0200
TZOFFSETTO:+0100
TZNAME:CET
DTSTART:20241027T010000
END:STANDARD
BEGIN:DAYLIGHT
TZOFFSETFROM:+0100
TZOFFSETTO:+0200
TZNAME:CEST
DTSTART:20250330T010000
END:DAYLIGHT
BEGIN:STANDARD
TZOFFSETFROM:+0200
TZOFFSETTO:+0100
TZNAME:CET
DTSTART:20251026T010000
END:STANDARD
END:VTIMEZONE
BEGIN:VEVENT
DTSTART;TZID=Europe/Madrid:20240202T110000
DTEND;TZID=Europe/Madrid:20240714T140000
DTSTAMP:20260425T023010
CREATED:20240126T103144Z
LAST-MODIFIED:20240126T103144Z
UID:53401-1706871600-1720965600@a-desk.org
SUMMARY:"Anònims" Susana Solano
DESCRIPTION:
URL:https://a-desk.org/en/agenda/anonims-susana-solano-2/
LOCATION:Fundació Vila Casas. Espais Volart\, C/ Ausiàs Marc\, 22\, 08010 Barcelona mapa\, Barcelona\, Barcelona\, 08010\, Spain
CATEGORIES:Exposició
END:VEVENT
BEGIN:VEVENT
DTSTART;TZID=Europe/Madrid:20240202T110000
DTEND;TZID=Europe/Madrid:20240714T140000
DTSTAMP:20260425T023010
CREATED:20240201T093228Z
LAST-MODIFIED:20240201T093228Z
UID:53693-1706871600-1720965600@a-desk.org
SUMMARY:"Anònims" Susana Solano
DESCRIPTION:
URL:https://a-desk.org/en/agenda/anonims-susana-solano-4/
LOCATION:Fundació Vila Casas. Espais Volart\, C/ Ausiàs Marc\, 22\, 08010 Barcelona mapa\, Barcelona\, Barcelona\, 08010\, Spain
CATEGORIES:Exposició
END:VEVENT
BEGIN:VEVENT
DTSTART;TZID=Europe/Madrid:20240210T110000
DTEND;TZID=Europe/Madrid:20250301T193000
DTSTAMP:20260425T023010
CREATED:20240123T113352Z
LAST-MODIFIED:20240123T113352Z
UID:53216-1707562800-1740857400@a-desk.org
SUMMARY:"[contra]panorama" VV.AA
DESCRIPTION:
URL:https://a-desk.org/en/agenda/contrapanorama-vv-aa/
LOCATION:MACBA\, Plaça dels Àngels\, 1\, 08001 Barcelona mapa\, Barcelona\, Barcelona\, 08001\, Spain
CATEGORIES:Activitat,Cicle,Diàleg,Exposició,Mostra,Recerca
END:VEVENT
BEGIN:VEVENT
DTSTART;VALUE=DATE:20240531
DTEND;VALUE=DATE:20240715
DTSTAMP:20260425T023010
CREATED:20240530T202627Z
LAST-MODIFIED:20240530T202627Z
UID:56608-1717113600-1721001599@a-desk.org
SUMMARY:LUMÍNIC  2024
DESCRIPTION:
URL:https://a-desk.org/en/agenda/luminic-2024/
LOCATION:Barcelona
CATEGORIES:Festival
END:VEVENT
BEGIN:VEVENT
DTSTART;VALUE=DATE:20240626
DTEND;VALUE=DATE:20240805
DTSTAMP:20260425T023010
CREATED:20240616T091037Z
LAST-MODIFIED:20240701T101947Z
UID:56989-1719360000-1722815999@a-desk.org
SUMMARY:Grec Festival 2024
DESCRIPTION:
URL:https://a-desk.org/en/agenda/grec-fesitval-2024/
LOCATION:Barcelona
CATEGORIES:Festival,Teatre
END:VEVENT
BEGIN:VEVENT
DTSTART;VALUE=DATE:20240712
DTEND;VALUE=DATE:20240713
DTSTAMP:20260425T023010
CREATED:20240701T112615Z
LAST-MODIFIED:20240701T112615Z
UID:57552-1720742400-1720828799@a-desk.org
SUMMARY:Festival Cruïlla 2024
DESCRIPTION:
URL:https://a-desk.org/en/agenda/festival-cruilla-2024-3/
LOCATION:Parc del Fòrum\, Carrer de la Pau\, 12\, Barcelona\, Barcelona\, 08930\, España
CATEGORIES:Festival
END:VEVENT
BEGIN:VEVENT
DTSTART;VALUE=DATE:20240712
DTEND;VALUE=DATE:20240713
DTSTAMP:20260425T023010
CREATED:20240706T121827Z
LAST-MODIFIED:20240706T121827Z
UID:57844-1720742400-1720828799@a-desk.org
SUMMARY:Festa Major del Raval
DESCRIPTION:
URL:https://a-desk.org/en/agenda/festa-major-del-raval-2/
LOCATION:Barcelona
CATEGORIES:Festivitat
END:VEVENT
BEGIN:VEVENT
DTSTART;TZID=Europe/Madrid:20240712T151500
DTEND;TZID=Europe/Madrid:20240712T151500
DTSTAMP:20260425T023010
CREATED:20240706T135151Z
LAST-MODIFIED:20240706T135151Z
UID:57870-1720797300-1720797300@a-desk.org
SUMMARY:Un cafè amb… Anna Breckon i Nat Randall | Obrador estiu
DESCRIPTION:
URL:https://a-desk.org/en/agenda/un-cafe-amb-anna-breckon-i-nat-randall-obrador-estiu/
LOCATION:Sala Beckett\, C/ Pere IV\, 228\, 232\, 08005 Barcelona mapa\, Barcelona\, Barcelona\, 08005\, Spain
CATEGORIES:Trobada,Xerrada
END:VEVENT
BEGIN:VEVENT
DTSTART;TZID=Europe/Madrid:20240712T173000
DTEND;TZID=Europe/Madrid:20240712T200000
DTSTAMP:20260425T023010
CREATED:20240706T135531Z
LAST-MODIFIED:20240706T135531Z
UID:57872-1720805400-1720814400@a-desk.org
SUMMARY:FLAMA: Fira del llibre anarquista del Maresme
DESCRIPTION:
URL:https://a-desk.org/en/agenda/flama-fira-del-llibre-anarquista-del-maresme/
LOCATION:CGT Mataró\, Avinguda de Lluís Companys\, 45\, Local\, 08302 Mataró\, Barcelona
CATEGORIES:Fira
END:VEVENT
BEGIN:VEVENT
DTSTART;TZID=Europe/Madrid:20240712T183000
DTEND;TZID=Europe/Madrid:20240712T200000
DTSTAMP:20260425T023010
CREATED:20240709T172719Z
LAST-MODIFIED:20240709T172719Z
UID:58074-1720809000-1720814400@a-desk.org
SUMMARY:“Posem sobre la taula: la mort a la nostra vida” Sai Bella | Acció performativa del projecte “¿A qué tierra pertenece mi cadáver?”
DESCRIPTION:
URL:https://a-desk.org/en/agenda/posem-sobre-la-taula-la-mort-a-la-nostra-vida-sai-bella-accio-performativa-del-projecte-a-que-tierra-pertenece-mi-cadaver/
LOCATION:CC Guinardó\, Ronda del Guinardó\, 113\, 08041 Barcelona mapa\, Barcelona\, Barcelona\, 08041\, Spain
CATEGORIES:Activitat,Performance
END:VEVENT
BEGIN:VEVENT
DTSTART;TZID=Europe/Madrid:20240712T190000
DTEND;TZID=Europe/Madrid:20240712T190000
DTSTAMP:20260425T023010
CREATED:20240701T113238Z
LAST-MODIFIED:20240701T113238Z
UID:57560-1720810800-1720810800@a-desk.org
SUMMARY:Feminismes i vídeo: l’experiència del Centre audiovisuel Simone de Beauvoir
DESCRIPTION:
URL:https://a-desk.org/en/agenda/feminismes-i-video-lexperiencia-del-centre-audiovisuel-simone-de-beauvoir/
LOCATION:Filmoteca\, Plaça de Salvador Seguí\, 1\, 08001 Barcelona mapa\, Barcelona\, Barcelona\, 08001\, Spain
CATEGORIES:Xerrada
END:VEVENT
BEGIN:VEVENT
DTSTART;TZID=Europe/Madrid:20240712T190000
DTEND;TZID=Europe/Madrid:20240712T190000
DTSTAMP:20260425T023010
CREATED:20240706T122631Z
LAST-MODIFIED:20240706T122631Z
UID:57850-1720810800-1720810800@a-desk.org
SUMMARY:IN_prescindibles # 54
DESCRIPTION:
URL:https://a-desk.org/en/agenda/in_prescindibles-54/
LOCATION:Fabra i Coats\, C/ Sant Adrià\, 20\, 08030 Barcelona mapa\, Barcelona\, Barcelona\, 08030\, Spain
END:VEVENT
BEGIN:VEVENT
DTSTART;TZID=Europe/Madrid:20240712T190000
DTEND;TZID=Europe/Madrid:20240712T190000
DTSTAMP:20260425T023010
CREATED:20240711T092338Z
LAST-MODIFIED:20240711T092338Z
UID:58129-1720810800-1720810800@a-desk.org
SUMMARY:"Vessar l’ombra" Pep Aymerich
DESCRIPTION:
URL:https://a-desk.org/en/agenda/vessar-lombra-pep-aymerich/
LOCATION:Canònica de Santa Maria de Vilabertran\, Carrer de l'Abadia\, 4\, Vilabertran\, Girona\, 17760\, España
CATEGORIES:Inauguració/Exposició
END:VEVENT
BEGIN:VEVENT
DTSTART;TZID=Europe/Madrid:20240712T190000
DTEND;TZID=Europe/Madrid:20240712T203000
DTSTAMP:20260425T023010
CREATED:20240706T124746Z
LAST-MODIFIED:20240706T124746Z
UID:57862-1720810800-1720816200@a-desk.org
SUMMARY:“L'habitatge a Sant Martí. Dos curtmetratges i un debat”
DESCRIPTION:
URL:https://a-desk.org/en/agenda/lhabitatge-a-sant-marti-dos-curtmetratges-i-un-debat/
LOCATION:CC Can Felipa\, Pl. Josep Mª Huertas Claveria\, Barcelona\, Barcelona\, 08005\, España
CATEGORIES:Debat,Projecció
END:VEVENT
BEGIN:VEVENT
DTSTART;TZID=Europe/Madrid:20240712T193000
DTEND;TZID=Europe/Madrid:20240712T193000
DTSTAMP:20260425T023010
CREATED:20240704T142247Z
LAST-MODIFIED:20240704T142247Z
UID:57779-1720812600-1720812600@a-desk.org
SUMMARY:(ÒH!)PERA
DESCRIPTION:
URL:https://a-desk.org/en/agenda/ohpera/
LOCATION:Gran Teatre del Liceu\, La Rambla\, 51-59\, Barcelona\, Barcelona\, 08002\, España
CATEGORIES:Opera
END:VEVENT
BEGIN:VEVENT
DTSTART;TZID=Europe/Madrid:20240712T193000
DTEND;TZID=Europe/Madrid:20240712T193000
DTSTAMP:20260425T023010
CREATED:20240708T092800Z
LAST-MODIFIED:20240708T092800Z
UID:58055-1720812600-1720812600@a-desk.org
SUMMARY:“Cuerpos celestes” Azkonatoloxza
DESCRIPTION:
URL:https://a-desk.org/en/agenda/cuerpos-celestes-azkonatoloxza-3/
LOCATION:CCCB\, C/ Montalegre\, 5\, 08001 Barcelona mapa\, Barcelona\, Barcelona\, 08001\, Spain
CATEGORIES:Espectacle
END:VEVENT
BEGIN:VEVENT
DTSTART;TZID=Europe/Madrid:20240712T200000
DTEND;TZID=Europe/Madrid:20240712T200000
DTSTAMP:20260425T023010
CREATED:20240706T125019Z
LAST-MODIFIED:20240706T125019Z
UID:57866-1720814400-1720814400@a-desk.org
SUMMARY:“(DON'T) LOOK ME IN THE EYES” Ainhoa Hernández Escudero
DESCRIPTION:
URL:https://a-desk.org/en/agenda/dont-look-me-in-the-eyes-ainhoa-hernandez-escudero/
LOCATION:Antic Teatre\, C/ Verdaguer i Callís\, 12\, Barcelona\, Barcelona\, 08003\, España
CATEGORIES:Dansa,Performance
END:VEVENT
BEGIN:VEVENT
DTSTART;TZID=Europe/Madrid:20240712T200000
DTEND;TZID=Europe/Madrid:20240712T200000
DTSTAMP:20260425T023011
CREATED:20240706T134951Z
LAST-MODIFIED:20240706T134951Z
UID:57868-1720814400-1720814400@a-desk.org
SUMMARY:RES_ÉS_NOSTRE + NEXCYIA
DESCRIPTION:
URL:https://a-desk.org/en/agenda/res_es_nostre-nexcyia/
LOCATION:Casa Montjuïc\, Carrer de Vila i Vilà\, 65\, Sants-Montjuïc\, 08004 Barcelona
CATEGORIES:Festa,Música
END:VEVENT
BEGIN:VEVENT
DTSTART;TZID=Europe/Madrid:20240712T200000
DTEND;TZID=Europe/Madrid:20240712T213000
DTSTAMP:20260425T023011
CREATED:20240706T124207Z
LAST-MODIFIED:20240706T124225Z
UID:57857-1720814400-1720819800@a-desk.org
SUMMARY:"Puertas Abiertas: El Epílogo"
DESCRIPTION:
URL:https://a-desk.org/en/agenda/puertas-abiertas-el-epilogo/
LOCATION:Casa Golferichs\, Gran Via de les Corts Catalanes\, 491\, Barcelona\, Barcelona\, 08015\, España
CATEGORIES:Espectacle
END:VEVENT
BEGIN:VEVENT
DTSTART;TZID=Europe/Madrid:20240712T203000
DTEND;TZID=Europe/Madrid:20240712T203000
DTSTAMP:20260425T023011
CREATED:20240709T090618Z
LAST-MODIFIED:20240709T090618Z
UID:58067-1720816200-1720816200@a-desk.org
SUMMARY:“Tacho” #Terratsencultura
DESCRIPTION:
URL:https://a-desk.org/en/agenda/tacho-terratsencultura/
LOCATION:Piramidón\, Carrer del Concili de Trento\, 313\, Sant Martí\, 08020 Barcelona
CATEGORIES:Concert
END:VEVENT
BEGIN:VEVENT
DTSTART;TZID=Europe/Madrid:20240712T210000
DTEND;TZID=Europe/Madrid:20240712T210000
DTSTAMP:20260425T023011
CREATED:20240709T082854Z
LAST-MODIFIED:20240709T082854Z
UID:58060-1720818000-1720818000@a-desk.org
SUMMARY:Clàssica a la Platja / Cor i l'Orquestra del Gran Teatre del Liceu + Cor Infantil de l'Orfeó Català
DESCRIPTION:
URL:https://a-desk.org/en/agenda/classica-a-la-platja-cor-i-lorquestra-del-gran-teatre-del-liceu-cor-infantil-de-lorfeo-catala/
LOCATION:Platja de Sant Sebastià\, Platja de Sant Sebastià\, Sitges\, Barcelona\, España
CATEGORIES:Concert
END:VEVENT
END:VCALENDAR