BEGIN:VCALENDAR
VERSION:2.0
PRODID:-//A*Desk - ECPv6.8.1//NONSGML v1.0//EN
CALSCALE:GREGORIAN
METHOD:PUBLISH
X-ORIGINAL-URL:https://a-desk.org/en/
X-WR-CALDESC:Events for A*Desk
REFRESH-INTERVAL;VALUE=DURATION:PT1H
X-Robots-Tag:noindex
X-PUBLISHED-TTL:PT1H
BEGIN:VTIMEZONE
TZID:Europe/Madrid
BEGIN:DAYLIGHT
TZOFFSETFROM:+0100
TZOFFSETTO:+0200
TZNAME:CEST
DTSTART:20240331T010000
END:DAYLIGHT
BEGIN:STANDARD
TZOFFSETFROM:+0200
TZOFFSETTO:+0100
TZNAME:CET
DTSTART:20241027T010000
END:STANDARD
BEGIN:DAYLIGHT
TZOFFSETFROM:+0100
TZOFFSETTO:+0200
TZNAME:CEST
DTSTART:20250330T010000
END:DAYLIGHT
BEGIN:STANDARD
TZOFFSETFROM:+0200
TZOFFSETTO:+0100
TZNAME:CET
DTSTART:20251026T010000
END:STANDARD
END:VTIMEZONE
BEGIN:VEVENT
DTSTART;TZID=Europe/Madrid:20240202T110000
DTEND;TZID=Europe/Madrid:20240714T140000
DTSTAMP:20260425T034416
CREATED:20240126T103144Z
LAST-MODIFIED:20240126T103144Z
UID:53401-1706871600-1720965600@a-desk.org
SUMMARY:"Anònims" Susana Solano
DESCRIPTION:
URL:https://a-desk.org/en/agenda/anonims-susana-solano-2/
LOCATION:Fundació Vila Casas. Espais Volart\, C/ Ausiàs Marc\, 22\, 08010 Barcelona mapa\, Barcelona\, Barcelona\, 08010\, Spain
CATEGORIES:Exposició
END:VEVENT
BEGIN:VEVENT
DTSTART;TZID=Europe/Madrid:20240202T110000
DTEND;TZID=Europe/Madrid:20240714T140000
DTSTAMP:20260425T034416
CREATED:20240201T093228Z
LAST-MODIFIED:20240201T093228Z
UID:53693-1706871600-1720965600@a-desk.org
SUMMARY:"Anònims" Susana Solano
DESCRIPTION:
URL:https://a-desk.org/en/agenda/anonims-susana-solano-4/
LOCATION:Fundació Vila Casas. Espais Volart\, C/ Ausiàs Marc\, 22\, 08010 Barcelona mapa\, Barcelona\, Barcelona\, 08010\, Spain
CATEGORIES:Exposició
END:VEVENT
BEGIN:VEVENT
DTSTART;TZID=Europe/Madrid:20240210T110000
DTEND;TZID=Europe/Madrid:20250301T193000
DTSTAMP:20260425T034416
CREATED:20240123T113352Z
LAST-MODIFIED:20240123T113352Z
UID:53216-1707562800-1740857400@a-desk.org
SUMMARY:"[contra]panorama" VV.AA
DESCRIPTION:
URL:https://a-desk.org/en/agenda/contrapanorama-vv-aa/
LOCATION:MACBA\, Plaça dels Àngels\, 1\, 08001 Barcelona mapa\, Barcelona\, Barcelona\, 08001\, Spain
CATEGORIES:Activitat,Cicle,Diàleg,Exposició,Mostra,Recerca
END:VEVENT
BEGIN:VEVENT
DTSTART;VALUE=DATE:20240531
DTEND;VALUE=DATE:20240715
DTSTAMP:20260425T034416
CREATED:20240530T202627Z
LAST-MODIFIED:20240530T202627Z
UID:56608-1717113600-1721001599@a-desk.org
SUMMARY:LUMÍNIC  2024
DESCRIPTION:
URL:https://a-desk.org/en/agenda/luminic-2024/
LOCATION:Barcelona
CATEGORIES:Festival
END:VEVENT
BEGIN:VEVENT
DTSTART;VALUE=DATE:20240626
DTEND;VALUE=DATE:20240805
DTSTAMP:20260425T034416
CREATED:20240616T091037Z
LAST-MODIFIED:20240701T101947Z
UID:56989-1719360000-1722815999@a-desk.org
SUMMARY:Grec Festival 2024
DESCRIPTION:
URL:https://a-desk.org/en/agenda/grec-fesitval-2024/
LOCATION:Barcelona
CATEGORIES:Festival,Teatre
END:VEVENT
BEGIN:VEVENT
DTSTART;VALUE=DATE:20240713
DTEND;VALUE=DATE:20240714
DTSTAMP:20260425T034416
CREATED:20240701T112735Z
LAST-MODIFIED:20240701T112735Z
UID:57555-1720828800-1720915199@a-desk.org
SUMMARY:Festival Cruïlla 2024
DESCRIPTION:
URL:https://a-desk.org/en/agenda/festival-cruilla-2024-4/
LOCATION:Parc del Fòrum\, Carrer de la Pau\, 12\, Barcelona\, Barcelona\, 08930\, España
CATEGORIES:Festival
END:VEVENT
BEGIN:VEVENT
DTSTART;VALUE=DATE:20240713
DTEND;VALUE=DATE:20240714
DTSTAMP:20260425T034416
CREATED:20240706T121930Z
LAST-MODIFIED:20240706T121930Z
UID:57846-1720828800-1720915199@a-desk.org
SUMMARY:Festa Major del Raval
DESCRIPTION:
URL:https://a-desk.org/en/agenda/festa-major-del-raval-3/
LOCATION:Barcelona
CATEGORIES:Festivitat
END:VEVENT
BEGIN:VEVENT
DTSTART;TZID=Europe/Madrid:20240713T110000
DTEND;TZID=Europe/Madrid:20240713T213000
DTSTAMP:20260425T034416
CREATED:20240706T144521Z
LAST-MODIFIED:20240706T144521Z
UID:57908-1720868400-1720906200@a-desk.org
SUMMARY:FLAMA: Fira del llibre anarquista del Maresme
DESCRIPTION:
URL:https://a-desk.org/en/agenda/flama-fira-del-llibre-anarquista-del-maresme-2/
LOCATION:CGT Mataró\, Avinguda de Lluís Companys\, 45\, Local\, 08302 Mataró\, Barcelona
CATEGORIES:Fira
END:VEVENT
BEGIN:VEVENT
DTSTART;TZID=Europe/Madrid:20240713T120000
DTEND;TZID=Europe/Madrid:20240713T120000
DTSTAMP:20260425T034416
CREATED:20240706T135925Z
LAST-MODIFIED:20240706T135925Z
UID:57878-1720872000-1720872000@a-desk.org
SUMMARY:"La mà rebel" Joan Gardy Artigas
DESCRIPTION:
URL:https://a-desk.org/en/agenda/la-ma-rebel-joan-gardy-artigas/
LOCATION:Fundacio Vila Casas. Can Mario\, Plaça de Can Màrio\, 7\, Palafrugell\, Girona\, 17200\, España
CATEGORIES:Inauguració/Exposició
END:VEVENT
BEGIN:VEVENT
DTSTART;TZID=Europe/Madrid:20240713T120000
DTEND;TZID=Europe/Madrid:20240713T120000
DTSTAMP:20260425T034416
CREATED:20240706T140804Z
LAST-MODIFIED:20240706T140804Z
UID:57888-1720872000-1720872000@a-desk.org
SUMMARY:“CosCru Serenade” Sònia Gomez
DESCRIPTION:
URL:https://a-desk.org/en/agenda/coscru-serenade-sonia-gomez/
LOCATION:Fundación Suñol\, C/ Mejía Lequerica\, 14\, 08028 Barcelona mapa\, Barcelona\, Barcelona\, 08028\, Spain
CATEGORIES:Performance
END:VEVENT
BEGIN:VEVENT
DTSTART;TZID=Europe/Madrid:20240713T120000
DTEND;TZID=Europe/Madrid:20240713T180000
DTSTAMP:20260425T034416
CREATED:20240706T140202Z
LAST-MODIFIED:20240706T140628Z
UID:57880-1720872000-1720893600@a-desk.org
SUMMARY:“Si no vols pols\, no venguis a l’era” Jornada 3
DESCRIPTION:
URL:https://a-desk.org/en/agenda/si-no-vols-pols-no-venguis-a-lera-jornada-3/
LOCATION:Espai nyamnyam\, Carrer de Can Caló\, 38\, Mieres\, Girona\, 17830\, España
CATEGORIES:Cicle
END:VEVENT
BEGIN:VEVENT
DTSTART;TZID=Europe/Madrid:20240713T170000
DTEND;TZID=Europe/Madrid:20240713T220000
DTSTAMP:20260425T034416
CREATED:20240706T141414Z
LAST-MODIFIED:20240706T141414Z
UID:57890-1720890000-1720908000@a-desk.org
SUMMARY:RAR. Happy Birthday
DESCRIPTION:
URL:https://a-desk.org/en/agenda/rar-happy-birthday/
LOCATION:Casal de Vilafranca\, Rambla Nostra Senyora\, 35-37 08720 Vilafranca del Penedès Alt Penedès (Barcelona)
CATEGORIES:Festa
END:VEVENT
BEGIN:VEVENT
DTSTART;TZID=Europe/Madrid:20240713T180000
DTEND;TZID=Europe/Madrid:20240713T180000
DTSTAMP:20260425T034416
CREATED:20240704T142439Z
LAST-MODIFIED:20240704T142439Z
UID:57781-1720893600-1720893600@a-desk.org
SUMMARY:(ÒH!)PERA
DESCRIPTION:
URL:https://a-desk.org/en/agenda/ohpera-2/
LOCATION:Gran Teatre del Liceu\, La Rambla\, 51-59\, Barcelona\, Barcelona\, 08002\, España
CATEGORIES:Opera
END:VEVENT
BEGIN:VEVENT
DTSTART;TZID=Europe/Madrid:20240713T180000
DTEND;TZID=Europe/Madrid:20240713T180000
DTSTAMP:20260425T034416
CREATED:20240706T135735Z
LAST-MODIFIED:20240706T135735Z
UID:57876-1720893600-1720893600@a-desk.org
SUMMARY:“Façanes que parlen de ciutat”
DESCRIPTION:
URL:https://a-desk.org/en/agenda/facanes-que-parlen-de-ciutat-2/
LOCATION:El Born CCM\, Plaça Comercial\, 12\, 08003 Barcelona mapa\, Barcelona\, Barcelona\, 08003\, Spain
CATEGORIES:Itinerari
END:VEVENT
BEGIN:VEVENT
DTSTART;TZID=Europe/Madrid:20240713T180000
DTEND;TZID=Europe/Madrid:20240713T190000
DTSTAMP:20260425T034416
CREATED:20240712T071354Z
LAST-MODIFIED:20240712T071354Z
UID:58144-1720893600-1720897200@a-desk.org
SUMMARY:Visita comentada a Col·lecció MACBA.: Preludi. Intenció poètica.
DESCRIPTION:
URL:https://a-desk.org/en/agenda/visita-comentada-a-col%c2%b7leccio-macba-preludi-intencio-poetica/
LOCATION:MACBA\, Plaça dels Àngels\, 1\, 08001 Barcelona mapa\, Barcelona\, Barcelona\, 08001\, Spain
CATEGORIES:Guided tour
END:VEVENT
BEGIN:VEVENT
DTSTART;TZID=Europe/Madrid:20240713T190000
DTEND;TZID=Europe/Madrid:20240713T190000
DTSTAMP:20260425T034416
CREATED:20240706T122808Z
LAST-MODIFIED:20240706T122808Z
UID:57852-1720897200-1720897200@a-desk.org
SUMMARY:IN_prescindibles # 54
DESCRIPTION:
URL:https://a-desk.org/en/agenda/in_prescindibles-54-2/
LOCATION:Fabra i Coats\, C/ Sant Adrià\, 20\, 08030 Barcelona mapa\, Barcelona\, Barcelona\, 08030\, Spain
END:VEVENT
BEGIN:VEVENT
DTSTART;TZID=Europe/Madrid:20240713T190000
DTEND;TZID=Europe/Madrid:20240713T203000
DTSTAMP:20260425T034416
CREATED:20240706T140534Z
LAST-MODIFIED:20240706T140534Z
UID:57885-1720897200-1720902600@a-desk.org
SUMMARY:“Los corceles de fuego” Serguéi Paradzhánov
DESCRIPTION:
URL:https://a-desk.org/en/agenda/los-corceles-de-fuego-serguei-paradzhanov/
LOCATION:CaixaForum Barcelona\, Av. Francesc Ferrer i Guàrdia\, 6-8\, Barcelona\, Barcelona\, 08038\, España
CATEGORIES:Projecció
END:VEVENT
BEGIN:VEVENT
DTSTART;TZID=Europe/Madrid:20240713T193000
DTEND;TZID=Europe/Madrid:20240713T193000
DTSTAMP:20260425T034416
CREATED:20240706T140322Z
LAST-MODIFIED:20240706T140322Z
UID:57883-1720899000-1720899000@a-desk.org
SUMMARY:“SPANISH COAST\, 2017/2024” Laura Weissmahr
DESCRIPTION:
URL:https://a-desk.org/en/agenda/spanish-coast-2017-2024-laura-weissmahr/
LOCATION:MACBA\, Plaça dels Àngels\, 1\, 08001 Barcelona mapa\, Barcelona\, Barcelona\, 08001\, Spain
CATEGORIES:Performance
END:VEVENT
BEGIN:VEVENT
DTSTART;TZID=Europe/Madrid:20240713T200000
DTEND;TZID=Europe/Madrid:20240713T200000
DTSTAMP:20260425T034416
CREATED:20240706T141531Z
LAST-MODIFIED:20240706T141531Z
UID:57894-1720900800-1720900800@a-desk.org
SUMMARY:"Æffective Choreography" André Uerba + col·loqui
DESCRIPTION:
URL:https://a-desk.org/en/agenda/aeffective-choreography-andre-uerba-col%c2%b7loqui/
LOCATION:La Caldera\, C/ Eugeni d’Ors\, 12\, 08028 Barcelona mapa\, Barcelona\, Barcelona\, 08028\, Spain
CATEGORIES:Espectacle
END:VEVENT
BEGIN:VEVENT
DTSTART;TZID=Europe/Madrid:20240713T200000
DTEND;TZID=Europe/Madrid:20240713T200000
DTSTAMP:20260425T034416
CREATED:20240706T141946Z
LAST-MODIFIED:20240706T142649Z
UID:57896-1720900800-1720900800@a-desk.org
SUMMARY:"Goodbye Mother"  Trinh Dinh Le Minh | Cicle A la riba del Mekong
DESCRIPTION:
URL:https://a-desk.org/en/agenda/inside-the-yellow-cocoon-shell-pham-thien-an-cicle-a-la-riba-del-mekong/
LOCATION:Cinemes Girona\, C/ de Girona\, 175\, Barcelona\, Barcelona\, 08037\, España
CATEGORIES:Projecció
END:VEVENT
BEGIN:VEVENT
DTSTART;TZID=Europe/Madrid:20240713T200000
DTEND;TZID=Europe/Madrid:20240713T210000
DTSTAMP:20260425T034416
CREATED:20240707T141327Z
LAST-MODIFIED:20240707T141327Z
UID:57938-1720900800-1720904400@a-desk.org
SUMMARY:Concert BYRON – MILANO JAZZ CLUB – Windy Coast Band
DESCRIPTION:
URL:https://a-desk.org/en/agenda/concert-byron-milano-jazz-club-windy-coast-band/
LOCATION:Llibreria Byron\, C/ Casanova\, 32\, 08011 Barcelona mapa\, Barcelona\, Barcelona\, 08011\, Spain
CATEGORIES:Concert
END:VEVENT
END:VCALENDAR