BEGIN:VCALENDAR
VERSION:2.0
PRODID:-//A*Desk - ECPv6.8.1//NONSGML v1.0//EN
CALSCALE:GREGORIAN
METHOD:PUBLISH
X-WR-CALNAME:A*Desk
X-ORIGINAL-URL:https://a-desk.org/en/
X-WR-CALDESC:Events for A*Desk
REFRESH-INTERVAL;VALUE=DURATION:PT1H
X-Robots-Tag:noindex
X-PUBLISHED-TTL:PT1H
BEGIN:VTIMEZONE
TZID:Europe/Madrid
BEGIN:DAYLIGHT
TZOFFSETFROM:+0100
TZOFFSETTO:+0200
TZNAME:CEST
DTSTART:20240331T010000
END:DAYLIGHT
BEGIN:STANDARD
TZOFFSETFROM:+0200
TZOFFSETTO:+0100
TZNAME:CET
DTSTART:20241027T010000
END:STANDARD
BEGIN:DAYLIGHT
TZOFFSETFROM:+0100
TZOFFSETTO:+0200
TZNAME:CEST
DTSTART:20250330T010000
END:DAYLIGHT
BEGIN:STANDARD
TZOFFSETFROM:+0200
TZOFFSETTO:+0100
TZNAME:CET
DTSTART:20251026T010000
END:STANDARD
END:VTIMEZONE
BEGIN:VEVENT
DTSTART;TZID=Europe/Madrid:20240210T110000
DTEND;TZID=Europe/Madrid:20250301T193000
DTSTAMP:20260425T123545
CREATED:20240123T113352Z
LAST-MODIFIED:20240123T113352Z
UID:53216-1707562800-1740857400@a-desk.org
SUMMARY:"[contra]panorama" VV.AA
DESCRIPTION:
URL:https://a-desk.org/en/agenda/contrapanorama-vv-aa/
LOCATION:MACBA\, Plaça dels Àngels\, 1\, 08001 Barcelona mapa\, Barcelona\, Barcelona\, 08001\, Spain
CATEGORIES:Activitat,Cicle,Diàleg,Exposició,Mostra,Recerca
END:VEVENT
BEGIN:VEVENT
DTSTART;VALUE=DATE:20240626
DTEND;VALUE=DATE:20240805
DTSTAMP:20260425T123545
CREATED:20240616T091037Z
LAST-MODIFIED:20240701T101947Z
UID:56989-1719360000-1722815999@a-desk.org
SUMMARY:Grec Festival 2024
DESCRIPTION:
URL:https://a-desk.org/en/agenda/grec-fesitval-2024/
LOCATION:Barcelona
CATEGORIES:Festival,Teatre
END:VEVENT
BEGIN:VEVENT
DTSTART;TZID=Europe/Madrid:20240719T173000
DTEND;TZID=Europe/Madrid:20240719T203000
DTSTAMP:20260425T123545
CREATED:20240716T090708Z
LAST-MODIFIED:20240716T090850Z
UID:58265-1721410200-1721421000@a-desk.org
SUMMARY:“El tembleque\, vibraciones y tartamudeos del cuerpo sonoro" Aurora García
DESCRIPTION:
URL:https://a-desk.org/en/agenda/el-tembleque-vibraciones-y-tartamudeos-del-cuerpo-sonoro-aurora-garcia/
LOCATION:Fabra i Coats\, C/ Sant Adrià\, 20\, 08030 Barcelona mapa\, Barcelona\, Barcelona\, 08030\, Spain
CATEGORIES:Cicle
END:VEVENT
BEGIN:VEVENT
DTSTART;TZID=Europe/Madrid:20240719T180000
DTEND;TZID=Europe/Madrid:20240719T180000
DTSTAMP:20260425T123545
CREATED:20240717T112915Z
LAST-MODIFIED:20240717T112915Z
UID:58365-1721412000-1721412000@a-desk.org
SUMMARY:"Dispositiu casa" / Espais d'espècies
DESCRIPTION:
URL:https://a-desk.org/en/agenda/dispositiu-casa-espais-despecies/
LOCATION:Centre d’Art Torre Muntadas\, Carrer de Jaume Casanovas\, 80\, 08820 El Prat de Llobregat\, Barcelona
CATEGORIES:Conversa,Trobada
END:VEVENT
BEGIN:VEVENT
DTSTART;TZID=Europe/Madrid:20240719T183000
DTEND;TZID=Europe/Madrid:20240719T223000
DTSTAMP:20260425T123545
CREATED:20240708T082306Z
LAST-MODIFIED:20240708T082306Z
UID:57992-1721413800-1721428200@a-desk.org
SUMMARY:“Masa: nuestres cuerpes no resisten por sí soles”
DESCRIPTION:
URL:https://a-desk.org/en/agenda/masa-nuestres-cuerpes-no-resisten-por-si-soles/
LOCATION:La Escocesa\, C/ Pere IV\, 345\, 08020 Barcelona mapa\, Barcelona\, Barcelona\, 08020\, Spain
CATEGORIES:Activitat
END:VEVENT
BEGIN:VEVENT
DTSTART;TZID=Europe/Madrid:20240719T190000
DTEND;TZID=Europe/Madrid:20240719T190000
DTSTAMP:20260425T123545
CREATED:20240715T105659Z
LAST-MODIFIED:20240715T105659Z
UID:58200-1721415600-1721415600@a-desk.org
SUMMARY:"Esto (no) es porno gay IV" + debat
DESCRIPTION:
URL:https://a-desk.org/en/agenda/esto-no-es-porno-gay-iv-debat/
LOCATION:Zumzeig\, C/ Béjar\, 53\, 08014 Barcelona mapa\, Barcelona\, Barcelona\, 08014\, Spain
CATEGORIES:Cinema
END:VEVENT
BEGIN:VEVENT
DTSTART;TZID=Europe/Madrid:20240719T190000
DTEND;TZID=Europe/Madrid:20240719T193000
DTSTAMP:20260425T123545
CREATED:20240630T133009Z
LAST-MODIFIED:20240630T133009Z
UID:57500-1721415600-1721417400@a-desk.org
SUMMARY:Les cadires de Tàpies: Blanca Llum Vidal i Los Sara Fontán
DESCRIPTION:
URL:https://a-desk.org/en/agenda/les-cadires-de-tapies-blanca-llum-vidal-i-los-sara-fontan/
LOCATION:Museu Tàpies\, C/ Aragó\, 255\, 08007 Barcelona mapa\, Barcelona\, Barcelona\, 08007
CATEGORIES:Arts en viu,Cicle
END:VEVENT
BEGIN:VEVENT
DTSTART;TZID=Europe/Madrid:20240719T190000
DTEND;TZID=Europe/Madrid:20240719T200000
DTSTAMP:20260425T123545
CREATED:20240715T103649Z
LAST-MODIFIED:20240715T103649Z
UID:58188-1721415600-1721419200@a-desk.org
SUMMARY:"Antoni Tàpies. La práctica del arte"
DESCRIPTION:
URL:https://a-desk.org/en/agenda/antoni-tapies-la-practica-del-arte/
LOCATION:Museu Tàpies\, C/ Aragó\, 255\, 08007 Barcelona mapa\, Barcelona\, Barcelona\, 08007
CATEGORIES:Inauguració/Exposició
END:VEVENT
BEGIN:VEVENT
DTSTART;TZID=Europe/Madrid:20240719T190000
DTEND;TZID=Europe/Madrid:20240719T220000
DTSTAMP:20260425T123545
CREATED:20240711T091946Z
LAST-MODIFIED:20240711T092048Z
UID:58126-1721415600-1721426400@a-desk.org
SUMMARY:"Cronic indefinition" Patri Vizcaino Villalón / "Tell me more about your archive\, please?" Guariota
DESCRIPTION:
URL:https://a-desk.org/en/agenda/cronic-indefinition-patri-vizcaino-villalon/
LOCATION:Cordova\, Carrer de la Riereta\, 29\, Ciutat Vella\, 08001 Barcelona\, Barcelona\, Barcelona
CATEGORIES:Inauguració/Exposició
END:VEVENT
BEGIN:VEVENT
DTSTART;TZID=Europe/Madrid:20240719T193000
DTEND;TZID=Europe/Madrid:20240719T193000
DTSTAMP:20260425T123545
CREATED:20240708T082040Z
LAST-MODIFIED:20240708T082040Z
UID:57990-1721417400-1721417400@a-desk.org
SUMMARY:“Arqueologia del mal” Marta Margarit
DESCRIPTION:
URL:https://a-desk.org/en/agenda/arqueologia-del-mal-marta-margarit/
LOCATION:CC Can Felipa\, Pl. Josep Mª Huertas Claveria\, Barcelona\, Barcelona\, 08005\, España
CATEGORIES:Assaig obert,Performance
END:VEVENT
BEGIN:VEVENT
DTSTART;TZID=Europe/Madrid:20240719T193000
DTEND;TZID=Europe/Madrid:20240719T193000
DTSTAMP:20260425T123545
CREATED:20240708T082419Z
LAST-MODIFIED:20240708T082419Z
UID:57994-1721417400-1721417400@a-desk.org
SUMMARY:Sara Rahmam + Marçal Xirau + Da Rocha Um & Francisco Morgan
DESCRIPTION:
URL:https://a-desk.org/en/agenda/sara-rahmam-marcal-xirau-da-rocha-um-francisco-morgan/
LOCATION:Casa Montjuïc\, Carrer de Vila i Vilà\, 65\, Sants-Montjuïc\, 08004 Barcelona
CATEGORIES:Música
END:VEVENT
BEGIN:VEVENT
DTSTART;TZID=Europe/Madrid:20240719T193000
DTEND;TZID=Europe/Madrid:20240719T193000
DTSTAMP:20260425T123545
CREATED:20240708T165601Z
LAST-MODIFIED:20240708T165601Z
UID:58057-1721417400-1721417400@a-desk.org
SUMMARY:“La gran mentira de la muerte” Wu Tsang
DESCRIPTION:
URL:https://a-desk.org/en/agenda/la-gran-mentira-de-la-muerte-wu-tsang/
LOCATION:MACBA\, Plaça dels Àngels\, 1\, 08001 Barcelona mapa\, Barcelona\, Barcelona\, 08001\, Spain
CATEGORIES:Inauguració/Exposició
END:VEVENT
BEGIN:VEVENT
DTSTART;TZID=Europe/Madrid:20240719T200000
DTEND;TZID=Europe/Madrid:20240719T200000
DTSTAMP:20260425T123545
CREATED:20240715T105027Z
LAST-MODIFIED:20240715T105027Z
UID:58196-1721419200-1721419200@a-desk.org
SUMMARY:BINGO MUSICAL + DJ
DESCRIPTION:
URL:https://a-desk.org/en/agenda/bingo-musical-dj/
LOCATION:Centre Cultural La Farinera del Clot\, Gran Via de les Corts Catalanes\, 837\, Barcelona\, Barcelona\, 08018\, España
CATEGORIES:Activitat
END:VEVENT
BEGIN:VEVENT
DTSTART;TZID=Europe/Madrid:20240719T200000
DTEND;TZID=Europe/Madrid:20240719T200000
DTSTAMP:20260425T123545
CREATED:20240716T085849Z
LAST-MODIFIED:20240716T085849Z
UID:58261-1721419200-1721419200@a-desk.org
SUMMARY:"Apertura Neti Neti #4" Amalia Fernández\, Carme Torrent
DESCRIPTION:
URL:https://a-desk.org/en/agenda/apertura-neti-neti-4-amalia-fernandez-carme-torrent/
LOCATION:La Caldera\, C/ Eugeni d’Ors\, 12\, 08028 Barcelona mapa\, Barcelona\, Barcelona\, 08028\, Spain
CATEGORIES:Mostra
END:VEVENT
END:VCALENDAR