BEGIN:VCALENDAR
VERSION:2.0
PRODID:-//A*Desk - ECPv6.8.1//NONSGML v1.0//EN
CALSCALE:GREGORIAN
METHOD:PUBLISH
X-ORIGINAL-URL:https://a-desk.org/en/
X-WR-CALDESC:Events for A*Desk
REFRESH-INTERVAL;VALUE=DURATION:PT1H
X-Robots-Tag:noindex
X-PUBLISHED-TTL:PT1H
BEGIN:VTIMEZONE
TZID:Europe/Madrid
BEGIN:DAYLIGHT
TZOFFSETFROM:+0100
TZOFFSETTO:+0200
TZNAME:CEST
DTSTART:20240331T010000
END:DAYLIGHT
BEGIN:STANDARD
TZOFFSETFROM:+0200
TZOFFSETTO:+0100
TZNAME:CET
DTSTART:20241027T010000
END:STANDARD
BEGIN:DAYLIGHT
TZOFFSETFROM:+0100
TZOFFSETTO:+0200
TZNAME:CEST
DTSTART:20250330T010000
END:DAYLIGHT
BEGIN:STANDARD
TZOFFSETFROM:+0200
TZOFFSETTO:+0100
TZNAME:CET
DTSTART:20251026T010000
END:STANDARD
END:VTIMEZONE
BEGIN:VEVENT
DTSTART;TZID=Europe/Madrid:20240210T110000
DTEND;TZID=Europe/Madrid:20250301T193000
DTSTAMP:20260422T012556
CREATED:20240123T113352Z
LAST-MODIFIED:20240123T113352Z
UID:53216-1707562800-1740857400@a-desk.org
SUMMARY:"[contra]panorama" VV.AA
DESCRIPTION:
URL:https://a-desk.org/en/agenda/contrapanorama-vv-aa/
LOCATION:MACBA\, Plaça dels Àngels\, 1\, 08001 Barcelona mapa\, Barcelona\, Barcelona\, 08001\, Spain
CATEGORIES:Activitat,Cicle,Diàleg,Exposició,Mostra,Recerca
END:VEVENT
BEGIN:VEVENT
DTSTART;VALUE=DATE:20241001
DTEND;VALUE=DATE:20250625
DTSTAMP:20260422T012556
CREATED:20240928T113817Z
LAST-MODIFIED:20240928T114234Z
UID:59863-1727740800-1750809599@a-desk.org
SUMMARY:Per amor a les Arts 2024-2025
DESCRIPTION:
URL:https://a-desk.org/en/agenda/per-amor-a-les-arts-2024-2025/
LOCATION:Barcelona
CATEGORIES:Cicle,Cinema
END:VEVENT
BEGIN:VEVENT
DTSTART;VALUE=DATE:20241010
DTEND;VALUE=DATE:20250324
DTSTAMP:20260422T012556
CREATED:20241014T131318Z
LAST-MODIFIED:20241014T131318Z
UID:60706-1728518400-1742774399@a-desk.org
SUMMARY:Festival Jazz Barcelona 2024
DESCRIPTION:
URL:https://a-desk.org/en/agenda/festival-jazz-barcelona-2024/
LOCATION:Barcelona
CATEGORIES:Festival,Música
END:VEVENT
BEGIN:VEVENT
DTSTART;VALUE=DATE:20241017
DTEND;VALUE=DATE:20250330
DTSTAMP:20260422T012556
CREATED:20241014T130735Z
LAST-MODIFIED:20241014T130735Z
UID:60702-1729123200-1743292799@a-desk.org
SUMMARY:"Imaginant futurs" / Pantalla BDC - 13a edició
DESCRIPTION:
URL:https://a-desk.org/en/agenda/imaginant-futurs-pantalla-bdc-13a-edicio/
LOCATION:Barcelona
CATEGORIES:Cinema
END:VEVENT
BEGIN:VEVENT
DTSTART;VALUE=DATE:20241018
DTEND;VALUE=DATE:20241216
DTSTAMP:20260422T012556
CREATED:20241014T133018Z
LAST-MODIFIED:20241014T133018Z
UID:60714-1729209600-1734307199@a-desk.org
SUMMARY:URBS – SCAN Tarragona / Festival Internacional de Fotografia
DESCRIPTION:
URL:https://a-desk.org/en/agenda/urbs-scan-tarragona-festival-internacional-de-fotografia/
LOCATION:Barcelona
CATEGORIES:Festival
END:VEVENT
BEGIN:VEVENT
DTSTART;VALUE=DATE:20241024
DTEND;VALUE=DATE:20250422
DTSTAMP:20260422T012556
CREATED:20241020T092102Z
LAST-MODIFIED:20241020T092102Z
UID:60854-1729728000-1745279999@a-desk.org
SUMMARY:“Què se’ns escapa quan mirem des de dalt? / [contra]panorama. Epíleg”
DESCRIPTION:
URL:https://a-desk.org/en/agenda/que-sens-escapa-quan-mirem-des-de-dalt-contrapanorama-epileg/
LOCATION:MACBA\, Plaça dels Àngels\, 1\, 08001 Barcelona mapa\, Barcelona\, Barcelona\, 08001\, Spain
CATEGORIES:Projecte
END:VEVENT
BEGIN:VEVENT
DTSTART;VALUE=DATE:20241121
DTEND;VALUE=DATE:20241222
DTSTAMP:20260422T012556
CREATED:20241119T222154Z
LAST-MODIFIED:20241119T222154Z
UID:61959-1732147200-1734825599@a-desk.org
SUMMARY:DRAP ART FESTIVAL
DESCRIPTION:
URL:https://a-desk.org/en/agenda/drap-art-festival/
LOCATION:Barcelona
CATEGORIES:Festival
END:VEVENT
BEGIN:VEVENT
DTSTART;VALUE=DATE:20241127
DTEND;VALUE=DATE:20250101
DTSTAMP:20260422T012556
CREATED:20241122T230215Z
LAST-MODIFIED:20241122T230215Z
UID:61974-1732665600-1735689599@a-desk.org
SUMMARY:Dart Festival 2024
DESCRIPTION:
URL:https://a-desk.org/en/agenda/dart-festival-2024/
LOCATION:Barcelona
CATEGORIES:Festival
END:VEVENT
BEGIN:VEVENT
DTSTART;TZID=Europe/Madrid:20241213T150000
DTEND;TZID=Europe/Madrid:20241213T210000
DTSTAMP:20260422T012556
CREATED:20241209T155001Z
LAST-MODIFIED:20241209T155001Z
UID:62622-1734102000-1734123600@a-desk.org
SUMMARY:"Design Market Barcelona"
DESCRIPTION:
URL:https://a-desk.org/en/agenda/design-market-barcelona/
LOCATION:Fira de Barcelona\, Avinguda Rius i Taulet\, s/n\, Barcelona\, Barcelona\, 08004\, España
CATEGORIES:Fira
END:VEVENT
BEGIN:VEVENT
DTSTART;TZID=Europe/Madrid:20241213T180000
DTEND;TZID=Europe/Madrid:20241213T180000
DTSTAMP:20260422T012556
CREATED:20241210T204607Z
LAST-MODIFIED:20241210T204607Z
UID:62697-1734112800-1734112800@a-desk.org
SUMMARY:"Mentida podrida" Cal Teatre
DESCRIPTION:
URL:https://a-desk.org/en/agenda/mentida-podrida-cal-teatre/
LOCATION:Centre Cívic La Sagrera “La Barraca”\, Carrer de Martí Molins\, 29\, Barcelona\, Barcelona\, 08027\, España
CATEGORIES:Teatre
END:VEVENT
BEGIN:VEVENT
DTSTART;TZID=Europe/Madrid:20241213T180000
DTEND;TZID=Europe/Madrid:20241213T200000
DTSTAMP:20260422T012556
CREATED:20241210T203629Z
LAST-MODIFIED:20241212T075307Z
UID:62693-1734112800-1734120000@a-desk.org
SUMMARY:"Jornades Art\, Cultura i Decolonialitat"
DESCRIPTION:
URL:https://a-desk.org/en/agenda/jornades-art-cultura-i-decolonialitat-artsud/
LOCATION:Mèdol\, C/ d'En Granada\, 11\, Tarragona\, Tarragona\, 43003\, España
CATEGORIES:Jornada
END:VEVENT
BEGIN:VEVENT
DTSTART;TZID=Europe/Madrid:20241213T180000
DTEND;TZID=Europe/Madrid:20241213T210000
DTSTAMP:20260422T012556
CREATED:20241209T162656Z
LAST-MODIFIED:20241209T162656Z
UID:62666-1734112800-1734123600@a-desk.org
SUMMARY:"Les cadires de Tàpies: Niño de Elche + Lois Patiño"
DESCRIPTION:
URL:https://a-desk.org/en/agenda/les-cadires-de-tapies-nino-de-elche-lois-patino/
LOCATION:Pompeu Fabra\, C/ Ramon Trias Fargas\, 25-27. Barcelona
CATEGORIES:Concert
END:VEVENT
BEGIN:VEVENT
DTSTART;TZID=Europe/Madrid:20241213T180000
DTEND;TZID=Europe/Madrid:20241217T180000
DTSTAMP:20260422T012556
CREATED:20241209T154535Z
LAST-MODIFIED:20241209T154535Z
UID:62616-1734112800-1734458400@a-desk.org
SUMMARY:"La suprema" Felipe Holguín
DESCRIPTION:
URL:https://a-desk.org/en/agenda/la-suprema-felipe-holguin/
LOCATION:Filmoteca\, Plaça de Salvador Seguí\, 1\, 08001 Barcelona mapa\, Barcelona\, Barcelona\, 08001\, Spain
CATEGORIES:Cinema
END:VEVENT
BEGIN:VEVENT
DTSTART;TZID=Europe/Madrid:20241213T193000
DTEND;TZID=Europe/Madrid:20241213T193000
DTSTAMP:20260422T012556
CREATED:20241209T154413Z
LAST-MODIFIED:20241209T154413Z
UID:62614-1734118200-1734118200@a-desk.org
SUMMARY:"TECHNO" a càrrec de la Cía. Pawlikowska- Saghatelyan.
DESCRIPTION:
URL:https://a-desk.org/en/agenda/techno-a-carrec-de-la-cia-pawlikowska-saghatelyan/
LOCATION:CC Can Felipa\, Pl. Josep Mª Huertas Claveria\, Barcelona\, Barcelona\, 08005\, España
CATEGORIES:Música
END:VEVENT
BEGIN:VEVENT
DTSTART;TZID=Europe/Madrid:20241213T193000
DTEND;TZID=Europe/Madrid:20241213T193000
DTSTAMP:20260422T012556
CREATED:20241209T154633Z
LAST-MODIFIED:20241209T154633Z
UID:62618-1734118200-1734118200@a-desk.org
SUMMARY:"Riu" Sergi Rodríguez Latorre
DESCRIPTION:
URL:https://a-desk.org/en/agenda/riu-sergi-rodriguez-latorre/
LOCATION:CC Guinardó\, Ronda del Guinardó\, 113\, 08041 Barcelona mapa\, Barcelona\, Barcelona\, 08041\, Spain
CATEGORIES:Dansa
END:VEVENT
BEGIN:VEVENT
DTSTART;TZID=Europe/Madrid:20241213T193000
DTEND;TZID=Europe/Madrid:20241213T193000
DTSTAMP:20260422T012556
CREATED:20241209T155142Z
LAST-MODIFIED:20241209T155142Z
UID:62624-1734118200-1734118200@a-desk.org
SUMMARY:"Lo nuestro" Eu Manzanares
DESCRIPTION:
URL:https://a-desk.org/en/agenda/lo-nuestro-eu-manzanares/
LOCATION:Espai Texas\, C/ de Bailèn\, 205\, Gràcia\, Barcelona\, Barcelona\, 08037\, España
CATEGORIES:Teatre
END:VEVENT
BEGIN:VEVENT
DTSTART;TZID=Europe/Madrid:20241213T200000
DTEND;TZID=Europe/Madrid:20241213T200000
DTSTAMP:20260422T012556
CREATED:20241209T155407Z
LAST-MODIFIED:20241209T155407Z
UID:62628-1734120000-1734120000@a-desk.org
SUMMARY:"Vortex" Nuria Andorrà
DESCRIPTION:
URL:https://a-desk.org/en/agenda/vortex-nuria-andorra/
LOCATION:Antic Teatre\, C/ Verdaguer i Callís\, 12\, Barcelona\, Barcelona\, 08003\, España
CATEGORIES:Espectacle
END:VEVENT
BEGIN:VEVENT
DTSTART;TZID=Europe/Madrid:20241213T200000
DTEND;TZID=Europe/Madrid:20241213T203000
DTSTAMP:20260422T012556
CREATED:20241209T152302Z
LAST-MODIFIED:20241209T152302Z
UID:62590-1734120000-1734121800@a-desk.org
SUMMARY:"Los Guapos" David Trueba
DESCRIPTION:
URL:https://a-desk.org/en/agenda/los-guapos-david-trueba/
LOCATION:Sala Beckett\, C/ Pere IV\, 228\, 232\, 08005 Barcelona mapa\, Barcelona\, Barcelona\, 08005\, Spain
CATEGORIES:Teatre
END:VEVENT
BEGIN:VEVENT
DTSTART;TZID=Europe/Madrid:20241213T203000
DTEND;TZID=Europe/Madrid:20241213T203000
DTSTAMP:20260422T012556
CREATED:20241209T155254Z
LAST-MODIFIED:20241209T155254Z
UID:62626-1734121800-1734121800@a-desk.org
SUMMARY:"De tot Kos"
DESCRIPTION:
URL:https://a-desk.org/en/agenda/de-tot-kos/
LOCATION:La Caldera\, C/ Eugeni d’Ors\, 12\, 08028 Barcelona mapa\, Barcelona\, Barcelona\, 08028\, Spain
CATEGORIES:Espectacle
END:VEVENT
END:VCALENDAR