BEGIN:VCALENDAR
VERSION:2.0
PRODID:-//A*Desk - ECPv6.8.1//NONSGML v1.0//EN
CALSCALE:GREGORIAN
METHOD:PUBLISH
X-ORIGINAL-URL:https://a-desk.org/en/
X-WR-CALDESC:Events for A*Desk
REFRESH-INTERVAL;VALUE=DURATION:PT1H
X-Robots-Tag:noindex
X-PUBLISHED-TTL:PT1H
BEGIN:VTIMEZONE
TZID:Europe/Madrid
BEGIN:DAYLIGHT
TZOFFSETFROM:+0100
TZOFFSETTO:+0200
TZNAME:CEST
DTSTART:20240331T010000
END:DAYLIGHT
BEGIN:STANDARD
TZOFFSETFROM:+0200
TZOFFSETTO:+0100
TZNAME:CET
DTSTART:20241027T010000
END:STANDARD
BEGIN:DAYLIGHT
TZOFFSETFROM:+0100
TZOFFSETTO:+0200
TZNAME:CEST
DTSTART:20250330T010000
END:DAYLIGHT
BEGIN:STANDARD
TZOFFSETFROM:+0200
TZOFFSETTO:+0100
TZNAME:CET
DTSTART:20251026T010000
END:STANDARD
END:VTIMEZONE
BEGIN:VEVENT
DTSTART;TZID=Europe/Madrid:20240210T110000
DTEND;TZID=Europe/Madrid:20250301T193000
DTSTAMP:20260422T030658
CREATED:20240123T113352Z
LAST-MODIFIED:20240123T113352Z
UID:53216-1707562800-1740857400@a-desk.org
SUMMARY:"[contra]panorama" VV.AA
DESCRIPTION:
URL:https://a-desk.org/en/agenda/contrapanorama-vv-aa/
LOCATION:MACBA\, Plaça dels Àngels\, 1\, 08001 Barcelona mapa\, Barcelona\, Barcelona\, 08001\, Spain
CATEGORIES:Activitat,Cicle,Diàleg,Exposició,Mostra,Recerca
END:VEVENT
BEGIN:VEVENT
DTSTART;VALUE=DATE:20241001
DTEND;VALUE=DATE:20250625
DTSTAMP:20260422T030658
CREATED:20240928T113817Z
LAST-MODIFIED:20240928T114234Z
UID:59863-1727740800-1750809599@a-desk.org
SUMMARY:Per amor a les Arts 2024-2025
DESCRIPTION:
URL:https://a-desk.org/en/agenda/per-amor-a-les-arts-2024-2025/
LOCATION:Barcelona
CATEGORIES:Cicle,Cinema
END:VEVENT
BEGIN:VEVENT
DTSTART;VALUE=DATE:20241010
DTEND;VALUE=DATE:20250324
DTSTAMP:20260422T030658
CREATED:20241014T131318Z
LAST-MODIFIED:20241014T131318Z
UID:60706-1728518400-1742774399@a-desk.org
SUMMARY:Festival Jazz Barcelona 2024
DESCRIPTION:
URL:https://a-desk.org/en/agenda/festival-jazz-barcelona-2024/
LOCATION:Barcelona
CATEGORIES:Festival,Música
END:VEVENT
BEGIN:VEVENT
DTSTART;VALUE=DATE:20241017
DTEND;VALUE=DATE:20250330
DTSTAMP:20260422T030658
CREATED:20241014T130735Z
LAST-MODIFIED:20241014T130735Z
UID:60702-1729123200-1743292799@a-desk.org
SUMMARY:"Imaginant futurs" / Pantalla BDC - 13a edició
DESCRIPTION:
URL:https://a-desk.org/en/agenda/imaginant-futurs-pantalla-bdc-13a-edicio/
LOCATION:Barcelona
CATEGORIES:Cinema
END:VEVENT
BEGIN:VEVENT
DTSTART;VALUE=DATE:20241018
DTEND;VALUE=DATE:20241216
DTSTAMP:20260422T030658
CREATED:20241014T133018Z
LAST-MODIFIED:20241014T133018Z
UID:60714-1729209600-1734307199@a-desk.org
SUMMARY:URBS – SCAN Tarragona / Festival Internacional de Fotografia
DESCRIPTION:
URL:https://a-desk.org/en/agenda/urbs-scan-tarragona-festival-internacional-de-fotografia/
LOCATION:Barcelona
CATEGORIES:Festival
END:VEVENT
BEGIN:VEVENT
DTSTART;VALUE=DATE:20241024
DTEND;VALUE=DATE:20250422
DTSTAMP:20260422T030658
CREATED:20241020T092102Z
LAST-MODIFIED:20241020T092102Z
UID:60854-1729728000-1745279999@a-desk.org
SUMMARY:“Què se’ns escapa quan mirem des de dalt? / [contra]panorama. Epíleg”
DESCRIPTION:
URL:https://a-desk.org/en/agenda/que-sens-escapa-quan-mirem-des-de-dalt-contrapanorama-epileg/
LOCATION:MACBA\, Plaça dels Àngels\, 1\, 08001 Barcelona mapa\, Barcelona\, Barcelona\, 08001\, Spain
CATEGORIES:Projecte
END:VEVENT
BEGIN:VEVENT
DTSTART;VALUE=DATE:20241121
DTEND;VALUE=DATE:20241222
DTSTAMP:20260422T030658
CREATED:20241119T222154Z
LAST-MODIFIED:20241119T222154Z
UID:61959-1732147200-1734825599@a-desk.org
SUMMARY:DRAP ART FESTIVAL
DESCRIPTION:
URL:https://a-desk.org/en/agenda/drap-art-festival/
LOCATION:Barcelona
CATEGORIES:Festival
END:VEVENT
BEGIN:VEVENT
DTSTART;VALUE=DATE:20241127
DTEND;VALUE=DATE:20250101
DTSTAMP:20260422T030658
CREATED:20241122T230215Z
LAST-MODIFIED:20241122T230215Z
UID:61974-1732665600-1735689599@a-desk.org
SUMMARY:Dart Festival 2024
DESCRIPTION:
URL:https://a-desk.org/en/agenda/dart-festival-2024/
LOCATION:Barcelona
CATEGORIES:Festival
END:VEVENT
BEGIN:VEVENT
DTSTART;TZID=Europe/Madrid:20241213T180000
DTEND;TZID=Europe/Madrid:20241217T180000
DTSTAMP:20260422T030658
CREATED:20241209T154535Z
LAST-MODIFIED:20241209T154535Z
UID:62616-1734112800-1734458400@a-desk.org
SUMMARY:"La suprema" Felipe Holguín
DESCRIPTION:
URL:https://a-desk.org/en/agenda/la-suprema-felipe-holguin/
LOCATION:Filmoteca\, Plaça de Salvador Seguí\, 1\, 08001 Barcelona mapa\, Barcelona\, Barcelona\, 08001\, Spain
CATEGORIES:Cinema
END:VEVENT
BEGIN:VEVENT
DTSTART;VALUE=DATE:20241214
DTEND;VALUE=DATE:20241215
DTSTAMP:20260422T030658
CREATED:20241209T162431Z
LAST-MODIFIED:20241209T162431Z
UID:62664-1734134400-1734220799@a-desk.org
SUMMARY:TOTS A UNA PER VALÈNCIA
DESCRIPTION:
URL:https://a-desk.org/en/agenda/tots-a-una-per-valencia/
LOCATION:Art Barcelona Asociación de Galerías\, Carrer Emilia Coranty\, 16\, Barcelona\, Barcelona\, 08018\, España
CATEGORIES:Activitat
END:VEVENT
BEGIN:VEVENT
DTSTART;TZID=Europe/Madrid:20241214T100000
DTEND;TZID=Europe/Madrid:20241214T100000
DTSTAMP:20260422T030658
CREATED:20241209T154822Z
LAST-MODIFIED:20241209T154822Z
UID:62620-1734170400-1734170400@a-desk.org
SUMMARY:"Parlaments d'aigua" Laboratoris de Futurs
DESCRIPTION:
URL:https://a-desk.org/en/agenda/parlaments-daigua-laboratoris-de-futurs/
LOCATION:Centre Cultural La Mercè\, Pujada de la Mercè\, 12\, 17004 Girona\, España
CATEGORIES:Jornada
END:VEVENT
BEGIN:VEVENT
DTSTART;TZID=Europe/Madrid:20241214T100000
DTEND;TZID=Europe/Madrid:20241214T190000
DTSTAMP:20260422T030658
CREATED:20241209T161133Z
LAST-MODIFIED:20241209T161133Z
UID:62648-1734170400-1734202800@a-desk.org
SUMMARY:"Jornada especial de Nadal a la Miró"
DESCRIPTION:
URL:https://a-desk.org/en/agenda/jornada-especial-de-nadal-a-la-miro/
LOCATION:Fundación Joan Miró\, Parc de Montjuïc\, s/n\, 08038 Barcelona mapa\, Barcelona\, Barcelona\, 08038\, Spain
CATEGORIES:Jornada
END:VEVENT
BEGIN:VEVENT
DTSTART;TZID=Europe/Madrid:20241214T100000
DTEND;TZID=Europe/Madrid:20241214T200000
DTSTAMP:20260422T030658
CREATED:20241209T163955Z
LAST-MODIFIED:20241209T163955Z
UID:62678-1734170400-1734206400@a-desk.org
SUMMARY:"El Festivalet"
DESCRIPTION:
URL:https://a-desk.org/en/agenda/el-festivalet/
LOCATION:Fabra i Coats\, C/ Sant Adrià\, 20\, 08030 Barcelona mapa\, Barcelona\, Barcelona\, 08030\, Spain
CATEGORIES:Festival
END:VEVENT
BEGIN:VEVENT
DTSTART;TZID=Europe/Madrid:20241214T110000
DTEND;TZID=Europe/Madrid:20241214T140000
DTSTAMP:20260422T030658
CREATED:20241209T161318Z
LAST-MODIFIED:20241209T161318Z
UID:62650-1734174000-1734184800@a-desk.org
SUMMARY:Mia Llauder "Un any"
DESCRIPTION:
URL:https://a-desk.org/en/agenda/mia-llauder-un-any/
LOCATION:Cementiri dels Caputxins\, Carrer del Molí de Dalt\, 4\, 08304 Mataró\, Barcelona
CATEGORIES:Instal·lació
END:VEVENT
BEGIN:VEVENT
DTSTART;TZID=Europe/Madrid:20241214T110000
DTEND;TZID=Europe/Madrid:20241214T140000
DTSTAMP:20260422T030658
CREATED:20241210T203221Z
LAST-MODIFIED:20241210T203221Z
UID:62691-1734174000-1734184800@a-desk.org
SUMMARY:Dissabte de Vermut a Piramidón
DESCRIPTION:
URL:https://a-desk.org/en/agenda/dissabte-de-vermut-a-piramidon/
LOCATION:Piramidón\, Carrer del Concili de Trento\, 313\, Sant Martí\, 08020 Barcelona
CATEGORIES:Trobada
END:VEVENT
BEGIN:VEVENT
DTSTART;TZID=Europe/Madrid:20241214T110000
DTEND;TZID=Europe/Madrid:20241214T210000
DTSTAMP:20260422T030658
CREATED:20241209T155754Z
LAST-MODIFIED:20241209T155754Z
UID:62632-1734174000-1734210000@a-desk.org
SUMMARY:"Design Market Barcelona"
DESCRIPTION:
URL:https://a-desk.org/en/agenda/design-market-barcelona-2/
LOCATION:Fira de Barcelona\, Avinguda Rius i Taulet\, s/n\, Barcelona\, Barcelona\, 08004\, España
CATEGORIES:Fira
END:VEVENT
BEGIN:VEVENT
DTSTART;TZID=Europe/Madrid:20241214T113000
DTEND;TZID=Europe/Madrid:20241214T113000
DTSTAMP:20260422T030658
CREATED:20241209T160839Z
LAST-MODIFIED:20241209T160839Z
UID:62644-1734175800-1734175800@a-desk.org
SUMMARY:"Infralocus. Els 90 a Girona\, una dècada de 20 anys" Visita comentada amb Eudald Camps i Jordi Mitjà
DESCRIPTION:
URL:https://a-desk.org/en/agenda/infralocus-els-90-a-girona-una-decada-de-20-anys-visita-comentada-amb-eudald-camps-i-jordi-mitja/
LOCATION:Bòlit. Centre d’Art Contemporani Girona\, Rambla de la Llibertat\, 1\, Girona\, Girona\, 17004\, España
CATEGORIES:Guided tour
END:VEVENT
BEGIN:VEVENT
DTSTART;TZID=Europe/Madrid:20241214T113000
DTEND;TZID=Europe/Madrid:20241214T140000
DTSTAMP:20260422T030658
CREATED:20241209T160949Z
LAST-MODIFIED:20241209T160949Z
UID:62646-1734175800-1734184800@a-desk.org
SUMMARY:"Taller d'elaboració remix d'una publicació col·lectiva a partir d’exemplars del fons de La Fanzinoteca"
DESCRIPTION:
URL:https://a-desk.org/en/agenda/taller-delaboracio-remix-duna-publicacio-col%c2%b7lectiva-a-partir-dexemplars-del-fons-de-la-fanzinoteca/
LOCATION:Santa Mònica\, La Rambla\, 7\, 08002 Barcelona mapa\, Barcelona\, Barcelona\, 08002\, Spain
CATEGORIES:Workshop
END:VEVENT
BEGIN:VEVENT
DTSTART;TZID=Europe/Madrid:20241214T120000
DTEND;TZID=Europe/Madrid:20241214T120000
DTSTAMP:20260422T030658
CREATED:20241209T160726Z
LAST-MODIFIED:20241209T160726Z
UID:62642-1734177600-1734177600@a-desk.org
SUMMARY:"Blood into gold" / "Les Festes" Rogelio López Cuenca
DESCRIPTION:
URL:https://a-desk.org/en/agenda/blood-into-gold-les-festes-rogelio-lopez-cuenca/
LOCATION:Galeria Palmadotze\, Camí de Mas Pujó\, s/n\, Santa Margarida i els Monjos\, Barcelona\, 08730
CATEGORIES:Inauguració/Exposició
END:VEVENT
BEGIN:VEVENT
DTSTART;TZID=Europe/Madrid:20241214T120000
DTEND;TZID=Europe/Madrid:20241214T140000
DTSTAMP:20260422T030658
CREATED:20241209T160048Z
LAST-MODIFIED:20241209T160048Z
UID:62636-1734177600-1734184800@a-desk.org
SUMMARY:"TALLER DE PODCAST: Las que cuidamos\, nos oigan! "
DESCRIPTION:
URL:https://a-desk.org/en/agenda/taller-de-podcast-las-que-cuidamos-nos-oigan-2/
LOCATION:Libreria La Caníbal\, C/ Nàpols\, 314\, 08025 Barcelona mapa\, Barcelona\, Barcelona\, 08044\, Spain
CATEGORIES:Workshop
END:VEVENT
BEGIN:VEVENT
DTSTART;TZID=Europe/Madrid:20241214T173000
DTEND;TZID=Europe/Madrid:20241214T173000
DTSTAMP:20260422T030658
CREATED:20241209T160501Z
LAST-MODIFIED:20241209T160501Z
UID:62640-1734197400-1734197400@a-desk.org
SUMMARY:Visita guiada "Entre muses. Gènesi d’un llegat universal"
DESCRIPTION:
URL:https://a-desk.org/en/agenda/visita-guiada-entre-muses-genesi-dun-llegat-universal/
LOCATION:Biblioteca Museu Víctor Balaguer
CATEGORIES:Guided tour
END:VEVENT
BEGIN:VEVENT
DTSTART;TZID=Europe/Madrid:20241214T200000
DTEND;TZID=Europe/Madrid:20241214T200000
DTSTAMP:20260422T030658
CREATED:20241209T160243Z
LAST-MODIFIED:20241209T160243Z
UID:62638-1734206400-1734206400@a-desk.org
SUMMARY:"AFRICA MOMENT: L’homme rare" Nadia Beugré
DESCRIPTION:
URL:https://a-desk.org/en/agenda/africa-moment-lhomme-rare-nadia-beugre/
LOCATION:Mercat de les Flors\, C/ Lleida\, 59\, 08004 Barcelona mapa\, Barcelona\, Barcelona\, 08004\, Spain
CATEGORIES:Espectacle
END:VEVENT
BEGIN:VEVENT
DTSTART;TZID=Europe/Madrid:20241214T200000
DTEND;TZID=Europe/Madrid:20241214T200000
DTSTAMP:20260422T030658
CREATED:20241209T161435Z
LAST-MODIFIED:20241209T161435Z
UID:62653-1734206400-1734206400@a-desk.org
SUMMARY:"Albert Cirera i Kamarilla" / Byron-Milano Jazz Club
DESCRIPTION:
URL:https://a-desk.org/en/agenda/albert-cirera-i-kamarilla-byron-milano-jazz-club/
LOCATION:Llibreria Byron\, C/ Casanova\, 32\, 08011 Barcelona mapa\, Barcelona\, Barcelona\, 08011\, Spain
CATEGORIES:Música
END:VEVENT
END:VCALENDAR