BEGIN:VCALENDAR
VERSION:2.0
PRODID:-//A*Desk - ECPv6.8.1//NONSGML v1.0//EN
CALSCALE:GREGORIAN
METHOD:PUBLISH
X-ORIGINAL-URL:https://a-desk.org/en/
X-WR-CALDESC:Events for A*Desk
REFRESH-INTERVAL;VALUE=DURATION:PT1H
X-Robots-Tag:noindex
X-PUBLISHED-TTL:PT1H
BEGIN:VTIMEZONE
TZID:Europe/Madrid
BEGIN:DAYLIGHT
TZOFFSETFROM:+0100
TZOFFSETTO:+0200
TZNAME:CEST
DTSTART:20240331T010000
END:DAYLIGHT
BEGIN:STANDARD
TZOFFSETFROM:+0200
TZOFFSETTO:+0100
TZNAME:CET
DTSTART:20241027T010000
END:STANDARD
BEGIN:DAYLIGHT
TZOFFSETFROM:+0100
TZOFFSETTO:+0200
TZNAME:CEST
DTSTART:20250330T010000
END:DAYLIGHT
BEGIN:STANDARD
TZOFFSETFROM:+0200
TZOFFSETTO:+0100
TZNAME:CET
DTSTART:20251026T010000
END:STANDARD
END:VTIMEZONE
BEGIN:VEVENT
DTSTART;VALUE=DATE:20241001
DTEND;VALUE=DATE:20250625
DTSTAMP:20260419T182543
CREATED:20240928T113817Z
LAST-MODIFIED:20240928T114234Z
UID:59863-1727740800-1750809599@a-desk.org
SUMMARY:Per amor a les Arts 2024-2025
DESCRIPTION:
URL:https://a-desk.org/en/agenda/per-amor-a-les-arts-2024-2025/
LOCATION:Barcelona
CATEGORIES:Cicle,Cinema
END:VEVENT
BEGIN:VEVENT
DTSTART;VALUE=DATE:20250429
DTEND;VALUE=DATE:20250621
DTSTAMP:20260419T182543
CREATED:20250429T084203Z
LAST-MODIFIED:20250429T084203Z
UID:66643-1745884800-1750463999@a-desk.org
SUMMARY:"SIT-RES 2026 - IDENSITAT"
DESCRIPTION:
URL:https://a-desk.org/en/agenda/sit-res-2026-idensitat/
LOCATION:Barcelona
CATEGORIES:Convocatòria
END:VEVENT
BEGIN:VEVENT
DTSTART;VALUE=DATE:20250505
DTEND;VALUE=DATE:20250612
DTSTAMP:20260419T182543
CREATED:20250505T063015Z
LAST-MODIFIED:20250505T063015Z
UID:66915-1746403200-1749686399@a-desk.org
SUMMARY:"Presentacions - EN RESiDÈNCiA"
DESCRIPTION:
URL:https://a-desk.org/en/agenda/presentacions-en-residencia/
LOCATION:Barcelona
CATEGORIES:Presentació
END:VEVENT
BEGIN:VEVENT
DTSTART;VALUE=DATE:20250506
DTEND;VALUE=DATE:20250528
DTSTAMP:20260419T182543
CREATED:20250429T085834Z
LAST-MODIFIED:20250429T085834Z
UID:66659-1746489600-1748390399@a-desk.org
SUMMARY:"Festival en altres paraules"
DESCRIPTION:
URL:https://a-desk.org/en/agenda/festival-en-altres-paraules/
LOCATION:CaixaForum Barcelona\, Av. Francesc Ferrer i Guàrdia\, 6-8\, Barcelona\, Barcelona\, 08038\, España
CATEGORIES:Festival
END:VEVENT
BEGIN:VEVENT
DTSTART;VALUE=DATE:20250508
DTEND;VALUE=DATE:20250519
DTSTAMP:20260419T182543
CREATED:20250409T074638Z
LAST-MODIFIED:20250409T074638Z
UID:66230-1746662400-1747612799@a-desk.org
SUMMARY:"DocsBarcelona 2025"
DESCRIPTION:
URL:https://a-desk.org/en/agenda/docsbarcelona-2025/
LOCATION:Barcelona
CATEGORIES:Cinema,Festival
END:VEVENT
BEGIN:VEVENT
DTSTART;VALUE=DATE:20250508
DTEND;VALUE=DATE:20250619
DTSTAMP:20260419T182543
CREATED:20250506T101955Z
LAST-MODIFIED:20250506T101955Z
UID:67007-1746662400-1750291199@a-desk.org
SUMMARY:"Sumari astral"
DESCRIPTION:
URL:https://a-desk.org/en/agenda/sumari-astral/
LOCATION:Fundació Joan Brossa\, C/ Flassaders\, 40\, 08003 Barcelona mapa\, Barcelona\, Barcelona\, 08003\, Spain
CATEGORIES:Cicle
END:VEVENT
BEGIN:VEVENT
DTSTART;VALUE=DATE:20250512
DTEND;VALUE=DATE:20250629
DTSTAMP:20260419T182543
CREATED:20250507T073536Z
LAST-MODIFIED:20250507T073536Z
UID:67055-1747008000-1751155199@a-desk.org
SUMMARY:"Setmanes d’Arquitectura"
DESCRIPTION:
URL:https://a-desk.org/en/agenda/setmanes-darquitectura/
LOCATION:Barcelona
CATEGORIES:Jornada
END:VEVENT
BEGIN:VEVENT
DTSTART;VALUE=DATE:20250514
DTEND;VALUE=DATE:20250525
DTSTAMP:20260419T182543
CREATED:20250506T084313Z
LAST-MODIFIED:20250506T084313Z
UID:66989-1747180800-1748131199@a-desk.org
SUMMARY:"CO-" Cinequipa
DESCRIPTION:
URL:https://a-desk.org/en/agenda/co-cinequipa/
LOCATION:Zumzeig\, C/ Béjar\, 53\, 08014 Barcelona mapa\, Barcelona\, Barcelona\, 08014\, Spain
CATEGORIES:Festival
END:VEVENT
BEGIN:VEVENT
DTSTART;TZID=Europe/Madrid:20250514T183000
DTEND;TZID=Europe/Madrid:20250604T200000
DTSTAMP:20260419T182543
CREATED:20250507T073034Z
LAST-MODIFIED:20250507T073101Z
UID:67051-1747247400-1749067200@a-desk.org
SUMMARY:"La imaginació crítica. Poètica i política de les imatges" Marta Gili
DESCRIPTION:
URL:https://a-desk.org/en/agenda/la-imaginacio-critica-poetica-i-politica-de-les-imatges-marta-gili/
LOCATION:CCCB\, C/ Montalegre\, 5\, 08001 Barcelona mapa\, Barcelona\, Barcelona\, 08001\, Spain
CATEGORIES:Curs
END:VEVENT
BEGIN:VEVENT
DTSTART;VALUE=DATE:20250515
DTEND;VALUE=DATE:20250519
DTSTAMP:20260419T182543
CREATED:20250409T081556Z
LAST-MODIFIED:20250409T081556Z
UID:66248-1747267200-1747612799@a-desk.org
SUMMARY:"Festival Embassa’t!"
DESCRIPTION:
URL:https://a-desk.org/en/agenda/festival-embassat/
LOCATION:Amfiteatre del Parc Catalunya\, Carrer Prat de la Riba\, 104\, Sabadell\, Barcelona\, 08206\, España
CATEGORIES:Festival
END:VEVENT
BEGIN:VEVENT
DTSTART;VALUE=DATE:20250515
DTEND;VALUE=DATE:20250519
DTSTAMP:20260419T182543
CREATED:20250512T075856Z
LAST-MODIFIED:20250512T075856Z
UID:67114-1747267200-1747612799@a-desk.org
SUMMARY:"Digital after all"
DESCRIPTION:
URL:https://a-desk.org/en/agenda/digital-after-all-2/
LOCATION:Mèdol\, C/ d'En Granada\, 11\, Tarragona\, Tarragona\, 43003\, España
CATEGORIES:Festival
END:VEVENT
BEGIN:VEVENT
DTSTART;TZID=Europe/Madrid:20250515T170000
DTEND;TZID=Europe/Madrid:20250515T170000
DTSTAMP:20260419T182543
CREATED:20250512T082322Z
LAST-MODIFIED:20250512T082322Z
UID:67138-1747328400-1747328400@a-desk.org
SUMMARY:"Toni Catany. El cos\, la mirada\, el record"
DESCRIPTION:
URL:https://a-desk.org/en/agenda/toni-catany-el-cos-la-mirada-el-record/
LOCATION:Artur Ramon Art\, C/ de Bailèn\, 19\, Barcelona\, Barcelona\, 08010\, España
CATEGORIES:Inauguració/Exposició
END:VEVENT
BEGIN:VEVENT
DTSTART;TZID=Europe/Madrid:20250515T183000
DTEND;TZID=Europe/Madrid:20250515T200000
DTSTAMP:20260419T182543
CREATED:20250512T081512Z
LAST-MODIFIED:20250512T081512Z
UID:67132-1747333800-1747339200@a-desk.org
SUMMARY:"A la recerca de vida extraterrestre" Didier Queloz i Nathalie Cabrol
DESCRIPTION:
URL:https://a-desk.org/en/agenda/a-la-recerca-de-vida-extraterrestre-didier-queloz-i-nathalie-cabrol/
LOCATION:CCCB\, C/ Montalegre\, 5\, 08001 Barcelona mapa\, Barcelona\, Barcelona\, 08001\, Spain
CATEGORIES:Debat
END:VEVENT
BEGIN:VEVENT
DTSTART;TZID=Europe/Madrid:20250515T190000
DTEND;TZID=Europe/Madrid:20250515T190000
DTSTAMP:20260419T182543
CREATED:20250429T083820Z
LAST-MODIFIED:20250429T083820Z
UID:66639-1747335600-1747335600@a-desk.org
SUMMARY:"Converses Documenta: Michael Sandel"
DESCRIPTION:
URL:https://a-desk.org/en/agenda/converses-documenta-michael-sandel/
LOCATION:Llibreria documenta\, Carrer de Pau Claris\, 144\, L'Eixample\, 08009 Barcelona
CATEGORIES:Conversa
END:VEVENT
BEGIN:VEVENT
DTSTART;TZID=Europe/Madrid:20250515T190000
DTEND;TZID=Europe/Madrid:20250515T190000
DTSTAMP:20260419T182543
CREATED:20250512T080013Z
LAST-MODIFIED:20250514T114233Z
UID:67116-1747335600-1747335600@a-desk.org
SUMMARY:Inauguració / "Digital after all"
DESCRIPTION:
URL:https://a-desk.org/en/agenda/inaugruacio-digital-after-all/
LOCATION:Mèdol\, C/ d'En Granada\, 11\, Tarragona\, Tarragona\, 43003\, España
CATEGORIES:Inauguració
END:VEVENT
BEGIN:VEVENT
DTSTART;TZID=Europe/Madrid:20250515T190000
DTEND;TZID=Europe/Madrid:20250515T190000
DTSTAMP:20260419T182543
CREATED:20250512T080702Z
LAST-MODIFIED:20250512T080702Z
UID:67124-1747335600-1747335600@a-desk.org
SUMMARY:"El filòsof Michael Sandel conversa amb Joan Burdeus"
DESCRIPTION:
URL:https://a-desk.org/en/agenda/el-filosof-michael-sandel-conversa-amb-joan-burdeus/
LOCATION:Llibreria documenta\, Carrer de Pau Claris\, 144\, L'Eixample\, 08009 Barcelona
CATEGORIES:Conversa
END:VEVENT
BEGIN:VEVENT
DTSTART;TZID=Europe/Madrid:20250515T190000
DTEND;TZID=Europe/Madrid:20250515T190000
DTSTAMP:20260419T182543
CREATED:20250512T081205Z
LAST-MODIFIED:20250512T081205Z
UID:67128-1747335600-1747335600@a-desk.org
SUMMARY:"Dramatúrgies polítiques" Marta Galán Sala
DESCRIPTION:
URL:https://a-desk.org/en/agenda/dramaturgies-politiques-marta-galan-sala/
LOCATION:Llibreria Finestres\, C/ Diputació\, 249\, 08007 Barcelona mapa\, Barcelona\, Barcelona\, 08007\, Spain
CATEGORIES:Encuentro/Coloquio
END:VEVENT
BEGIN:VEVENT
DTSTART;TZID=Europe/Madrid:20250515T190000
DTEND;TZID=Europe/Madrid:20250515T190000
DTSTAMP:20260419T182544
CREATED:20250512T084146Z
LAST-MODIFIED:20250512T084146Z
UID:67153-1747335600-1747335600@a-desk.org
SUMMARY:"Cinéticas del trabajo. Cartografías críticas de un Sant Andreu en disputa"
DESCRIPTION:
URL:https://a-desk.org/en/agenda/cineticas-del-trabajo-cartografias-criticas-de-un-sant-andreu-en-disputa/
LOCATION:CC Sant Andreu\, C/ Gran de Sant Andreu\, 111\, Barcelona\, Barcelona\, 08030\, España
CATEGORIES:Inauguració/Exposició
END:VEVENT
BEGIN:VEVENT
DTSTART;TZID=Europe/Madrid:20250515T190000
DTEND;TZID=Europe/Madrid:20250515T190000
DTSTAMP:20260419T182544
CREATED:20250512T100802Z
LAST-MODIFIED:20250512T100802Z
UID:67179-1747335600-1747335600@a-desk.org
SUMMARY:"Todos los detalles que pudieran haberse omitido"
DESCRIPTION:
URL:https://a-desk.org/en/agenda/todos-los-detalles-que-pudieran-haberse-omitido/
LOCATION:CC Can Felipa\, Pl. Josep Mª Huertas Claveria\, Barcelona\, Barcelona\, 08005\, España
CATEGORIES:Inauguració/Exposició
END:VEVENT
BEGIN:VEVENT
DTSTART;TZID=Europe/Madrid:20250515T190000
DTEND;TZID=Europe/Madrid:20250515T190000
DTSTAMP:20260419T182544
CREATED:20250512T101340Z
LAST-MODIFIED:20250512T101340Z
UID:67183-1747335600-1747335600@a-desk.org
SUMMARY:"Els drets de l'habitatge" / Què volen aquesta gent?
DESCRIPTION:
URL:https://a-desk.org/en/agenda/els-drets-de-lhabitatge-que-volen-aquesta-gent/
LOCATION:Espai Mallorca\, Plaça de Vicenç Martorell\, 1\, Ciutat Vella\, 08001 Barcelona
CATEGORIES:Debat
END:VEVENT
BEGIN:VEVENT
DTSTART;TZID=Europe/Madrid:20250515T190000
DTEND;TZID=Europe/Madrid:20250515T190000
DTSTAMP:20260419T182544
CREATED:20250512T101820Z
LAST-MODIFIED:20250512T101820Z
UID:67187-1747335600-1747335600@a-desk.org
SUMMARY:"La Cuina del MACBA" Marina Monsonís\, S A V V Y Contemporary\, b.ASIC a.CTIVIST k.ITCHEN i Wilde 24
DESCRIPTION:
URL:https://a-desk.org/en/agenda/la-cuina-del-macba-marina-monsonis-s-a-v-v-y-contemporary-b-asic-a-ctivist-k-itchen-i-wilde-24/
LOCATION:MACBA\, Plaça dels Àngels\, 1\, 08001 Barcelona mapa\, Barcelona\, Barcelona\, 08001\, Spain
CATEGORIES:Activitat
END:VEVENT
BEGIN:VEVENT
DTSTART;TZID=Europe/Madrid:20250515T190000
DTEND;TZID=Europe/Madrid:20250515T200000
DTSTAMP:20260419T182544
CREATED:20250514T102259Z
LAST-MODIFIED:20250514T102259Z
UID:67230-1747335600-1747339200@a-desk.org
SUMMARY:"Dijous de veu i paraula / Una setmana a Sant Simón"
DESCRIPTION:
URL:https://a-desk.org/en/agenda/dijous-de-veu-i-paraula-una-setmana-a-sant-simon/
LOCATION:Santa Mònica\, La Rambla\, 7\, 08002 Barcelona mapa\, Barcelona\, Barcelona\, 08002\, Spain
CATEGORIES:Recital
END:VEVENT
BEGIN:VEVENT
DTSTART;TZID=Europe/Madrid:20250515T190000
DTEND;TZID=Europe/Madrid:20250515T210000
DTSTAMP:20260419T182544
CREATED:20250514T102419Z
LAST-MODIFIED:20250514T102419Z
UID:67232-1747335600-1747342800@a-desk.org
SUMMARY:"El futur del Dispensari Antituberculós a debat"
DESCRIPTION:
URL:https://a-desk.org/en/agenda/el-futur-del-dispensari-antituberculos-a-debat/
LOCATION:àngels barcelona\, C/ Pintor Fortuny\, 27\, Barcelona\, Barcelona\, 08001\, España
CATEGORIES:Debat
END:VEVENT
BEGIN:VEVENT
DTSTART;TZID=Europe/Madrid:20250515T193000
DTEND;TZID=Europe/Madrid:20250515T193000
DTSTAMP:20260419T182544
CREATED:20250514T111621Z
LAST-MODIFIED:20250514T111641Z
UID:67265-1747337400-1747337400@a-desk.org
SUMMARY:"Exilio" Alex Brendemühl i Nora Buschmann
DESCRIPTION:
URL:https://a-desk.org/en/agenda/exilio-alex-brendemuhl-i-nora-buschmann/
LOCATION:La Casa Elizalde\, C/ València\, 302\, 08009 Barcelona mapa\, Barcelona\, Barcelona\, 08009\, Spain
CATEGORIES:Teatre
END:VEVENT
BEGIN:VEVENT
DTSTART;TZID=Europe/Madrid:20250515T200000
DTEND;TZID=Europe/Madrid:20250515T200000
DTSTAMP:20260419T182544
CREATED:20250512T080519Z
LAST-MODIFIED:20250512T080519Z
UID:67122-1747339200-1747339200@a-desk.org
SUMMARY:"Clavellines d'aire" cia. La Tremenda
DESCRIPTION:
URL:https://a-desk.org/en/agenda/clavellines-daire-cia-la-tremenda/
LOCATION:Centre Cultural La Farinera del Clot\, Gran Via de les Corts Catalanes\, 837\, Barcelona\, Barcelona\, 08018\, España
CATEGORIES:Espectacle
END:VEVENT
BEGIN:VEVENT
DTSTART;TZID=Europe/Madrid:20250515T200000
DTEND;TZID=Europe/Madrid:20250515T200000
DTSTAMP:20260419T182544
CREATED:20250514T101658Z
LAST-MODIFIED:20250514T114319Z
UID:67223-1747339200-1747339200@a-desk.org
SUMMARY:1_Sessió Infàncies (1) - "Ten Minutes Older" Herz Frank + "Cien niños esperando un tren" Ignacio Agüero / Cicle Georges Didi-Huberman
DESCRIPTION:
URL:https://a-desk.org/en/agenda/1_sessio-infancies-1-ten-minutes-older-herz-frank-cien-ninos-esperando-un-tren-ignacio-aguero-cicle-de-cinema-filmoteca-georges-didi-huberman/
LOCATION:Filmoteca\, Plaça de Salvador Seguí\, 1\, 08001 Barcelona mapa\, Barcelona\, Barcelona\, 08001\, Spain
CATEGORIES:Cicle,Cinema
END:VEVENT
BEGIN:VEVENT
DTSTART;TZID=Europe/Madrid:20250515T200000
DTEND;TZID=Europe/Madrid:20250515T210000
DTSTAMP:20260419T182544
CREATED:20250514T102811Z
LAST-MODIFIED:20250514T102811Z
UID:67237-1747339200-1747342800@a-desk.org
SUMMARY:"Cambres Liceu. Concert Solidari"
DESCRIPTION:
URL:https://a-desk.org/en/agenda/cambres-liceu-concert-solidari/
LOCATION:Sala Parés\, C/ Petritxol\, 5\, 08002 Barcelona mapa\, Barcelona\, Barcelona\, 08002\, Spain
CATEGORIES:Concert
END:VEVENT
END:VCALENDAR