BEGIN:VCALENDAR
VERSION:2.0
PRODID:-//A*Desk - ECPv6.8.1//NONSGML v1.0//EN
CALSCALE:GREGORIAN
METHOD:PUBLISH
X-ORIGINAL-URL:https://a-desk.org/en/
X-WR-CALDESC:Events for A*Desk
REFRESH-INTERVAL;VALUE=DURATION:PT1H
X-Robots-Tag:noindex
X-PUBLISHED-TTL:PT1H
BEGIN:VTIMEZONE
TZID:Europe/Madrid
BEGIN:DAYLIGHT
TZOFFSETFROM:+0100
TZOFFSETTO:+0200
TZNAME:CEST
DTSTART:20240331T010000
END:DAYLIGHT
BEGIN:STANDARD
TZOFFSETFROM:+0200
TZOFFSETTO:+0100
TZNAME:CET
DTSTART:20241027T010000
END:STANDARD
BEGIN:DAYLIGHT
TZOFFSETFROM:+0100
TZOFFSETTO:+0200
TZNAME:CEST
DTSTART:20250330T010000
END:DAYLIGHT
BEGIN:STANDARD
TZOFFSETFROM:+0200
TZOFFSETTO:+0100
TZNAME:CET
DTSTART:20251026T010000
END:STANDARD
END:VTIMEZONE
BEGIN:VEVENT
DTSTART;VALUE=DATE:20241001
DTEND;VALUE=DATE:20250625
DTSTAMP:20260419T212752
CREATED:20240928T113817Z
LAST-MODIFIED:20240928T114234Z
UID:59863-1727740800-1750809599@a-desk.org
SUMMARY:Per amor a les Arts 2024-2025
DESCRIPTION:
URL:https://a-desk.org/en/agenda/per-amor-a-les-arts-2024-2025/
LOCATION:Barcelona
CATEGORIES:Cicle,Cinema
END:VEVENT
BEGIN:VEVENT
DTSTART;VALUE=DATE:20250429
DTEND;VALUE=DATE:20250621
DTSTAMP:20260419T212752
CREATED:20250429T084203Z
LAST-MODIFIED:20250429T084203Z
UID:66643-1745884800-1750463999@a-desk.org
SUMMARY:"SIT-RES 2026 - IDENSITAT"
DESCRIPTION:
URL:https://a-desk.org/en/agenda/sit-res-2026-idensitat/
LOCATION:Barcelona
CATEGORIES:Convocatòria
END:VEVENT
BEGIN:VEVENT
DTSTART;VALUE=DATE:20250505
DTEND;VALUE=DATE:20250612
DTSTAMP:20260419T212752
CREATED:20250505T063015Z
LAST-MODIFIED:20250505T063015Z
UID:66915-1746403200-1749686399@a-desk.org
SUMMARY:"Presentacions - EN RESiDÈNCiA"
DESCRIPTION:
URL:https://a-desk.org/en/agenda/presentacions-en-residencia/
LOCATION:Barcelona
CATEGORIES:Presentació
END:VEVENT
BEGIN:VEVENT
DTSTART;VALUE=DATE:20250506
DTEND;VALUE=DATE:20250528
DTSTAMP:20260419T212752
CREATED:20250429T085834Z
LAST-MODIFIED:20250429T085834Z
UID:66659-1746489600-1748390399@a-desk.org
SUMMARY:"Festival en altres paraules"
DESCRIPTION:
URL:https://a-desk.org/en/agenda/festival-en-altres-paraules/
LOCATION:CaixaForum Barcelona\, Av. Francesc Ferrer i Guàrdia\, 6-8\, Barcelona\, Barcelona\, 08038\, España
CATEGORIES:Festival
END:VEVENT
BEGIN:VEVENT
DTSTART;VALUE=DATE:20250508
DTEND;VALUE=DATE:20250519
DTSTAMP:20260419T212752
CREATED:20250409T074638Z
LAST-MODIFIED:20250409T074638Z
UID:66230-1746662400-1747612799@a-desk.org
SUMMARY:"DocsBarcelona 2025"
DESCRIPTION:
URL:https://a-desk.org/en/agenda/docsbarcelona-2025/
LOCATION:Barcelona
CATEGORIES:Cinema,Festival
END:VEVENT
BEGIN:VEVENT
DTSTART;VALUE=DATE:20250508
DTEND;VALUE=DATE:20250619
DTSTAMP:20260419T212752
CREATED:20250506T101955Z
LAST-MODIFIED:20250506T101955Z
UID:67007-1746662400-1750291199@a-desk.org
SUMMARY:"Sumari astral"
DESCRIPTION:
URL:https://a-desk.org/en/agenda/sumari-astral/
LOCATION:Fundació Joan Brossa\, C/ Flassaders\, 40\, 08003 Barcelona mapa\, Barcelona\, Barcelona\, 08003\, Spain
CATEGORIES:Cicle
END:VEVENT
BEGIN:VEVENT
DTSTART;VALUE=DATE:20250512
DTEND;VALUE=DATE:20250629
DTSTAMP:20260419T212752
CREATED:20250507T073536Z
LAST-MODIFIED:20250507T073536Z
UID:67055-1747008000-1751155199@a-desk.org
SUMMARY:"Setmanes d’Arquitectura"
DESCRIPTION:
URL:https://a-desk.org/en/agenda/setmanes-darquitectura/
LOCATION:Barcelona
CATEGORIES:Jornada
END:VEVENT
BEGIN:VEVENT
DTSTART;VALUE=DATE:20250514
DTEND;VALUE=DATE:20250525
DTSTAMP:20260419T212752
CREATED:20250506T084313Z
LAST-MODIFIED:20250506T084313Z
UID:66989-1747180800-1748131199@a-desk.org
SUMMARY:"CO-" Cinequipa
DESCRIPTION:
URL:https://a-desk.org/en/agenda/co-cinequipa/
LOCATION:Zumzeig\, C/ Béjar\, 53\, 08014 Barcelona mapa\, Barcelona\, Barcelona\, 08014\, Spain
CATEGORIES:Festival
END:VEVENT
BEGIN:VEVENT
DTSTART;TZID=Europe/Madrid:20250514T183000
DTEND;TZID=Europe/Madrid:20250604T200000
DTSTAMP:20260419T212752
CREATED:20250507T073034Z
LAST-MODIFIED:20250507T073101Z
UID:67051-1747247400-1749067200@a-desk.org
SUMMARY:"La imaginació crítica. Poètica i política de les imatges" Marta Gili
DESCRIPTION:
URL:https://a-desk.org/en/agenda/la-imaginacio-critica-poetica-i-politica-de-les-imatges-marta-gili/
LOCATION:CCCB\, C/ Montalegre\, 5\, 08001 Barcelona mapa\, Barcelona\, Barcelona\, 08001\, Spain
CATEGORIES:Curs
END:VEVENT
BEGIN:VEVENT
DTSTART;VALUE=DATE:20250515
DTEND;VALUE=DATE:20250519
DTSTAMP:20260419T212752
CREATED:20250409T081556Z
LAST-MODIFIED:20250409T081556Z
UID:66248-1747267200-1747612799@a-desk.org
SUMMARY:"Festival Embassa’t!"
DESCRIPTION:
URL:https://a-desk.org/en/agenda/festival-embassat/
LOCATION:Amfiteatre del Parc Catalunya\, Carrer Prat de la Riba\, 104\, Sabadell\, Barcelona\, 08206\, España
CATEGORIES:Festival
END:VEVENT
BEGIN:VEVENT
DTSTART;VALUE=DATE:20250515
DTEND;VALUE=DATE:20250519
DTSTAMP:20260419T212752
CREATED:20250512T075856Z
LAST-MODIFIED:20250512T075856Z
UID:67114-1747267200-1747612799@a-desk.org
SUMMARY:"Digital after all"
DESCRIPTION:
URL:https://a-desk.org/en/agenda/digital-after-all-2/
LOCATION:Mèdol\, C/ d'En Granada\, 11\, Tarragona\, Tarragona\, 43003\, España
CATEGORIES:Festival
END:VEVENT
BEGIN:VEVENT
DTSTART;VALUE=DATE:20250517
DTEND;VALUE=DATE:20250519
DTSTAMP:20260419T212752
CREATED:20250512T082544Z
LAST-MODIFIED:20250512T082544Z
UID:67140-1747440000-1747612799@a-desk.org
SUMMARY:" Dia (i nit) Internacional dels Museus"
DESCRIPTION:
URL:https://a-desk.org/en/agenda/dia-i-nit-internacional-dels-museus/
LOCATION:Barcelona
CATEGORIES:Jornada
END:VEVENT
BEGIN:VEVENT
DTSTART;TZID=Europe/Madrid:20250517T110000
DTEND;TZID=Europe/Madrid:20250517T110000
DTSTAMP:20260419T212752
CREATED:20250429T101549Z
LAST-MODIFIED:20250429T101549Z
UID:66691-1747479600-1747479600@a-desk.org
SUMMARY:"Brutal moods" / "Salvaxe\, salvaxe" Marta Bisbal i Andrés Hispano
DESCRIPTION:
URL:https://a-desk.org/en/agenda/brutal-moods-salvaxe-salvaxe-marta-bisbal-i-andres-hispano/
LOCATION:Cinema Truffaut\, Carrer Nou del Teatre\, 16\, 17004 Girona
CATEGORIES:Projecció
END:VEVENT
BEGIN:VEVENT
DTSTART;TZID=Europe/Madrid:20250517T110000
DTEND;TZID=Europe/Madrid:20250517T133000
DTSTAMP:20260419T212752
CREATED:20250514T105720Z
LAST-MODIFIED:20250514T105720Z
UID:67249-1747479600-1747488600@a-desk.org
SUMMARY:"La Montaner y Simón\, una editorial amb història"
DESCRIPTION:
URL:https://a-desk.org/en/agenda/la-montaner-y-simon-una-editorial-amb-historia/
LOCATION:Museu Tàpies\, C/ Aragó\, 255\, 08007 Barcelona mapa\, Barcelona\, Barcelona\, 08007
CATEGORIES:Itinerari
END:VEVENT
BEGIN:VEVENT
DTSTART;TZID=Europe/Madrid:20250517T110000
DTEND;TZID=Europe/Madrid:20250517T133000
DTSTAMP:20260419T212752
CREATED:20250514T110045Z
LAST-MODIFIED:20250514T110045Z
UID:67251-1747479600-1747488600@a-desk.org
SUMMARY:"Circ Popular de Justícia Climàtica"
DESCRIPTION:
URL:https://a-desk.org/en/agenda/circ-popular-de-justicia-climatica/
LOCATION:Centre Cívic Guinardó\, Ronda del Guinardó\, 113\,\, Barcelona\, Barcelona\, 08041\, España
CATEGORIES:Circ
END:VEVENT
BEGIN:VEVENT
DTSTART;TZID=Europe/Madrid:20250517T110000
DTEND;TZID=Europe/Madrid:20250517T230000
DTSTAMP:20260419T212752
CREATED:20250512T100126Z
LAST-MODIFIED:20250512T100126Z
UID:67173-1747479600-1747522800@a-desk.org
SUMMARY:Festa Descomunal Especial 30 Anys / "Conjurs\, Complots i Clamors"
DESCRIPTION:
URL:https://a-desk.org/en/agenda/festa-descomunal-especial-30-anys-conjurs-complots-i-clamors/
LOCATION:La Caldera\, C/ Eugeni d’Ors\, 12\, 08028 Barcelona mapa\, Barcelona\, Barcelona\, 08028\, Spain
CATEGORIES:Festa
END:VEVENT
BEGIN:VEVENT
DTSTART;TZID=Europe/Madrid:20250517T113000
DTEND;TZID=Europe/Madrid:20250517T133000
DTSTAMP:20260419T212752
CREATED:20250514T111122Z
LAST-MODIFIED:20250514T111122Z
UID:67263-1747481400-1747488600@a-desk.org
SUMMARY:"Ruta per galeries de l'Eixample"
DESCRIPTION:
URL:https://a-desk.org/en/agenda/ruta-per-galeries-de-leixample/
LOCATION:Barcelona
CATEGORIES:Ruta
END:VEVENT
BEGIN:VEVENT
DTSTART;TZID=Europe/Madrid:20250517T123000
DTEND;TZID=Europe/Madrid:20250517T123000
DTSTAMP:20260419T212752
CREATED:20250512T081328Z
LAST-MODIFIED:20250512T081328Z
UID:67130-1747485000-1747485000@a-desk.org
SUMMARY:"En Enllà\, les ales" Jadd Hilal
DESCRIPTION:
URL:https://a-desk.org/en/agenda/en-enlla-les-ales-jadd-hilal/
LOCATION:Llibreria Finestres\, C/ Diputació\, 249\, 08007 Barcelona mapa\, Barcelona\, Barcelona\, 08007\, Spain
CATEGORIES:Presentació de llibre
END:VEVENT
BEGIN:VEVENT
DTSTART;TZID=Europe/Madrid:20250517T123000
DTEND;TZID=Europe/Madrid:20250517T123000
DTSTAMP:20260419T212752
CREATED:20250514T110552Z
LAST-MODIFIED:20250514T110552Z
UID:67257-1747485000-1747485000@a-desk.org
SUMMARY:"Visita aperitiu amb els artistes a les exposicions"
DESCRIPTION:
URL:https://a-desk.org/en/agenda/visita-aperitiu-amb-els-artistes-a-les-exposicions/
LOCATION:La Capella\, C/ Hospital\, 56\, Barcelona\, Barcelona\, 08001
CATEGORIES:Guided tour
END:VEVENT
BEGIN:VEVENT
DTSTART;TZID=Europe/Madrid:20250517T130000
DTEND;TZID=Europe/Madrid:20250517T150000
DTSTAMP:20260419T212752
CREATED:20250514T110426Z
LAST-MODIFIED:20250514T110426Z
UID:67255-1747486800-1747494000@a-desk.org
SUMMARY:"Seguint el sol" feyfeyfey
DESCRIPTION:
URL:https://a-desk.org/en/agenda/seguint-el-sol-feyfeyfey/
LOCATION:Museu Tàpies\, C/ Aragó\, 255\, 08007 Barcelona mapa\, Barcelona\, Barcelona\, 08007
CATEGORIES:Performance
END:VEVENT
BEGIN:VEVENT
DTSTART;TZID=Europe/Madrid:20250517T160000
DTEND;TZID=Europe/Madrid:20250517T220000
DTSTAMP:20260419T212752
CREATED:20250514T103259Z
LAST-MODIFIED:20250514T103259Z
UID:67241-1747497600-1747519200@a-desk.org
SUMMARY:"The Shape of Absence"  Juan Diego Thielen\, Michele Perna Bauer
DESCRIPTION:
URL:https://a-desk.org/en/agenda/the-shape-of-absence-juan-diego-thielen-michele-perna-bauer/
LOCATION:CIMIENTO\, Carrer de Llull\, 57\, 1 3\, Sant Martí\, 08005 Barcelona
CATEGORIES:Inauguració/Exposició
END:VEVENT
BEGIN:VEVENT
DTSTART;TZID=Europe/Madrid:20250517T190000
DTEND;TZID=Europe/Madrid:20250517T190000
DTSTAMP:20260419T212752
CREATED:20250514T074211Z
LAST-MODIFIED:20250514T074211Z
UID:67207-1747508400-1747508400@a-desk.org
SUMMARY:"Hi ha un barri + No derrumben mi casa + Cuidar de dónde venimos"
DESCRIPTION:
URL:https://a-desk.org/en/agenda/hi-ha-un-barri-no-derrumben-mi-casa-cuidar-de-donde-venimos/
LOCATION:Zumzeig\, C/ Béjar\, 53\, 08014 Barcelona mapa\, Barcelona\, Barcelona\, 08014\, Spain
CATEGORIES:Cinema
END:VEVENT
BEGIN:VEVENT
DTSTART;TZID=Europe/Madrid:20250517T200000
DTEND;TZID=Europe/Madrid:20250517T210000
DTSTAMP:20260419T212752
CREATED:20250514T102624Z
LAST-MODIFIED:20250514T102646Z
UID:67234-1747512000-1747515600@a-desk.org
SUMMARY:"Opus" La Taimada
DESCRIPTION:
URL:https://a-desk.org/en/agenda/opus-la-taimada/
LOCATION:Antic Teatre\, C/ Verdaguer i Callís\, 12\, Barcelona\, Barcelona\, 08003\, España
CATEGORIES:Espectacle
END:VEVENT
BEGIN:VEVENT
DTSTART;TZID=Europe/Madrid:20250517T200000
DTEND;TZID=Europe/Madrid:20250517T235500
DTSTAMP:20260419T212752
CREATED:20250514T110200Z
LAST-MODIFIED:20250514T110200Z
UID:67253-1747512000-1747526100@a-desk.org
SUMMARY:"Activació de l'exposició 'Sumari Astral' durant la Nit dels Museus"
DESCRIPTION:
URL:https://a-desk.org/en/agenda/activacio-de-lexposicio-sumari-astral-durant-la-nit-dels-museus/
LOCATION:Fundació Joan Brossa\, C/ Flassaders\, 40\, 08003 Barcelona mapa\, Barcelona\, Barcelona\, 08003\, Spain
CATEGORIES:Exposició
END:VEVENT
END:VCALENDAR