BEGIN:VCALENDAR
VERSION:2.0
PRODID:-//A*Desk - ECPv6.8.1//NONSGML v1.0//EN
CALSCALE:GREGORIAN
METHOD:PUBLISH
X-WR-CALNAME:A*Desk
X-ORIGINAL-URL:https://a-desk.org/en/
X-WR-CALDESC:Events for A*Desk
REFRESH-INTERVAL;VALUE=DURATION:PT1H
X-Robots-Tag:noindex
X-PUBLISHED-TTL:PT1H
BEGIN:VTIMEZONE
TZID:Europe/Madrid
BEGIN:DAYLIGHT
TZOFFSETFROM:+0100
TZOFFSETTO:+0200
TZNAME:CEST
DTSTART:20240331T010000
END:DAYLIGHT
BEGIN:STANDARD
TZOFFSETFROM:+0200
TZOFFSETTO:+0100
TZNAME:CET
DTSTART:20241027T010000
END:STANDARD
BEGIN:DAYLIGHT
TZOFFSETFROM:+0100
TZOFFSETTO:+0200
TZNAME:CEST
DTSTART:20250330T010000
END:DAYLIGHT
BEGIN:STANDARD
TZOFFSETFROM:+0200
TZOFFSETTO:+0100
TZNAME:CET
DTSTART:20251026T010000
END:STANDARD
END:VTIMEZONE
BEGIN:VEVENT
DTSTART;VALUE=DATE:20241001
DTEND;VALUE=DATE:20250625
DTSTAMP:20260420T081451
CREATED:20240928T113817Z
LAST-MODIFIED:20240928T114234Z
UID:59863-1727740800-1750809599@a-desk.org
SUMMARY:Per amor a les Arts 2024-2025
DESCRIPTION:
URL:https://a-desk.org/en/agenda/per-amor-a-les-arts-2024-2025/
LOCATION:Barcelona
CATEGORIES:Cicle,Cinema
END:VEVENT
BEGIN:VEVENT
DTSTART;VALUE=DATE:20250429
DTEND;VALUE=DATE:20250621
DTSTAMP:20260420T081451
CREATED:20250429T084203Z
LAST-MODIFIED:20250429T084203Z
UID:66643-1745884800-1750463999@a-desk.org
SUMMARY:"SIT-RES 2026 - IDENSITAT"
DESCRIPTION:
URL:https://a-desk.org/en/agenda/sit-res-2026-idensitat/
LOCATION:Barcelona
CATEGORIES:Convocatòria
END:VEVENT
BEGIN:VEVENT
DTSTART;VALUE=DATE:20250505
DTEND;VALUE=DATE:20250612
DTSTAMP:20260420T081451
CREATED:20250505T063015Z
LAST-MODIFIED:20250505T063015Z
UID:66915-1746403200-1749686399@a-desk.org
SUMMARY:"Presentacions - EN RESiDÈNCiA"
DESCRIPTION:
URL:https://a-desk.org/en/agenda/presentacions-en-residencia/
LOCATION:Barcelona
CATEGORIES:Presentació
END:VEVENT
BEGIN:VEVENT
DTSTART;VALUE=DATE:20250506
DTEND;VALUE=DATE:20250528
DTSTAMP:20260420T081451
CREATED:20250429T085834Z
LAST-MODIFIED:20250429T085834Z
UID:66659-1746489600-1748390399@a-desk.org
SUMMARY:"Festival en altres paraules"
DESCRIPTION:
URL:https://a-desk.org/en/agenda/festival-en-altres-paraules/
LOCATION:CaixaForum Barcelona\, Av. Francesc Ferrer i Guàrdia\, 6-8\, Barcelona\, Barcelona\, 08038\, España
CATEGORIES:Festival
END:VEVENT
BEGIN:VEVENT
DTSTART;VALUE=DATE:20250508
DTEND;VALUE=DATE:20250619
DTSTAMP:20260420T081451
CREATED:20250506T101955Z
LAST-MODIFIED:20250506T101955Z
UID:67007-1746662400-1750291199@a-desk.org
SUMMARY:"Sumari astral"
DESCRIPTION:
URL:https://a-desk.org/en/agenda/sumari-astral/
LOCATION:Fundació Joan Brossa\, C/ Flassaders\, 40\, 08003 Barcelona mapa\, Barcelona\, Barcelona\, 08003\, Spain
CATEGORIES:Cicle
END:VEVENT
BEGIN:VEVENT
DTSTART;VALUE=DATE:20250512
DTEND;VALUE=DATE:20250629
DTSTAMP:20260420T081451
CREATED:20250507T073536Z
LAST-MODIFIED:20250507T073536Z
UID:67055-1747008000-1751155199@a-desk.org
SUMMARY:"Setmanes d’Arquitectura"
DESCRIPTION:
URL:https://a-desk.org/en/agenda/setmanes-darquitectura/
LOCATION:Barcelona
CATEGORIES:Jornada
END:VEVENT
BEGIN:VEVENT
DTSTART;VALUE=DATE:20250514
DTEND;VALUE=DATE:20250525
DTSTAMP:20260420T081451
CREATED:20250506T084313Z
LAST-MODIFIED:20250506T084313Z
UID:66989-1747180800-1748131199@a-desk.org
SUMMARY:"CO-" Cinequipa
DESCRIPTION:
URL:https://a-desk.org/en/agenda/co-cinequipa/
LOCATION:Zumzeig\, C/ Béjar\, 53\, 08014 Barcelona mapa\, Barcelona\, Barcelona\, 08014\, Spain
CATEGORIES:Festival
END:VEVENT
BEGIN:VEVENT
DTSTART;TZID=Europe/Madrid:20250514T183000
DTEND;TZID=Europe/Madrid:20250604T200000
DTSTAMP:20260420T081451
CREATED:20250507T073034Z
LAST-MODIFIED:20250507T073101Z
UID:67051-1747247400-1749067200@a-desk.org
SUMMARY:"La imaginació crítica. Poètica i política de les imatges" Marta Gili
DESCRIPTION:
URL:https://a-desk.org/en/agenda/la-imaginacio-critica-poetica-i-politica-de-les-imatges-marta-gili/
LOCATION:CCCB\, C/ Montalegre\, 5\, 08001 Barcelona mapa\, Barcelona\, Barcelona\, 08001\, Spain
CATEGORIES:Curs
END:VEVENT
BEGIN:VEVENT
DTSTART;TZID=Europe/Madrid:20250522T080000
DTEND;TZID=Europe/Madrid:20250718T170000
DTSTAMP:20260420T081451
CREATED:20250526T194744Z
LAST-MODIFIED:20250526T194744Z
UID:67425-1747900800-1752858000@a-desk.org
SUMMARY:"Mostra de Films de Dones"
DESCRIPTION:
URL:https://a-desk.org/en/agenda/mostra-de-films-de-dones/
LOCATION:Barcelona
CATEGORIES:Cinema
END:VEVENT
BEGIN:VEVENT
DTSTART;VALUE=DATE:20250524
DTEND;VALUE=DATE:20250526
DTSTAMP:20260420T081451
CREATED:20250512T083628Z
LAST-MODIFIED:20250512T083628Z
UID:67149-1748044800-1748217599@a-desk.org
SUMMARY:"Fira Literal 2025"
DESCRIPTION:
URL:https://a-desk.org/en/agenda/fira-literal-2025/
LOCATION:Fabra i Coats\, C/ Sant Adrià\, 20\, 08030 Barcelona mapa\, Barcelona\, Barcelona\, 08030\, Spain
CATEGORIES:Festival
END:VEVENT
BEGIN:VEVENT
DTSTART;VALUE=DATE:20250524
DTEND;VALUE=DATE:20250526
DTSTAMP:20260420T081451
CREATED:20250520T073803Z
LAST-MODIFIED:20250520T073803Z
UID:67332-1748044800-1748217599@a-desk.org
SUMMARY:"Tallers Oberts 2025"
DESCRIPTION:
URL:https://a-desk.org/en/agenda/tallers-oberts-2025/
LOCATION:Barcelona
CATEGORIES:Workshop
END:VEVENT
BEGIN:VEVENT
DTSTART;TZID=Europe/Madrid:20250524T110000
DTEND;TZID=Europe/Madrid:20250524T110000
DTSTAMP:20260420T081451
CREATED:20250521T074057Z
LAST-MODIFIED:20250521T074057Z
UID:67371-1748084400-1748084400@a-desk.org
SUMMARY:"Cafè Filosòfic Pensa: La racionalitat de la barbàrie. Comunitat popular\, imperi i extermini en l’experiència del nacionalsocialisme."
DESCRIPTION:
URL:https://a-desk.org/en/agenda/cafe-filosofic-pensa-la-racionalitat-de-la-barbarie-comunitat-popular-imperi-i-extermini-en-lexperiencia-del-nacionalsocialisme/
LOCATION:La Central del Raval\, C/ Elisabets\, 6\, 08001 Barcelona mapa\, Barcelona\, Barcelona\, 08001\, Spain
CATEGORIES:Debat
END:VEVENT
BEGIN:VEVENT
DTSTART;TZID=Europe/Madrid:20250524T110000
DTEND;TZID=Europe/Madrid:20250524T140000
DTSTAMP:20260420T081451
CREATED:20250521T081629Z
LAST-MODIFIED:20250521T081629Z
UID:67383-1748084400-1748095200@a-desk.org
SUMMARY:"La forma del vacío" Sandra Sanseverino
DESCRIPTION:
URL:https://a-desk.org/en/agenda/la-forma-del-vacio-sandra-sanseverino/
LOCATION:Piramidón\, Carrer del Concili de Trento\, 313\, Sant Martí\, 08020 Barcelona
CATEGORIES:Inauguració/Exposició
END:VEVENT
BEGIN:VEVENT
DTSTART;TZID=Europe/Madrid:20250524T120000
DTEND;TZID=Europe/Madrid:20250524T120000
DTSTAMP:20260420T081451
CREATED:20250507T074535Z
LAST-MODIFIED:20250507T074535Z
UID:67065-1748088000-1748088000@a-desk.org
SUMMARY:"Fer vida als marges"
DESCRIPTION:
URL:https://a-desk.org/en/agenda/fer-vida-als-marges/
LOCATION:Bòlit. Centre d’Art Contemporani Girona\, Rambla de la Llibertat\, 1\, Girona\, Girona\, 17004\, España
CATEGORIES:Inauguració/Exposició
END:VEVENT
BEGIN:VEVENT
DTSTART;TZID=Europe/Madrid:20250524T120000
DTEND;TZID=Europe/Madrid:20250524T120000
DTSTAMP:20260420T081451
CREATED:20250519T201241Z
LAST-MODIFIED:20250519T201241Z
UID:67310-1748088000-1748088000@a-desk.org
SUMMARY:"Protectores" Anna Maria Porté Estop i Lolita Chávez
DESCRIPTION:
URL:https://a-desk.org/en/agenda/protectores-anna-maria-porte-estop-i-lolita-chavez/
LOCATION:Libreria La Caníbal\, C/ Nàpols\, 314\, 08025 Barcelona mapa\, Barcelona\, Barcelona\, 08044\, Spain
CATEGORIES:Presentació de llibre
END:VEVENT
BEGIN:VEVENT
DTSTART;TZID=Europe/Madrid:20250524T120000
DTEND;TZID=Europe/Madrid:20250524T140000
DTSTAMP:20260420T081451
CREATED:20250520T073939Z
LAST-MODIFIED:20250520T073939Z
UID:67334-1748088000-1748095200@a-desk.org
SUMMARY:"Love pixels not people"
DESCRIPTION:
URL:https://a-desk.org/en/agenda/love-pixels-not-people/
LOCATION:MAC Mataró\, Muralla de la Presó 2\, Mataró\, Barcelona\, 08302\, España
CATEGORIES:Inauguració/Exposició
END:VEVENT
BEGIN:VEVENT
DTSTART;TZID=Europe/Madrid:20250524T190000
DTEND;TZID=Europe/Madrid:20250524T190000
DTSTAMP:20260420T081451
CREATED:20250512T100332Z
LAST-MODIFIED:20250512T100332Z
UID:67175-1748113200-1748113200@a-desk.org
SUMMARY:"FIN (Fantasmas invaden la nada)"  Amaranta Velarde
DESCRIPTION:
URL:https://a-desk.org/en/agenda/fin-fantasmas-invaden-la-nada-amaranta-velarde/
LOCATION:La Caldera\, C/ Eugeni d’Ors\, 12\, 08028 Barcelona mapa\, Barcelona\, Barcelona\, 08028\, Spain
CATEGORIES:Arts escèniques
END:VEVENT
BEGIN:VEVENT
DTSTART;TZID=Europe/Madrid:20250524T190000
DTEND;TZID=Europe/Madrid:20250524T210000
DTSTAMP:20260420T081451
CREATED:20250423T082350Z
LAST-MODIFIED:20250423T082350Z
UID:66560-1748113200-1748120400@a-desk.org
SUMMARY:"Conversa amb Sonia Toneu"
DESCRIPTION:
URL:https://a-desk.org/en/agenda/conversa-amb-sonia-toneu/
LOCATION:INNSiDE\, Avinguda del Paral·lel Avenida del paralelo 57-59 08004 Barcelona
CATEGORIES:Conversa
END:VEVENT
BEGIN:VEVENT
DTSTART;TZID=Europe/Madrid:20250524T200000
DTEND;TZID=Europe/Madrid:20250524T200000
DTSTAMP:20260420T081451
CREATED:20250519T204637Z
LAST-MODIFIED:20250519T204637Z
UID:67324-1748116800-1748116800@a-desk.org
SUMMARY:"Colectivo deria + rectificadora" Zeitporträts + Post-funció amb Valentina Gaia Lops
DESCRIPTION:
URL:https://a-desk.org/en/agenda/colectivo-deria-rectificadora-zeitportrats-post-funcio-amb-valentina-gaia-lops/
LOCATION:Antic Teatre\, C/ Verdaguer i Callís\, 12\, Barcelona\, Barcelona\, 08003\, España
CATEGORIES:Espectacle
END:VEVENT
BEGIN:VEVENT
DTSTART;TZID=Europe/Madrid:20250524T200000
DTEND;TZID=Europe/Madrid:20250524T200000
DTSTAMP:20260420T081451
CREATED:20250521T081503Z
LAST-MODIFIED:20250521T081503Z
UID:67381-1748116800-1748116800@a-desk.org
SUMMARY:"BYRON-MILANO JAZZ CLUB: Albert Bello\, Oriol Saña\, Quim Martínez\, Joan Motera"
DESCRIPTION:
URL:https://a-desk.org/en/agenda/byron-milano-jazz-club-albert-bello-oriol-sana-quim-martinez-joan-motera/
LOCATION:Llibreria Byron\, C/ Casanova\, 32\, 08011 Barcelona mapa\, Barcelona\, Barcelona\, 08011\, Spain
CATEGORIES:Concert
END:VEVENT
BEGIN:VEVENT
DTSTART;TZID=Europe/Madrid:20250524T210000
DTEND;TZID=Europe/Madrid:20250524T220000
DTSTAMP:20260420T081451
CREATED:20250520T074151Z
LAST-MODIFIED:20250520T074151Z
UID:67336-1748120400-1748124000@a-desk.org
SUMMARY:"Anòxia\, Naumàquia Coral"
DESCRIPTION:
URL:https://a-desk.org/en/agenda/anoxia-naumaquia-coral/
LOCATION:Mèdol\, C/ d'En Granada\, 11\, Tarragona\, Tarragona\, 43003\, España
CATEGORIES:Activitat
END:VEVENT
END:VCALENDAR