BEGIN:VCALENDAR
VERSION:2.0
PRODID:-//A*Desk - ECPv6.8.1//NONSGML v1.0//EN
CALSCALE:GREGORIAN
METHOD:PUBLISH
X-WR-CALNAME:A*Desk
X-ORIGINAL-URL:https://a-desk.org/en/
X-WR-CALDESC:Events for A*Desk
REFRESH-INTERVAL;VALUE=DURATION:PT1H
X-Robots-Tag:noindex
X-PUBLISHED-TTL:PT1H
BEGIN:VTIMEZONE
TZID:Europe/Madrid
BEGIN:DAYLIGHT
TZOFFSETFROM:+0100
TZOFFSETTO:+0200
TZNAME:CEST
DTSTART:20240331T010000
END:DAYLIGHT
BEGIN:STANDARD
TZOFFSETFROM:+0200
TZOFFSETTO:+0100
TZNAME:CET
DTSTART:20241027T010000
END:STANDARD
BEGIN:DAYLIGHT
TZOFFSETFROM:+0100
TZOFFSETTO:+0200
TZNAME:CEST
DTSTART:20250330T010000
END:DAYLIGHT
BEGIN:STANDARD
TZOFFSETFROM:+0200
TZOFFSETTO:+0100
TZNAME:CET
DTSTART:20251026T010000
END:STANDARD
END:VTIMEZONE
BEGIN:VEVENT
DTSTART;VALUE=DATE:20241001
DTEND;VALUE=DATE:20250625
DTSTAMP:20260420T141650
CREATED:20240928T113817Z
LAST-MODIFIED:20240928T114234Z
UID:59863-1727740800-1750809599@a-desk.org
SUMMARY:Per amor a les Arts 2024-2025
DESCRIPTION:
URL:https://a-desk.org/en/agenda/per-amor-a-les-arts-2024-2025/
LOCATION:Barcelona
CATEGORIES:Cicle,Cinema
END:VEVENT
BEGIN:VEVENT
DTSTART;VALUE=DATE:20250429
DTEND;VALUE=DATE:20250621
DTSTAMP:20260420T141650
CREATED:20250429T084203Z
LAST-MODIFIED:20250429T084203Z
UID:66643-1745884800-1750463999@a-desk.org
SUMMARY:"SIT-RES 2026 - IDENSITAT"
DESCRIPTION:
URL:https://a-desk.org/en/agenda/sit-res-2026-idensitat/
LOCATION:Barcelona
CATEGORIES:Convocatòria
END:VEVENT
BEGIN:VEVENT
DTSTART;VALUE=DATE:20250505
DTEND;VALUE=DATE:20250612
DTSTAMP:20260420T141650
CREATED:20250505T063015Z
LAST-MODIFIED:20250505T063015Z
UID:66915-1746403200-1749686399@a-desk.org
SUMMARY:"Presentacions - EN RESiDÈNCiA"
DESCRIPTION:
URL:https://a-desk.org/en/agenda/presentacions-en-residencia/
LOCATION:Barcelona
CATEGORIES:Presentació
END:VEVENT
BEGIN:VEVENT
DTSTART;VALUE=DATE:20250508
DTEND;VALUE=DATE:20250619
DTSTAMP:20260420T141650
CREATED:20250506T101955Z
LAST-MODIFIED:20250506T101955Z
UID:67007-1746662400-1750291199@a-desk.org
SUMMARY:"Sumari astral"
DESCRIPTION:
URL:https://a-desk.org/en/agenda/sumari-astral/
LOCATION:Fundació Joan Brossa\, C/ Flassaders\, 40\, 08003 Barcelona mapa\, Barcelona\, Barcelona\, 08003\, Spain
CATEGORIES:Cicle
END:VEVENT
BEGIN:VEVENT
DTSTART;VALUE=DATE:20250512
DTEND;VALUE=DATE:20250629
DTSTAMP:20260420T141650
CREATED:20250507T073536Z
LAST-MODIFIED:20250507T073536Z
UID:67055-1747008000-1751155199@a-desk.org
SUMMARY:"Setmanes d’Arquitectura"
DESCRIPTION:
URL:https://a-desk.org/en/agenda/setmanes-darquitectura/
LOCATION:Barcelona
CATEGORIES:Jornada
END:VEVENT
BEGIN:VEVENT
DTSTART;TZID=Europe/Madrid:20250514T183000
DTEND;TZID=Europe/Madrid:20250604T200000
DTSTAMP:20260420T141650
CREATED:20250507T073034Z
LAST-MODIFIED:20250507T073101Z
UID:67051-1747247400-1749067200@a-desk.org
SUMMARY:"La imaginació crítica. Poètica i política de les imatges" Marta Gili
DESCRIPTION:
URL:https://a-desk.org/en/agenda/la-imaginacio-critica-poetica-i-politica-de-les-imatges-marta-gili/
LOCATION:CCCB\, C/ Montalegre\, 5\, 08001 Barcelona mapa\, Barcelona\, Barcelona\, 08001\, Spain
CATEGORIES:Curs
END:VEVENT
BEGIN:VEVENT
DTSTART;TZID=Europe/Madrid:20250522T080000
DTEND;TZID=Europe/Madrid:20250718T170000
DTSTAMP:20260420T141650
CREATED:20250526T194744Z
LAST-MODIFIED:20250526T194744Z
UID:67425-1747900800-1752858000@a-desk.org
SUMMARY:"Mostra de Films de Dones"
DESCRIPTION:
URL:https://a-desk.org/en/agenda/mostra-de-films-de-dones/
LOCATION:Barcelona
CATEGORIES:Cinema
END:VEVENT
BEGIN:VEVENT
DTSTART;TZID=Europe/Madrid:20250528T173000
DTEND;TZID=Europe/Madrid:20250528T173000
DTSTAMP:20260420T141650
CREATED:20250519T203725Z
LAST-MODIFIED:20250519T203725Z
UID:67320-1748453400-1748453400@a-desk.org
SUMMARY:"La fiesta del gran proyector 2025"
DESCRIPTION:
URL:https://a-desk.org/en/agenda/la-fiesta-del-gran-proyector-2025/
LOCATION:Fàbrica Estrella Damm\, C/ del Rosselló\, 515\, Barcelona\, Barcelona\, 08025\, España
CATEGORIES:Festa
END:VEVENT
BEGIN:VEVENT
DTSTART;TZID=Europe/Madrid:20250528T180000
DTEND;TZID=Europe/Madrid:20250528T200000
DTSTAMP:20260420T141650
CREATED:20250519T204123Z
LAST-MODIFIED:20250519T204123Z
UID:67322-1748455200-1748462400@a-desk.org
SUMMARY:Poliana Lima | Les Bacanals 2025
DESCRIPTION:
URL:https://a-desk.org/en/agenda/poliana-lima-les-bacanals-2025/
LOCATION:El Graner\, C/ Jane Addams\, 14\, 08038 Barcelona mapa\, Barcelona\, Barcelona\, 08038\, Spain
CATEGORIES:Cicle,Dansa
END:VEVENT
BEGIN:VEVENT
DTSTART;TZID=Europe/Madrid:20250528T190000
DTEND;TZID=Europe/Madrid:20250528T190000
DTSTAMP:20260420T141650
CREATED:20250526T194845Z
LAST-MODIFIED:20250526T194845Z
UID:67427-1748458800-1748458800@a-desk.org
SUMMARY:"Conferencia de Layla Martínez"
DESCRIPTION:
URL:https://a-desk.org/en/agenda/conferencia-de-layla-martinez/
LOCATION:La Virreina\, La Rambla\, 99\, 08002 Barcelona mapa\, Barcelona\, Barcelona\, 08002\, Spain
CATEGORIES:Conference
END:VEVENT
BEGIN:VEVENT
DTSTART;TZID=Europe/Madrid:20250528T190000
DTEND;TZID=Europe/Madrid:20250528T190000
DTSTAMP:20260420T141650
CREATED:20250526T203500Z
LAST-MODIFIED:20250526T203500Z
UID:67458-1748458800-1748458800@a-desk.org
SUMMARY:"Fotografit" Jordi Catafal Rull
DESCRIPTION:
URL:https://a-desk.org/en/agenda/fotografit-jordi-catafal-rull/
LOCATION:Galeria Valid Foto\, Carrer de Buenaventura Muñoz 6\, Barcelona\, Barcelona\, 08018\, España
CATEGORIES:Inauguració/Exposició
END:VEVENT
BEGIN:VEVENT
DTSTART;TZID=Europe/Madrid:20250528T190000
DTEND;TZID=Europe/Madrid:20250528T210000
DTSTAMP:20260420T141650
CREATED:20250507T075207Z
LAST-MODIFIED:20250507T075207Z
UID:67073-1748458800-1748466000@a-desk.org
SUMMARY:"Tent City / Apollo\, Man to the Moon\, de Miñuca i Fernando Villaverde | La memòria és un paisatge esfondrat. Cicle de cinema independent cubà"
DESCRIPTION:
URL:https://a-desk.org/en/agenda/tent-city-apollo-man-to-the-moon-de-minuca-i-fernando-villaverde-la-memoria-es-un-paisatge-esfondrat-cicle-de-cinema-independent-cuba/
LOCATION:MACBA\, Plaça dels Àngels\, 1\, 08001 Barcelona mapa\, Barcelona\, Barcelona\, 08001\, Spain
CATEGORIES:Cicle,Cinema
END:VEVENT
BEGIN:VEVENT
DTSTART;TZID=Europe/Madrid:20250528T193000
DTEND;TZID=Europe/Madrid:20250528T193000
DTSTAMP:20260420T141650
CREATED:20250526T200806Z
LAST-MODIFIED:20250526T200806Z
UID:67440-1748460600-1748460600@a-desk.org
SUMMARY:"Diseño estudio Carme Pinós" Carme Pinós
DESCRIPTION:
URL:https://a-desk.org/en/agenda/diseno-estudio-carme-pinos-carme-pinos/
LOCATION:La Central (C/ Mallorca)\, C/ Mallorca\, 237\, 08008 Barcelona mapa\, Barcelona\, Barcelona\, 08008\, Spain
CATEGORIES:Presentació de llibre
END:VEVENT
BEGIN:VEVENT
DTSTART;TZID=Europe/Madrid:20250528T193000
DTEND;TZID=Europe/Madrid:20250528T193000
DTSTAMP:20260420T141650
CREATED:20250526T203911Z
LAST-MODIFIED:20250526T203911Z
UID:67462-1748460600-1748460600@a-desk.org
SUMMARY:"Dimecres de so i cos / La pedra del sacrifici"
DESCRIPTION:
URL:https://a-desk.org/en/agenda/dimecres-de-so-i-cos-la-pedra-del-sacrifici/
LOCATION:Santa Mònica\, La Rambla\, 7\, 08002 Barcelona mapa\, Barcelona\, Barcelona\, 08002\, Spain
CATEGORIES:Performance
END:VEVENT
BEGIN:VEVENT
DTSTART;TZID=Europe/Madrid:20250528T200000
DTEND;TZID=Europe/Madrid:20250528T200000
DTSTAMP:20260420T141650
CREATED:20250512T083005Z
LAST-MODIFIED:20250512T083005Z
UID:67144-1748462400-1748462400@a-desk.org
SUMMARY:"ROSAS\, A7LA5I l Cimento dell’Armonia e dell’Inventione" / ANNE TERESA DE KEERSMAEKER\, RADOUAN MRIZIGA
DESCRIPTION:
URL:https://a-desk.org/en/agenda/rosas-a7la5i-l-cimento-dellarmonia-e-dellinventione-anne-teresa-de-keersmaeker-radouan-mriziga/
LOCATION:Mercat de les Flors\, C/ Lleida\, 59\, 08004 Barcelona mapa\, Barcelona\, Barcelona\, 08004\, Spain
CATEGORIES:Dansa
END:VEVENT
END:VCALENDAR