BEGIN:VCALENDAR
VERSION:2.0
PRODID:-//A*Desk - ECPv6.8.1//NONSGML v1.0//EN
CALSCALE:GREGORIAN
METHOD:PUBLISH
X-ORIGINAL-URL:https://a-desk.org/en/
X-WR-CALDESC:Events for A*Desk
REFRESH-INTERVAL;VALUE=DURATION:PT1H
X-Robots-Tag:noindex
X-PUBLISHED-TTL:PT1H
BEGIN:VTIMEZONE
TZID:Europe/Madrid
BEGIN:DAYLIGHT
TZOFFSETFROM:+0100
TZOFFSETTO:+0200
TZNAME:CEST
DTSTART:20240331T010000
END:DAYLIGHT
BEGIN:STANDARD
TZOFFSETFROM:+0200
TZOFFSETTO:+0100
TZNAME:CET
DTSTART:20241027T010000
END:STANDARD
BEGIN:DAYLIGHT
TZOFFSETFROM:+0100
TZOFFSETTO:+0200
TZNAME:CEST
DTSTART:20250330T010000
END:DAYLIGHT
BEGIN:STANDARD
TZOFFSETFROM:+0200
TZOFFSETTO:+0100
TZNAME:CET
DTSTART:20251026T010000
END:STANDARD
END:VTIMEZONE
BEGIN:VEVENT
DTSTART;VALUE=DATE:20241001
DTEND;VALUE=DATE:20250625
DTSTAMP:20260420T171425
CREATED:20240928T113817Z
LAST-MODIFIED:20240928T114234Z
UID:59863-1727740800-1750809599@a-desk.org
SUMMARY:Per amor a les Arts 2024-2025
DESCRIPTION:
URL:https://a-desk.org/en/agenda/per-amor-a-les-arts-2024-2025/
LOCATION:Barcelona
CATEGORIES:Cicle,Cinema
END:VEVENT
BEGIN:VEVENT
DTSTART;VALUE=DATE:20250429
DTEND;VALUE=DATE:20250621
DTSTAMP:20260420T171425
CREATED:20250429T084203Z
LAST-MODIFIED:20250429T084203Z
UID:66643-1745884800-1750463999@a-desk.org
SUMMARY:"SIT-RES 2026 - IDENSITAT"
DESCRIPTION:
URL:https://a-desk.org/en/agenda/sit-res-2026-idensitat/
LOCATION:Barcelona
CATEGORIES:Convocatòria
END:VEVENT
BEGIN:VEVENT
DTSTART;VALUE=DATE:20250505
DTEND;VALUE=DATE:20250612
DTSTAMP:20260420T171425
CREATED:20250505T063015Z
LAST-MODIFIED:20250505T063015Z
UID:66915-1746403200-1749686399@a-desk.org
SUMMARY:"Presentacions - EN RESiDÈNCiA"
DESCRIPTION:
URL:https://a-desk.org/en/agenda/presentacions-en-residencia/
LOCATION:Barcelona
CATEGORIES:Presentació
END:VEVENT
BEGIN:VEVENT
DTSTART;VALUE=DATE:20250508
DTEND;VALUE=DATE:20250619
DTSTAMP:20260420T171425
CREATED:20250506T101955Z
LAST-MODIFIED:20250506T101955Z
UID:67007-1746662400-1750291199@a-desk.org
SUMMARY:"Sumari astral"
DESCRIPTION:
URL:https://a-desk.org/en/agenda/sumari-astral/
LOCATION:Fundació Joan Brossa\, C/ Flassaders\, 40\, 08003 Barcelona mapa\, Barcelona\, Barcelona\, 08003\, Spain
CATEGORIES:Cicle
END:VEVENT
BEGIN:VEVENT
DTSTART;VALUE=DATE:20250512
DTEND;VALUE=DATE:20250629
DTSTAMP:20260420T171425
CREATED:20250507T073536Z
LAST-MODIFIED:20250507T073536Z
UID:67055-1747008000-1751155199@a-desk.org
SUMMARY:"Setmanes d’Arquitectura"
DESCRIPTION:
URL:https://a-desk.org/en/agenda/setmanes-darquitectura/
LOCATION:Barcelona
CATEGORIES:Jornada
END:VEVENT
BEGIN:VEVENT
DTSTART;TZID=Europe/Madrid:20250514T183000
DTEND;TZID=Europe/Madrid:20250604T200000
DTSTAMP:20260420T171425
CREATED:20250507T073034Z
LAST-MODIFIED:20250507T073101Z
UID:67051-1747247400-1749067200@a-desk.org
SUMMARY:"La imaginació crítica. Poètica i política de les imatges" Marta Gili
DESCRIPTION:
URL:https://a-desk.org/en/agenda/la-imaginacio-critica-poetica-i-politica-de-les-imatges-marta-gili/
LOCATION:CCCB\, C/ Montalegre\, 5\, 08001 Barcelona mapa\, Barcelona\, Barcelona\, 08001\, Spain
CATEGORIES:Curs
END:VEVENT
BEGIN:VEVENT
DTSTART;TZID=Europe/Madrid:20250522T080000
DTEND;TZID=Europe/Madrid:20250718T170000
DTSTAMP:20260420T171425
CREATED:20250526T194744Z
LAST-MODIFIED:20250526T194744Z
UID:67425-1747900800-1752858000@a-desk.org
SUMMARY:"Mostra de Films de Dones"
DESCRIPTION:
URL:https://a-desk.org/en/agenda/mostra-de-films-de-dones/
LOCATION:Barcelona
CATEGORIES:Cinema
END:VEVENT
BEGIN:VEVENT
DTSTART;VALUE=DATE:20250529
DTEND;VALUE=DATE:20250602
DTSTAMP:20260420T171425
CREATED:20250526T204245Z
LAST-MODIFIED:20250526T204245Z
UID:67466-1748476800-1748822399@a-desk.org
SUMMARY:"Festival Panòptic"
DESCRIPTION:
URL:https://a-desk.org/en/agenda/festival-panoptic/
LOCATION:MAC Mataró\, Muralla de la Presó 2\, Mataró\, Barcelona\, 08302\, España
CATEGORIES:Festival
END:VEVENT
BEGIN:VEVENT
DTSTART;VALUE=DATE:20250530
DTEND;VALUE=DATE:20250601
DTSTAMP:20260420T171425
CREATED:20250527T212037Z
LAST-MODIFIED:20250527T212037Z
UID:67518-1748563200-1748735999@a-desk.org
SUMMARY:"Això al poble no li agradarà - Festival 30 i 31 de maig"
DESCRIPTION:
URL:https://a-desk.org/en/agenda/aixo-al-poble-no-li-agradara-festival-30-i-31-de-maig/
LOCATION:Barcelona
CATEGORIES:Festival
END:VEVENT
BEGIN:VEVENT
DTSTART;VALUE=DATE:20250530
DTEND;VALUE=DATE:20250602
DTSTAMP:20260420T171425
CREATED:20250512T083840Z
LAST-MODIFIED:20250512T083840Z
UID:67151-1748563200-1748822399@a-desk.org
SUMMARY:"L'Altre Festival"
DESCRIPTION:
URL:https://a-desk.org/en/agenda/laltre-festival/
LOCATION:Fabra i Coats\, C/ Sant Adrià\, 20\, 08030 Barcelona mapa\, Barcelona\, Barcelona\, 08030\, Spain
CATEGORIES:Festival
END:VEVENT
BEGIN:VEVENT
DTSTART;TZID=Europe/Madrid:20250530T170000
DTEND;TZID=Europe/Madrid:20250530T170000
DTSTAMP:20260420T171425
CREATED:20250514T110700Z
LAST-MODIFIED:20250514T110700Z
UID:67259-1748624400-1748624400@a-desk.org
SUMMARY:Inauguració - "Una nova porta a l'art"
DESCRIPTION:
URL:https://a-desk.org/en/agenda/inauguracio-una-nova-porta-a-lart/
LOCATION:Fundació Vila Casas. Can Framis\, C/ Roc Boronat\, 116\, 126\, 08018 Barcelona mapa\, Barcelona\, Barcelona\, 08018\, Spain
CATEGORIES:Inauguració
END:VEVENT
BEGIN:VEVENT
DTSTART;TZID=Europe/Madrid:20250530T183000
DTEND;TZID=Europe/Madrid:20250530T193000
DTSTAMP:20260420T171425
CREATED:20250526T204952Z
LAST-MODIFIED:20250526T204952Z
UID:67476-1748629800-1748633400@a-desk.org
SUMMARY:"Saber caure també és un esport / Amb el Laboratori de Cos i Moviment del Santa Mònica"
DESCRIPTION:
URL:https://a-desk.org/en/agenda/saber-caure-tambe-es-un-esport-amb-el-laboratori-de-cos-i-moviment-del-santa-monica/
LOCATION:Santa Mònica\, La Rambla\, 7\, 08002 Barcelona mapa\, Barcelona\, Barcelona\, 08002\, Spain
CATEGORIES:Performance
END:VEVENT
BEGIN:VEVENT
DTSTART;TZID=Europe/Madrid:20250530T190000
DTEND;TZID=Europe/Madrid:20250530T190000
DTSTAMP:20260420T171425
CREATED:20250526T194959Z
LAST-MODIFIED:20250526T194959Z
UID:67430-1748631600-1748631600@a-desk.org
SUMMARY:"Contrapunt" Sergi Aguilar
DESCRIPTION:
URL:https://a-desk.org/en/agenda/contrapunt-sergi-aguilar/
LOCATION:La Virreina\, La Rambla\, 99\, 08002 Barcelona mapa\, Barcelona\, Barcelona\, 08002\, Spain
CATEGORIES:Inauguració/Exposició
END:VEVENT
BEGIN:VEVENT
DTSTART;TZID=Europe/Madrid:20250530T190000
DTEND;TZID=Europe/Madrid:20250703T190000
DTSTAMP:20260420T171425
CREATED:20250512T084250Z
LAST-MODIFIED:20250512T084319Z
UID:67155-1748631600-1751569200@a-desk.org
SUMMARY:"Música a la Miró - 2025"
DESCRIPTION:
URL:https://a-desk.org/en/agenda/musica-a-la-miro-2025/
LOCATION:Fundación Joan Miró\, Parc de Montjuïc\, s/n\, 08038 Barcelona mapa\, Barcelona\, Barcelona\, 08038\, Spain
CATEGORIES:Cicle,Concert
END:VEVENT
BEGIN:VEVENT
DTSTART;TZID=Europe/Madrid:20250530T200000
DTEND;TZID=Europe/Madrid:20250530T200000
DTSTAMP:20260420T171425
CREATED:20250519T071506Z
LAST-MODIFIED:20250519T071506Z
UID:67303-1748635200-1748635200@a-desk.org
SUMMARY:"(Revolución cumple tu promesa) amor rojo" Dora García
DESCRIPTION:
URL:https://a-desk.org/en/agenda/revolucion-cumple-tu-promesa-amor-rojo-dora-garcia/
LOCATION:Filmoteca\, Plaça de Salvador Seguí\, 1\, 08001 Barcelona mapa\, Barcelona\, Barcelona\, 08001\, Spain
CATEGORIES:Cinema,Presentació
END:VEVENT
BEGIN:VEVENT
DTSTART;TZID=Europe/Madrid:20250530T200000
DTEND;TZID=Europe/Madrid:20250530T200000
DTSTAMP:20260420T171425
CREATED:20250521T082820Z
LAST-MODIFIED:20250521T082820Z
UID:67385-1748635200-1748635200@a-desk.org
SUMMARY:"Reflexions en línia"
DESCRIPTION:
URL:https://a-desk.org/en/agenda/reflexions-en-linia/
LOCATION:Antic Teatre\, C/ Verdaguer i Callís\, 12\, Barcelona\, Barcelona\, 08003\, España
CATEGORIES:Espectacle
END:VEVENT
END:VCALENDAR