BEGIN:VCALENDAR
VERSION:2.0
PRODID:-//A*Desk - ECPv6.8.1//NONSGML v1.0//EN
CALSCALE:GREGORIAN
METHOD:PUBLISH
X-ORIGINAL-URL:https://a-desk.org/en/
X-WR-CALDESC:Events for A*Desk
REFRESH-INTERVAL;VALUE=DURATION:PT1H
X-Robots-Tag:noindex
X-PUBLISHED-TTL:PT1H
BEGIN:VTIMEZONE
TZID:Europe/Madrid
BEGIN:DAYLIGHT
TZOFFSETFROM:+0100
TZOFFSETTO:+0200
TZNAME:CEST
DTSTART:20240331T010000
END:DAYLIGHT
BEGIN:STANDARD
TZOFFSETFROM:+0200
TZOFFSETTO:+0100
TZNAME:CET
DTSTART:20241027T010000
END:STANDARD
BEGIN:DAYLIGHT
TZOFFSETFROM:+0100
TZOFFSETTO:+0200
TZNAME:CEST
DTSTART:20250330T010000
END:DAYLIGHT
BEGIN:STANDARD
TZOFFSETFROM:+0200
TZOFFSETTO:+0100
TZNAME:CET
DTSTART:20251026T010000
END:STANDARD
END:VTIMEZONE
BEGIN:VEVENT
DTSTART;VALUE=DATE:20241001
DTEND;VALUE=DATE:20250625
DTSTAMP:20260421T025159
CREATED:20240928T113817Z
LAST-MODIFIED:20240928T114234Z
UID:59863-1727740800-1750809599@a-desk.org
SUMMARY:Per amor a les Arts 2024-2025
DESCRIPTION:
URL:https://a-desk.org/en/agenda/per-amor-a-les-arts-2024-2025/
LOCATION:Barcelona
CATEGORIES:Cicle,Cinema
END:VEVENT
BEGIN:VEVENT
DTSTART;VALUE=DATE:20250429
DTEND;VALUE=DATE:20250621
DTSTAMP:20260421T025159
CREATED:20250429T084203Z
LAST-MODIFIED:20250429T084203Z
UID:66643-1745884800-1750463999@a-desk.org
SUMMARY:"SIT-RES 2026 - IDENSITAT"
DESCRIPTION:
URL:https://a-desk.org/en/agenda/sit-res-2026-idensitat/
LOCATION:Barcelona
CATEGORIES:Convocatòria
END:VEVENT
BEGIN:VEVENT
DTSTART;VALUE=DATE:20250505
DTEND;VALUE=DATE:20250612
DTSTAMP:20260421T025159
CREATED:20250505T063015Z
LAST-MODIFIED:20250505T063015Z
UID:66915-1746403200-1749686399@a-desk.org
SUMMARY:"Presentacions - EN RESiDÈNCiA"
DESCRIPTION:
URL:https://a-desk.org/en/agenda/presentacions-en-residencia/
LOCATION:Barcelona
CATEGORIES:Presentació
END:VEVENT
BEGIN:VEVENT
DTSTART;VALUE=DATE:20250508
DTEND;VALUE=DATE:20250619
DTSTAMP:20260421T025159
CREATED:20250506T101955Z
LAST-MODIFIED:20250506T101955Z
UID:67007-1746662400-1750291199@a-desk.org
SUMMARY:"Sumari astral"
DESCRIPTION:
URL:https://a-desk.org/en/agenda/sumari-astral/
LOCATION:Fundació Joan Brossa\, C/ Flassaders\, 40\, 08003 Barcelona mapa\, Barcelona\, Barcelona\, 08003\, Spain
CATEGORIES:Cicle
END:VEVENT
BEGIN:VEVENT
DTSTART;VALUE=DATE:20250512
DTEND;VALUE=DATE:20250629
DTSTAMP:20260421T025159
CREATED:20250507T073536Z
LAST-MODIFIED:20250507T073536Z
UID:67055-1747008000-1751155199@a-desk.org
SUMMARY:"Setmanes d’Arquitectura"
DESCRIPTION:
URL:https://a-desk.org/en/agenda/setmanes-darquitectura/
LOCATION:Barcelona
CATEGORIES:Jornada
END:VEVENT
BEGIN:VEVENT
DTSTART;TZID=Europe/Madrid:20250522T080000
DTEND;TZID=Europe/Madrid:20250718T170000
DTSTAMP:20260421T025159
CREATED:20250526T194744Z
LAST-MODIFIED:20250526T194744Z
UID:67425-1747900800-1752858000@a-desk.org
SUMMARY:"Mostra de Films de Dones"
DESCRIPTION:
URL:https://a-desk.org/en/agenda/mostra-de-films-de-dones/
LOCATION:Barcelona
CATEGORIES:Cinema
END:VEVENT
BEGIN:VEVENT
DTSTART;TZID=Europe/Madrid:20250530T190000
DTEND;TZID=Europe/Madrid:20250703T190000
DTSTAMP:20260421T025159
CREATED:20250512T084250Z
LAST-MODIFIED:20250512T084319Z
UID:67155-1748631600-1751569200@a-desk.org
SUMMARY:"Música a la Miró - 2025"
DESCRIPTION:
URL:https://a-desk.org/en/agenda/musica-a-la-miro-2025/
LOCATION:Fundación Joan Miró\, Parc de Montjuïc\, s/n\, 08038 Barcelona mapa\, Barcelona\, Barcelona\, 08038\, Spain
CATEGORIES:Cicle,Concert
END:VEVENT
BEGIN:VEVENT
DTSTART;TZID=Europe/Madrid:20250605T173000
DTEND;TZID=Europe/Madrid:20250605T200000
DTSTAMP:20260421T025159
CREATED:20250529T185549Z
LAST-MODIFIED:20250529T185549Z
UID:67569-1749144600-1749153600@a-desk.org
SUMMARY:"Curs flash de canelobres de ceràmica amb Maria Roy"
DESCRIPTION:
URL:https://a-desk.org/en/agenda/curs-flash-de-canelobres-de-ceramica-amb-maria-roy-2/
LOCATION:La Escocesa\, C/ Pere IV\, 345\, 08020 Barcelona mapa\, Barcelona\, Barcelona\, 08020\, Spain
CATEGORIES:Workshop
END:VEVENT
BEGIN:VEVENT
DTSTART;TZID=Europe/Madrid:20250605T180000
DTEND;TZID=Europe/Madrid:20250605T210000
DTSTAMP:20260421T025159
CREATED:20250529T185703Z
LAST-MODIFIED:20250529T185703Z
UID:67571-1749146400-1749157200@a-desk.org
SUMMARY:"Un contagio" Anna Irina Russell
DESCRIPTION:
URL:https://a-desk.org/en/agenda/un-contagio-anna-irina-russell/
LOCATION:Bombon Projects\, C/ de Trafalgar\, 53\, local\, Barcelona\, Barcelona\, 08010\, España
CATEGORIES:Inauguració/Exposició
END:VEVENT
BEGIN:VEVENT
DTSTART;TZID=Europe/Madrid:20250605T183000
DTEND;TZID=Europe/Madrid:20250605T193000
DTSTAMP:20260421T025159
CREATED:20250529T190238Z
LAST-MODIFIED:20250529T190238Z
UID:67579-1749148200-1749151800@a-desk.org
SUMMARY:"Els meus fantasmes viuen a Pere IV 174" Mariona Naudin
DESCRIPTION:
URL:https://a-desk.org/en/agenda/els-meus-fantasmes-viuen-a-pere-iv-174-mariona-naudin/
LOCATION:Fundació Joan Brossa\, C/ Flassaders\, 40\, 08003 Barcelona mapa\, Barcelona\, Barcelona\, 08003\, Spain
CATEGORIES:Performance
END:VEVENT
BEGIN:VEVENT
DTSTART;TZID=Europe/Madrid:20250605T190000
DTEND;TZID=Europe/Madrid:20250605T190000
DTSTAMP:20260421T025159
CREATED:20250512T085436Z
LAST-MODIFIED:20250512T085436Z
UID:67166-1749150000-1749150000@a-desk.org
SUMMARY:"L'imperatiu categòric" Victoria Szpunberg
DESCRIPTION:
URL:https://a-desk.org/en/agenda/limperatiu-categoric-victoria-szpunberg-2/
LOCATION:Barcelona
CATEGORIES:Teatre
END:VEVENT
BEGIN:VEVENT
DTSTART;TZID=Europe/Madrid:20250605T190000
DTEND;TZID=Europe/Madrid:20250605T190000
DTSTAMP:20260421T025159
CREATED:20250526T203336Z
LAST-MODIFIED:20250526T203336Z
UID:67456-1749150000-1749150000@a-desk.org
SUMMARY:"Papel negro"  Teju Cole
DESCRIPTION:
URL:https://a-desk.org/en/agenda/papel-negro-teju-cole/
LOCATION:Llibreria Finestres\, C/ Diputació\, 249\, 08007 Barcelona mapa\, Barcelona\, Barcelona\, 08007\, Spain
CATEGORIES:Presentació de llibre
END:VEVENT
BEGIN:VEVENT
DTSTART;TZID=Europe/Madrid:20250605T190000
DTEND;TZID=Europe/Madrid:20250605T190000
DTSTAMP:20260421T025159
CREATED:20250529T190132Z
LAST-MODIFIED:20250529T190132Z
UID:67577-1749150000-1749150000@a-desk.org
SUMMARY:"Inventar_iar. La vida que no passa"
DESCRIPTION:
URL:https://a-desk.org/en/agenda/inventar_iar-la-vida-que-no-passa/
LOCATION:Mèdol\, C/ d'En Granada\, 11\, Tarragona\, Tarragona\, 43003\, España
CATEGORIES:Inauguració/Exposició
END:VEVENT
BEGIN:VEVENT
DTSTART;TZID=Europe/Madrid:20250605T190000
DTEND;TZID=Europe/Madrid:20250605T190000
DTSTAMP:20260421T025159
CREATED:20250529T192151Z
LAST-MODIFIED:20250529T192151Z
UID:67607-1749150000-1749150000@a-desk.org
SUMMARY:"Sintaxi en viu. Live-Coding d'Alexandra Cárdenas"
DESCRIPTION:
URL:https://a-desk.org/en/agenda/sintaxi-en-viu-live-coding-dalexandra-cardenas/
LOCATION:Goethe Institut\, C/ de Roger de Flor 224\, Barcelona\, Barcelona\, 08025\, España
CATEGORIES:Performance
END:VEVENT
BEGIN:VEVENT
DTSTART;TZID=Europe/Madrid:20250605T190000
DTEND;TZID=Europe/Madrid:20250605T190000
DTSTAMP:20260421T025159
CREATED:20250529T192321Z
LAST-MODIFIED:20250529T192321Z
UID:67609-1749150000-1749150000@a-desk.org
SUMMARY:"Explosió Creativa a la Primavera: Mostra Final de tallers creatius "
DESCRIPTION:
URL:https://a-desk.org/en/agenda/explosio-creativa-a-la-primavera-mostra-final-de-tallers-creatius/
LOCATION:CC Guinardó\, Ronda del Guinardó\, 113\, 08041 Barcelona mapa\, Barcelona\, Barcelona\, 08041\, Spain
CATEGORIES:Inauguració/Exposició
END:VEVENT
BEGIN:VEVENT
DTSTART;TZID=Europe/Madrid:20250605T190000
DTEND;TZID=Europe/Madrid:20250605T190000
DTSTAMP:20260421T025159
CREATED:20250529T192431Z
LAST-MODIFIED:20250529T192431Z
UID:67611-1749150000-1749150000@a-desk.org
SUMMARY:"Taller de glosa"
DESCRIPTION:
URL:https://a-desk.org/en/agenda/taller-de-glosa/
LOCATION:Espai Mallorca\, Plaça de Vicenç Martorell\, 1\, Ciutat Vella\, 08001 Barcelona
CATEGORIES:Workshop
END:VEVENT
BEGIN:VEVENT
DTSTART;TZID=Europe/Madrid:20250605T190000
DTEND;TZID=Europe/Madrid:20250605T190000
DTSTAMP:20260421T025159
CREATED:20250529T192828Z
LAST-MODIFIED:20250529T192828Z
UID:67615-1749150000-1749150000@a-desk.org
SUMMARY:"Raw" Christina Gschwantner
DESCRIPTION:
URL:https://a-desk.org/en/agenda/raw-christina-gschwantner/
LOCATION:Escat Gallery\, Carrer Trafalgar 47\, Barcelona\, Spain 08010
CATEGORIES:Inauguració/Exposició
END:VEVENT
BEGIN:VEVENT
DTSTART;TZID=Europe/Madrid:20250605T190000
DTEND;TZID=Europe/Madrid:20250605T200000
DTSTAMP:20260421T025159
CREATED:20250529T190340Z
LAST-MODIFIED:20250529T190340Z
UID:67581-1749150000-1749153600@a-desk.org
SUMMARY:"Dijous de veu i paraula / D’una set antiga"
DESCRIPTION:
URL:https://a-desk.org/en/agenda/dijous-de-veu-i-paraula-duna-set-antiga/
LOCATION:Santa Mònica\, La Rambla\, 7\, 08002 Barcelona mapa\, Barcelona\, Barcelona\, 08002\, Spain
CATEGORIES:Espectacle
END:VEVENT
BEGIN:VEVENT
DTSTART;TZID=Europe/Madrid:20250605T190000
DTEND;TZID=Europe/Madrid:20250605T210000
DTSTAMP:20260421T025159
CREATED:20250603T220624Z
LAST-MODIFIED:20250603T220624Z
UID:67757-1749150000-1749157200@a-desk.org
SUMMARY:"There is a timbre of voice" Belkis Ayón\, Chioma Ebinama\, Susy Gómez\, Nancy Spero\, Cecilia Vicuña
DESCRIPTION:
URL:https://a-desk.org/en/agenda/there-is-a-timbre-of-voice-belkis-ayon-chioma-ebinama-susy-gomez-nancy-spero-cecilia-vicuna/
LOCATION:Prats Nogueres Blanchard\, Carrer Isaac Peral\, 7\, L'Hospitalet de Llobregat\, Barcelona\, 08902\, España
CATEGORIES:Inauguració/Exposició
END:VEVENT
BEGIN:VEVENT
DTSTART;TZID=Europe/Madrid:20250605T190000
DTEND;TZID=Europe/Madrid:20250605T210000
DTSTAMP:20260421T025159
CREATED:20250603T224546Z
LAST-MODIFIED:20250603T224546Z
UID:67785-1749150000-1749157200@a-desk.org
SUMMARY:"In Transit" Luka Zubicaray
DESCRIPTION:
URL:https://a-desk.org/en/agenda/in-transit-luka-zubicaray/
LOCATION:Espronceda Institute of Art & Culture\, C/ d'Espronceda\, 326\, Nave 4 y 5\,\, Barcelona\, Barcelona\, 08027\, España
CATEGORIES:Inauguració/Exposició
END:VEVENT
BEGIN:VEVENT
DTSTART;TZID=Europe/Madrid:20250605T193000
DTEND;TZID=Europe/Madrid:20250605T193000
DTSTAMP:20260421T025159
CREATED:20250603T223102Z
LAST-MODIFIED:20250603T223102Z
UID:67773-1749151800-1749151800@a-desk.org
SUMMARY:"Trampantojo\, o el relat de la història d’Espanya"
DESCRIPTION:
URL:https://a-desk.org/en/agenda/trampantojo-o-el-relat-de-la-historia-despanya-2/
LOCATION:La Casa Elizalde\, C/ València\, 302\, 08009 Barcelona mapa\, Barcelona\, Barcelona\, 08009\, Spain
CATEGORIES:Espectacle
END:VEVENT
BEGIN:VEVENT
DTSTART;TZID=Europe/Madrid:20250605T200000
DTEND;TZID=Europe/Madrid:20250605T200000
DTSTAMP:20260421T025159
CREATED:20250529T190520Z
LAST-MODIFIED:20250529T190520Z
UID:67583-1749153600-1749153600@a-desk.org
SUMMARY:"4_Sessió Pensaments / Filmoteca Georges Didi-Huberman"
DESCRIPTION:
URL:https://a-desk.org/en/agenda/4_sessio-pensaments-filmoteca-georges-didi-huberman/
LOCATION:Filmoteca\, Plaça de Salvador Seguí\, 1\, 08001 Barcelona mapa\, Barcelona\, Barcelona\, 08001\, Spain
CATEGORIES:Cinema
END:VEVENT
BEGIN:VEVENT
DTSTART;TZID=Europe/Madrid:20250605T201500
DTEND;TZID=Europe/Madrid:20250605T201500
DTSTAMP:20260421T025159
CREATED:20250603T222856Z
LAST-MODIFIED:20250603T222856Z
UID:67771-1749154500-1749154500@a-desk.org
SUMMARY:"Grup natural" + col·loqui postfunció
DESCRIPTION:
URL:https://a-desk.org/en/agenda/grup-natural-col%c2%b7loqui-postfuncio/
LOCATION:Espai Texas\, C/ de Bailèn\, 205\, Gràcia\, Barcelona\, Barcelona\, 08037\, España
CATEGORIES:Cinema,Col·loqui
END:VEVENT
END:VCALENDAR