BEGIN:VCALENDAR
VERSION:2.0
PRODID:-//A*Desk - ECPv6.8.1//NONSGML v1.0//EN
CALSCALE:GREGORIAN
METHOD:PUBLISH
X-WR-CALNAME:A*Desk
X-ORIGINAL-URL:https://a-desk.org/en/
X-WR-CALDESC:Events for A*Desk
REFRESH-INTERVAL;VALUE=DURATION:PT1H
X-Robots-Tag:noindex
X-PUBLISHED-TTL:PT1H
BEGIN:VTIMEZONE
TZID:Europe/Madrid
BEGIN:DAYLIGHT
TZOFFSETFROM:+0100
TZOFFSETTO:+0200
TZNAME:CEST
DTSTART:20240331T010000
END:DAYLIGHT
BEGIN:STANDARD
TZOFFSETFROM:+0200
TZOFFSETTO:+0100
TZNAME:CET
DTSTART:20241027T010000
END:STANDARD
BEGIN:DAYLIGHT
TZOFFSETFROM:+0100
TZOFFSETTO:+0200
TZNAME:CEST
DTSTART:20250330T010000
END:DAYLIGHT
BEGIN:STANDARD
TZOFFSETFROM:+0200
TZOFFSETTO:+0100
TZNAME:CET
DTSTART:20251026T010000
END:STANDARD
END:VTIMEZONE
BEGIN:VEVENT
DTSTART;VALUE=DATE:20241001
DTEND;VALUE=DATE:20250625
DTSTAMP:20260421T061426
CREATED:20240928T113817Z
LAST-MODIFIED:20240928T114234Z
UID:59863-1727740800-1750809599@a-desk.org
SUMMARY:Per amor a les Arts 2024-2025
DESCRIPTION:
URL:https://a-desk.org/en/agenda/per-amor-a-les-arts-2024-2025/
LOCATION:Barcelona
CATEGORIES:Cicle,Cinema
END:VEVENT
BEGIN:VEVENT
DTSTART;VALUE=DATE:20250429
DTEND;VALUE=DATE:20250621
DTSTAMP:20260421T061426
CREATED:20250429T084203Z
LAST-MODIFIED:20250429T084203Z
UID:66643-1745884800-1750463999@a-desk.org
SUMMARY:"SIT-RES 2026 - IDENSITAT"
DESCRIPTION:
URL:https://a-desk.org/en/agenda/sit-res-2026-idensitat/
LOCATION:Barcelona
CATEGORIES:Convocatòria
END:VEVENT
BEGIN:VEVENT
DTSTART;VALUE=DATE:20250505
DTEND;VALUE=DATE:20250612
DTSTAMP:20260421T061426
CREATED:20250505T063015Z
LAST-MODIFIED:20250505T063015Z
UID:66915-1746403200-1749686399@a-desk.org
SUMMARY:"Presentacions - EN RESiDÈNCiA"
DESCRIPTION:
URL:https://a-desk.org/en/agenda/presentacions-en-residencia/
LOCATION:Barcelona
CATEGORIES:Presentació
END:VEVENT
BEGIN:VEVENT
DTSTART;VALUE=DATE:20250508
DTEND;VALUE=DATE:20250619
DTSTAMP:20260421T061426
CREATED:20250506T101955Z
LAST-MODIFIED:20250506T101955Z
UID:67007-1746662400-1750291199@a-desk.org
SUMMARY:"Sumari astral"
DESCRIPTION:
URL:https://a-desk.org/en/agenda/sumari-astral/
LOCATION:Fundació Joan Brossa\, C/ Flassaders\, 40\, 08003 Barcelona mapa\, Barcelona\, Barcelona\, 08003\, Spain
CATEGORIES:Cicle
END:VEVENT
BEGIN:VEVENT
DTSTART;VALUE=DATE:20250512
DTEND;VALUE=DATE:20250629
DTSTAMP:20260421T061426
CREATED:20250507T073536Z
LAST-MODIFIED:20250507T073536Z
UID:67055-1747008000-1751155199@a-desk.org
SUMMARY:"Setmanes d’Arquitectura"
DESCRIPTION:
URL:https://a-desk.org/en/agenda/setmanes-darquitectura/
LOCATION:Barcelona
CATEGORIES:Jornada
END:VEVENT
BEGIN:VEVENT
DTSTART;TZID=Europe/Madrid:20250522T080000
DTEND;TZID=Europe/Madrid:20250718T170000
DTSTAMP:20260421T061426
CREATED:20250526T194744Z
LAST-MODIFIED:20250526T194744Z
UID:67425-1747900800-1752858000@a-desk.org
SUMMARY:"Mostra de Films de Dones"
DESCRIPTION:
URL:https://a-desk.org/en/agenda/mostra-de-films-de-dones/
LOCATION:Barcelona
CATEGORIES:Cinema
END:VEVENT
BEGIN:VEVENT
DTSTART;TZID=Europe/Madrid:20250530T190000
DTEND;TZID=Europe/Madrid:20250703T190000
DTSTAMP:20260421T061426
CREATED:20250512T084250Z
LAST-MODIFIED:20250512T084319Z
UID:67155-1748631600-1751569200@a-desk.org
SUMMARY:"Música a la Miró - 2025"
DESCRIPTION:
URL:https://a-desk.org/en/agenda/musica-a-la-miro-2025/
LOCATION:Fundación Joan Miró\, Parc de Montjuïc\, s/n\, 08038 Barcelona mapa\, Barcelona\, Barcelona\, 08038\, Spain
CATEGORIES:Cicle,Concert
END:VEVENT
BEGIN:VEVENT
DTSTART;TZID=Europe/Madrid:20250607T110000
DTEND;TZID=Europe/Madrid:20250607T130000
DTSTAMP:20260421T061426
CREATED:20250529T190859Z
LAST-MODIFIED:20250529T190859Z
UID:67587-1749294000-1749301200@a-desk.org
SUMMARY:"Visita La Escocesa"
DESCRIPTION:
URL:https://a-desk.org/en/agenda/visita-la-escocesa-4/
LOCATION:La Escocesa\, C/ Pere IV\, 345\, 08020 Barcelona mapa\, Barcelona\, Barcelona\, 08020\, Spain
CATEGORIES:Guided tour
END:VEVENT
BEGIN:VEVENT
DTSTART;TZID=Europe/Madrid:20250607T110000
DTEND;TZID=Europe/Madrid:20250607T140000
DTSTAMP:20260421T061426
CREATED:20250529T191127Z
LAST-MODIFIED:20250529T191127Z
UID:67592-1749294000-1749304800@a-desk.org
SUMMARY:"Contactar exposicions — Contactar vidres enfrontats"
DESCRIPTION:
URL:https://a-desk.org/en/agenda/contactar-exposicions-contactar-vidres-enfrontats/
LOCATION:Fabra i Coats\, C/ Sant Adrià\, 20\, 08030 Barcelona mapa\, Barcelona\, Barcelona\, 08030\, Spain
CATEGORIES:Guided tour
END:VEVENT
BEGIN:VEVENT
DTSTART;TZID=Europe/Madrid:20250607T120000
DTEND;TZID=Europe/Madrid:20250607T120000
DTSTAMP:20260421T061426
CREATED:20250526T200502Z
LAST-MODIFIED:20250526T200502Z
UID:67436-1749297600-1749297600@a-desk.org
SUMMARY:"Ritme i matèria" Marcel Martí
DESCRIPTION:
URL:https://a-desk.org/en/agenda/ritme-i-materia-marcel-marti/
LOCATION:Fundacio Vila Casas. Can Mario\, Plaça de Can Màrio\, 7\, Palafrugell\, Girona\, 17200\, España
CATEGORIES:Inauguració/Exposició
END:VEVENT
BEGIN:VEVENT
DTSTART;TZID=Europe/Madrid:20250607T120000
DTEND;TZID=Europe/Madrid:20250607T120000
DTSTAMP:20260421T061426
CREATED:20250603T222132Z
LAST-MODIFIED:20250603T222132Z
UID:67765-1749297600-1749297600@a-desk.org
SUMMARY:"Sonets" Luís de Camoes
DESCRIPTION:
URL:https://a-desk.org/en/agenda/sonets-luis-de-camoes/
LOCATION:Llibreria Finestres\, C/ Diputació\, 249\, 08007 Barcelona mapa\, Barcelona\, Barcelona\, 08007\, Spain
CATEGORIES:Presentació de llibre
END:VEVENT
BEGIN:VEVENT
DTSTART;TZID=Europe/Madrid:20250607T120000
DTEND;TZID=Europe/Madrid:20250607T130000
DTSTAMP:20260421T061426
CREATED:20250529T191024Z
LAST-MODIFIED:20250529T191024Z
UID:67589-1749297600-1749301200@a-desk.org
SUMMARY:"Portes obertes: Ruta de Can Grau Cardant Cultura a H.Associació"
DESCRIPTION:
URL:https://a-desk.org/en/agenda/portes-obertes-ruta-de-can-grau-cardant-cultura-a-h-associacio/
LOCATION:Can Grau Cardant Cultura\, Camí de Malars\, s/n 08510 Les Masies de Roda
CATEGORIES:Portes obertes
END:VEVENT
BEGIN:VEVENT
DTSTART;TZID=Europe/Madrid:20250607T120000
DTEND;TZID=Europe/Madrid:20250607T140000
DTSTAMP:20260421T061426
CREATED:20250529T191330Z
LAST-MODIFIED:20250529T191330Z
UID:67594-1749297600-1749304800@a-desk.org
SUMMARY:"Sessió 2 amb Henda Chennaoui  / Azar. grup d’estudis àrabs"
DESCRIPTION:
URL:https://a-desk.org/en/agenda/sessio-2-amb-henda-chennaoui-azar-grup-destudis-arabs/
LOCATION:La Escocesa\, C/ Pere IV\, 345\, 08020 Barcelona mapa\, Barcelona\, Barcelona\, 08020\, Spain
CATEGORIES:Curs
END:VEVENT
BEGIN:VEVENT
DTSTART;TZID=Europe/Madrid:20250607T120000
DTEND;TZID=Europe/Madrid:20250607T160000
DTSTAMP:20260421T061426
CREATED:20250603T224357Z
LAST-MODIFIED:20250603T224357Z
UID:67783-1749297600-1749312000@a-desk.org
SUMMARY:"Postrimerías" María Sánchez
DESCRIPTION:
URL:https://a-desk.org/en/agenda/postrimerias-maria-sanchez/
LOCATION:Galería Alegría\, Ronda de la Via\, 7\, Hospital de Llobregat\, Barcelona\, 08903\, España
CATEGORIES:Inauguració/Exposició
END:VEVENT
BEGIN:VEVENT
DTSTART;TZID=Europe/Madrid:20250607T180000
DTEND;TZID=Europe/Madrid:20250607T180000
DTSTAMP:20260421T061426
CREATED:20250526T202335Z
LAST-MODIFIED:20250526T202335Z
UID:67450-1749319200-1749319200@a-desk.org
SUMMARY:"AEROWAVES: Sirens" Ermira Goro
DESCRIPTION:
URL:https://a-desk.org/en/agenda/aerowaves-sirens-ermira-goro/
LOCATION:Mercat de les Flors\, C/ Lleida\, 59\, 08004 Barcelona mapa\, Barcelona\, Barcelona\, 08004\, Spain
CATEGORIES:Dansa
END:VEVENT
BEGIN:VEVENT
DTSTART;TZID=Europe/Madrid:20250607T200000
DTEND;TZID=Europe/Madrid:20250607T200000
DTSTAMP:20260421T061426
CREATED:20250529T193430Z
LAST-MODIFIED:20250529T193430Z
UID:67621-1749326400-1749326400@a-desk.org
SUMMARY:"TRAVY"
DESCRIPTION:
URL:https://a-desk.org/en/agenda/travy/
LOCATION:Teatre Romea\, Carrer de l'Hospital\, 51\, Barcelona\, Barcelona\, 08001\, España
CATEGORIES:Teatre
END:VEVENT
BEGIN:VEVENT
DTSTART;TZID=Europe/Madrid:20250607T200000
DTEND;TZID=Europe/Madrid:20250607T200000
DTSTAMP:20260421T061426
CREATED:20250603T223744Z
LAST-MODIFIED:20250603T223744Z
UID:67779-1749326400-1749326400@a-desk.org
SUMMARY:"Tres retrats de poetes. Sarah Maldoror"
DESCRIPTION:
URL:https://a-desk.org/en/agenda/tres-retrats-de-poetes-sarah-maldoror/
LOCATION:Filmoteca\, Plaça de Salvador Seguí\, 1\, 08001 Barcelona mapa\, Barcelona\, Barcelona\, 08001\, Spain
CATEGORIES:Cinema
END:VEVENT
BEGIN:VEVENT
DTSTART;TZID=Europe/Madrid:20250607T203000
DTEND;TZID=Europe/Madrid:20250607T203000
DTSTAMP:20260421T061426
CREATED:20250527T212801Z
LAST-MODIFIED:20250527T212801Z
UID:67524-1749328200-1749328200@a-desk.org
SUMMARY:"Mèdol summer party"
DESCRIPTION:
URL:https://a-desk.org/en/agenda/medol-summer-party/
LOCATION:Mèdol\, C/ d'En Granada\, 11\, Tarragona\, Tarragona\, 43003\, España
CATEGORIES:Festa
END:VEVENT
BEGIN:VEVENT
DTSTART;TZID=Europe/Madrid:20250607T210000
DTEND;TZID=Europe/Madrid:20250607T210000
DTSTAMP:20260421T061426
CREATED:20250603T170901Z
LAST-MODIFIED:20250603T170901Z
UID:67736-1749330000-1749330000@a-desk.org
SUMMARY:"Sirat" Oliver Laxe
DESCRIPTION:
URL:https://a-desk.org/en/agenda/sirat-oliver-laxe-2/
LOCATION:Zumzeig\, C/ Béjar\, 53\, 08014 Barcelona mapa\, Barcelona\, Barcelona\, 08014\, Spain
CATEGORIES:Cinema
END:VEVENT
END:VCALENDAR