BEGIN:VCALENDAR
VERSION:2.0
PRODID:-//A*Desk - ECPv6.8.1//NONSGML v1.0//EN
CALSCALE:GREGORIAN
METHOD:PUBLISH
X-ORIGINAL-URL:https://a-desk.org/en/
X-WR-CALDESC:Events for A*Desk
REFRESH-INTERVAL;VALUE=DURATION:PT1H
X-Robots-Tag:noindex
X-PUBLISHED-TTL:PT1H
BEGIN:VTIMEZONE
TZID:Europe/Madrid
BEGIN:DAYLIGHT
TZOFFSETFROM:+0100
TZOFFSETTO:+0200
TZNAME:CEST
DTSTART:20240331T010000
END:DAYLIGHT
BEGIN:STANDARD
TZOFFSETFROM:+0200
TZOFFSETTO:+0100
TZNAME:CET
DTSTART:20241027T010000
END:STANDARD
BEGIN:DAYLIGHT
TZOFFSETFROM:+0100
TZOFFSETTO:+0200
TZNAME:CEST
DTSTART:20250330T010000
END:DAYLIGHT
BEGIN:STANDARD
TZOFFSETFROM:+0200
TZOFFSETTO:+0100
TZNAME:CET
DTSTART:20251026T010000
END:STANDARD
END:VTIMEZONE
BEGIN:VEVENT
DTSTART;VALUE=DATE:20241001
DTEND;VALUE=DATE:20250625
DTSTAMP:20260421T133835
CREATED:20240928T113817Z
LAST-MODIFIED:20240928T114234Z
UID:59863-1727740800-1750809599@a-desk.org
SUMMARY:Per amor a les Arts 2024-2025
DESCRIPTION:
URL:https://a-desk.org/en/agenda/per-amor-a-les-arts-2024-2025/
LOCATION:Barcelona
CATEGORIES:Cicle,Cinema
END:VEVENT
BEGIN:VEVENT
DTSTART;VALUE=DATE:20250429
DTEND;VALUE=DATE:20250621
DTSTAMP:20260421T133835
CREATED:20250429T084203Z
LAST-MODIFIED:20250429T084203Z
UID:66643-1745884800-1750463999@a-desk.org
SUMMARY:"SIT-RES 2026 - IDENSITAT"
DESCRIPTION:
URL:https://a-desk.org/en/agenda/sit-res-2026-idensitat/
LOCATION:Barcelona
CATEGORIES:Convocatòria
END:VEVENT
BEGIN:VEVENT
DTSTART;VALUE=DATE:20250508
DTEND;VALUE=DATE:20250619
DTSTAMP:20260421T133835
CREATED:20250506T101955Z
LAST-MODIFIED:20250506T101955Z
UID:67007-1746662400-1750291199@a-desk.org
SUMMARY:"Sumari astral"
DESCRIPTION:
URL:https://a-desk.org/en/agenda/sumari-astral/
LOCATION:Fundació Joan Brossa\, C/ Flassaders\, 40\, 08003 Barcelona mapa\, Barcelona\, Barcelona\, 08003\, Spain
CATEGORIES:Cicle
END:VEVENT
BEGIN:VEVENT
DTSTART;VALUE=DATE:20250512
DTEND;VALUE=DATE:20250629
DTSTAMP:20260421T133835
CREATED:20250507T073536Z
LAST-MODIFIED:20250507T073536Z
UID:67055-1747008000-1751155199@a-desk.org
SUMMARY:"Setmanes d’Arquitectura"
DESCRIPTION:
URL:https://a-desk.org/en/agenda/setmanes-darquitectura/
LOCATION:Barcelona
CATEGORIES:Jornada
END:VEVENT
BEGIN:VEVENT
DTSTART;TZID=Europe/Madrid:20250522T080000
DTEND;TZID=Europe/Madrid:20250718T170000
DTSTAMP:20260421T133835
CREATED:20250526T194744Z
LAST-MODIFIED:20250526T194744Z
UID:67425-1747900800-1752858000@a-desk.org
SUMMARY:"Mostra de Films de Dones"
DESCRIPTION:
URL:https://a-desk.org/en/agenda/mostra-de-films-de-dones/
LOCATION:Barcelona
CATEGORIES:Cinema
END:VEVENT
BEGIN:VEVENT
DTSTART;TZID=Europe/Madrid:20250530T190000
DTEND;TZID=Europe/Madrid:20250703T190000
DTSTAMP:20260421T133835
CREATED:20250512T084250Z
LAST-MODIFIED:20250512T084319Z
UID:67155-1748631600-1751569200@a-desk.org
SUMMARY:"Música a la Miró - 2025"
DESCRIPTION:
URL:https://a-desk.org/en/agenda/musica-a-la-miro-2025/
LOCATION:Fundación Joan Miró\, Parc de Montjuïc\, s/n\, 08038 Barcelona mapa\, Barcelona\, Barcelona\, 08038\, Spain
CATEGORIES:Cicle,Concert
END:VEVENT
BEGIN:VEVENT
DTSTART;VALUE=DATE:20250608
DTEND;VALUE=DATE:20250615
DTSTAMP:20260421T133835
CREATED:20250607T171754Z
LAST-MODIFIED:20250607T171754Z
UID:67934-1749340800-1749945599@a-desk.org
SUMMARY:"Festival Efímera"
DESCRIPTION:
URL:https://a-desk.org/en/agenda/festival-efimera/
LOCATION:CACiS Centre d’Art Contemporani i Sostenibilitat\, El Forn de la Calç 08275 Calders
CATEGORIES:Festival
END:VEVENT
BEGIN:VEVENT
DTSTART;VALUE=DATE:20250612
DTEND;VALUE=DATE:20250616
DTSTAMP:20260421T133835
CREATED:20250529T193026Z
LAST-MODIFIED:20250529T193026Z
UID:67617-1749686400-1750031999@a-desk.org
SUMMARY:"mónFILMAT 2025"
DESCRIPTION:
URL:https://a-desk.org/en/agenda/monfilmat-2025/
LOCATION:Lo Pati\, Carrer Gran Capità\, 38\, 43870 Amposta\, Tarragona
CATEGORIES:Cinema,Festival
END:VEVENT
BEGIN:VEVENT
DTSTART;TZID=Europe/Madrid:20250612T100000
DTEND;TZID=Europe/Madrid:20250612T113000
DTSTAMP:20260421T133835
CREATED:20250607T170836Z
LAST-MODIFIED:20250607T170836Z
UID:67922-1749722400-1749727800@a-desk.org
SUMMARY:"Visions encarnades amb Carme Torrent"
DESCRIPTION:
URL:https://a-desk.org/en/agenda/visions-encarnades-amb-carme-torrent-3/
LOCATION:La Escocesa\, C/ Pere IV\, 345\, 08020 Barcelona mapa\, Barcelona\, Barcelona\, 08020\, Spain
CATEGORIES:Activitat
END:VEVENT
BEGIN:VEVENT
DTSTART;TZID=Europe/Madrid:20250612T163000
DTEND;TZID=Europe/Madrid:20250614T183000
DTSTAMP:20260421T133835
CREATED:20250607T164018Z
LAST-MODIFIED:20250607T164018Z
UID:67890-1749745800-1749925800@a-desk.org
SUMMARY:"SonarMies: Interficies sensibles"
DESCRIPTION:
URL:https://a-desk.org/en/agenda/sonarmies-interficies-sensibles/
LOCATION:Fundació Mies van der Rohe\, Av. Francesc Ferrer i Guàrdia\, 7\, 08038 Barcelona mapa\, Barcelona\, Barcelona\, 08038\, Spain
CATEGORIES:intervenció
END:VEVENT
BEGIN:VEVENT
DTSTART;TZID=Europe/Madrid:20250612T173000
DTEND;TZID=Europe/Madrid:20250612T200000
DTSTAMP:20260421T133835
CREATED:20250607T170939Z
LAST-MODIFIED:20250607T170939Z
UID:67924-1749749400-1749758400@a-desk.org
SUMMARY:"Curs flash de canelobres de ceràmica amb Maria Roy"
DESCRIPTION:
URL:https://a-desk.org/en/agenda/curs-flash-de-canelobres-de-ceramica-amb-maria-roy-3/
LOCATION:La Escocesa\, C/ Pere IV\, 345\, 08020 Barcelona mapa\, Barcelona\, Barcelona\, 08020\, Spain
CATEGORIES:Curs
END:VEVENT
BEGIN:VEVENT
DTSTART;TZID=Europe/Madrid:20250612T180000
DTEND;TZID=Europe/Madrid:20250612T180000
DTSTAMP:20260421T133835
CREATED:20250607T164934Z
LAST-MODIFIED:20250607T164934Z
UID:67904-1749751200-1749751200@a-desk.org
SUMMARY:"Visitem Coco Fusco. He après a nedar en sec amb Elvira Dyangani Ose"
DESCRIPTION:
URL:https://a-desk.org/en/agenda/visitem-coco-fusco-he-apres-a-nedar-en-sec-amb-elvira-dyangani-ose/
LOCATION:MACBA\, Plaça dels Àngels\, 1\, 08001 Barcelona mapa\, Barcelona\, Barcelona\, 08001\, Spain
CATEGORIES:Guided tour
END:VEVENT
BEGIN:VEVENT
DTSTART;TZID=Europe/Madrid:20250612T183000
DTEND;TZID=Europe/Madrid:20250612T193000
DTSTAMP:20260421T133835
CREATED:20250607T171052Z
LAST-MODIFIED:20250607T171052Z
UID:67926-1749753000-1749756600@a-desk.org
SUMMARY:"Volver a Fondo" Sofía Montenegro
DESCRIPTION:
URL:https://a-desk.org/en/agenda/volver-a-fondo-sofia-montenegro/
LOCATION:Fundació Joan Brossa\, C/ Flassaders\, 40\, 08003 Barcelona mapa\, Barcelona\, Barcelona\, 08003\, Spain
CATEGORIES:Performance
END:VEVENT
BEGIN:VEVENT
DTSTART;TZID=Europe/Madrid:20250612T183000
DTEND;TZID=Europe/Madrid:20250612T200000
DTSTAMP:20260421T133835
CREATED:20250607T162845Z
LAST-MODIFIED:20250607T162845Z
UID:67874-1749753000-1749758400@a-desk.org
SUMMARY:"Preguntes que (ens) importen" Agnes Callard i Jordi Graupera
DESCRIPTION:
URL:https://a-desk.org/en/agenda/preguntes-que-ens-importen-agnes-callard-i-jordi-graupera/
LOCATION:CCCB\, C/ Montalegre\, 5\, 08001 Barcelona mapa\, Barcelona\, Barcelona\, 08001\, Spain
CATEGORIES:Debat
END:VEVENT
BEGIN:VEVENT
DTSTART;TZID=Europe/Madrid:20250612T183000
DTEND;TZID=Europe/Madrid:20250612T203000
DTSTAMP:20260421T133835
CREATED:20250507T073711Z
LAST-MODIFIED:20250507T073711Z
UID:67057-1749753000-1749760200@a-desk.org
SUMMARY:"Ciclo Gaite / La búsqueda de nunca acabar"
DESCRIPTION:
URL:https://a-desk.org/en/agenda/ciclo-gaite-la-busqueda-de-nunca-acabar/
LOCATION:crisi\, C. de Floridablanca\, 90\, Barcelona\, Barcelona\, 08015\, España
CATEGORIES:Cicle
END:VEVENT
BEGIN:VEVENT
DTSTART;TZID=Europe/Madrid:20250612T190000
DTEND;TZID=Europe/Madrid:20250612T190000
DTSTAMP:20260421T133835
CREATED:20250603T223909Z
LAST-MODIFIED:20250603T223909Z
UID:67781-1749754800-1749754800@a-desk.org
SUMMARY:"Bèstia Celestial" Nicasio Torres
DESCRIPTION:
URL:https://a-desk.org/en/agenda/bestia-celestial-nicasio-torres/
LOCATION:Fundació Palo Alto\, Carrer dels Pellaires\, 30 - 38\, Sant Martí\, 08019 Barcelona
CATEGORIES:Inauguració/Exposició
END:VEVENT
BEGIN:VEVENT
DTSTART;TZID=Europe/Madrid:20250612T190000
DTEND;TZID=Europe/Madrid:20250612T190000
DTSTAMP:20260421T133835
CREATED:20250607T160648Z
LAST-MODIFIED:20250607T160648Z
UID:67842-1749754800-1749754800@a-desk.org
SUMMARY:"Les flors que creixen en l'abisme que soc"
DESCRIPTION:
URL:https://a-desk.org/en/agenda/les-flors-que-creixen-en-labisme-que-soc/
LOCATION:Fabra i Coats\, C/ Sant Adrià\, 20\, 08030 Barcelona mapa\, Barcelona\, Barcelona\, 08030\, Spain
CATEGORIES:Inauguració/Exposició
END:VEVENT
BEGIN:VEVENT
DTSTART;TZID=Europe/Madrid:20250612T190000
DTEND;TZID=Europe/Madrid:20250612T190000
DTSTAMP:20260421T133835
CREATED:20250607T163409Z
LAST-MODIFIED:20250607T163409Z
UID:67880-1749754800-1749754800@a-desk.org
SUMMARY:"Y lo peor\, sucedía siempre en los sueños" Carlos Pazos
DESCRIPTION:
URL:https://a-desk.org/en/agenda/y-lo-peor-sucedia-siempre-en-los-suenos-carlos-pazos/
LOCATION:Galeria ADN\, C/ Mallorca\, 205\, 08036 Barcelona mapa\, Barcelona\, Barcelona\, 08038
CATEGORIES:Inauguració/Exposició
END:VEVENT
BEGIN:VEVENT
DTSTART;TZID=Europe/Madrid:20250612T190000
DTEND;TZID=Europe/Madrid:20250612T190000
DTSTAMP:20260421T133835
CREATED:20250607T164722Z
LAST-MODIFIED:20250607T164722Z
UID:67900-1749754800-1749754800@a-desk.org
SUMMARY:"Si no fos per les síl·labes de dissabte" Mariana Salomão Carrara
DESCRIPTION:
URL:https://a-desk.org/en/agenda/si-no-fos-per-les-sil%c2%b7labes-de-dissabte-mariana-salomao-carrara/
LOCATION:Llibreria Finestres\, C/ Diputació\, 249\, 08007 Barcelona mapa\, Barcelona\, Barcelona\, 08007\, Spain
CATEGORIES:Presentació de llibre
END:VEVENT
BEGIN:VEVENT
DTSTART;TZID=Europe/Madrid:20250612T190000
DTEND;TZID=Europe/Madrid:20250612T190000
DTSTAMP:20260421T133835
CREATED:20250607T171327Z
LAST-MODIFIED:20250607T171327Z
UID:67930-1749754800-1749754800@a-desk.org
SUMMARY:"PRESENTACIÓ SITESIZE A ACVIC"
DESCRIPTION:
URL:https://a-desk.org/en/agenda/presentacio-sitesize-a-acvic/
LOCATION:ACVic\, C/ Sant Francesc\, 1\, Vic\, Barcelona\, 8500\, España
CATEGORIES:Presentació de llibre
END:VEVENT
BEGIN:VEVENT
DTSTART;TZID=Europe/Madrid:20250612T190000
DTEND;TZID=Europe/Madrid:20250612T190000
DTSTAMP:20260421T133835
CREATED:20250610T083431Z
LAST-MODIFIED:20250610T083605Z
UID:67949-1749754800-1749754800@a-desk.org
SUMMARY:"Cicle converses Documenta VI: Fatima Ouassak conversa amb Safia El Aaddam i Fatiha El Mouhali"
DESCRIPTION:
URL:https://a-desk.org/en/agenda/cicle-conevrses-documenta-vi-fatima-ouassak-conversa-amb-safia-el-aaddam-i-fatiha-el-mouhali/
LOCATION:Llibreria documenta\, Carrer de Pau Claris\, 144\, L'Eixample\, 08009 Barcelona
CATEGORIES:Conversa
END:VEVENT
BEGIN:VEVENT
DTSTART;TZID=Europe/Madrid:20250612T190000
DTEND;TZID=Europe/Madrid:20250612T200000
DTSTAMP:20260421T133835
CREATED:20250607T171205Z
LAST-MODIFIED:20250607T171205Z
UID:67928-1749754800-1749758400@a-desk.org
SUMMARY:"Dijous de veu i paraula / Fervor tan fosc i Teoria poètica de la pell de gallinada"
DESCRIPTION:
URL:https://a-desk.org/en/agenda/dijous-de-veu-i-paraula-fervor-tan-fosc-i-teoria-poetica-de-la-pell-de-gallinada/
LOCATION:Santa Mònica\, La Rambla\, 7\, 08002 Barcelona mapa\, Barcelona\, Barcelona\, 08002\, Spain
CATEGORIES:Recital
END:VEVENT
BEGIN:VEVENT
DTSTART;TZID=Europe/Madrid:20250612T190000
DTEND;TZID=Europe/Madrid:20250612T210000
DTSTAMP:20260421T133835
CREATED:20250607T162739Z
LAST-MODIFIED:20250607T162739Z
UID:67872-1749754800-1749762000@a-desk.org
SUMMARY:"Breu història de la foscor: Una defensa de les sales de cinema a l'era de l'streaming" Vicente Monroy i Andrés Duque
DESCRIPTION:
URL:https://a-desk.org/en/agenda/breu-historia-de-la-foscor-una-defensa-de-les-sales-de-cinema-a-lera-de-lstreaming-vicente-monroy-i-andres-duque/
LOCATION:CCCB\, C/ Montalegre\, 5\, 08001 Barcelona mapa\, Barcelona\, Barcelona\, 08001\, Spain
CATEGORIES:Debat,Projecció
END:VEVENT
BEGIN:VEVENT
DTSTART;TZID=Europe/Madrid:20250612T193000
DTEND;TZID=Europe/Madrid:20250612T193000
DTSTAMP:20260421T133835
CREATED:20250607T162458Z
LAST-MODIFIED:20250607T162458Z
UID:67868-1749756600-1749756600@a-desk.org
SUMMARY:"El silenci dels telers"
DESCRIPTION:
URL:https://a-desk.org/en/agenda/el-silenci-dels-telers/
LOCATION:La Casa Elizalde\, C/ València\, 302\, 08009 Barcelona mapa\, Barcelona\, Barcelona\, 08009\, Spain
CATEGORIES:Teatre
END:VEVENT
BEGIN:VEVENT
DTSTART;TZID=Europe/Madrid:20250612T200000
DTEND;TZID=Europe/Madrid:20250612T200000
DTSTAMP:20260421T133835
CREATED:20250607T161142Z
LAST-MODIFIED:20250607T161142Z
UID:67848-1749758400-1749758400@a-desk.org
SUMMARY:"THE HEEKS"
DESCRIPTION:
URL:https://a-desk.org/en/agenda/the-heeks/
LOCATION:Centre Cultural La Farinera del Clot\, Gran Via de les Corts Catalanes\, 837\, Barcelona\, Barcelona\, 08018\, España
CATEGORIES:Concert
END:VEVENT
END:VCALENDAR