BEGIN:VCALENDAR
VERSION:2.0
PRODID:-//A*Desk - ECPv6.8.1//NONSGML v1.0//EN
CALSCALE:GREGORIAN
METHOD:PUBLISH
X-ORIGINAL-URL:https://a-desk.org/en/
X-WR-CALDESC:Events for A*Desk
REFRESH-INTERVAL;VALUE=DURATION:PT1H
X-Robots-Tag:noindex
X-PUBLISHED-TTL:PT1H
BEGIN:VTIMEZONE
TZID:Europe/Madrid
BEGIN:DAYLIGHT
TZOFFSETFROM:+0100
TZOFFSETTO:+0200
TZNAME:CEST
DTSTART:20240331T010000
END:DAYLIGHT
BEGIN:STANDARD
TZOFFSETFROM:+0200
TZOFFSETTO:+0100
TZNAME:CET
DTSTART:20241027T010000
END:STANDARD
BEGIN:DAYLIGHT
TZOFFSETFROM:+0100
TZOFFSETTO:+0200
TZNAME:CEST
DTSTART:20250330T010000
END:DAYLIGHT
BEGIN:STANDARD
TZOFFSETFROM:+0200
TZOFFSETTO:+0100
TZNAME:CET
DTSTART:20251026T010000
END:STANDARD
END:VTIMEZONE
BEGIN:VEVENT
DTSTART;VALUE=DATE:20241001
DTEND;VALUE=DATE:20250625
DTSTAMP:20260421T235012
CREATED:20240928T113817Z
LAST-MODIFIED:20240928T114234Z
UID:59863-1727740800-1750809599@a-desk.org
SUMMARY:Per amor a les Arts 2024-2025
DESCRIPTION:
URL:https://a-desk.org/en/agenda/per-amor-a-les-arts-2024-2025/
LOCATION:Barcelona
CATEGORIES:Cicle,Cinema
END:VEVENT
BEGIN:VEVENT
DTSTART;VALUE=DATE:20250429
DTEND;VALUE=DATE:20250621
DTSTAMP:20260421T235012
CREATED:20250429T084203Z
LAST-MODIFIED:20250429T084203Z
UID:66643-1745884800-1750463999@a-desk.org
SUMMARY:"SIT-RES 2026 - IDENSITAT"
DESCRIPTION:
URL:https://a-desk.org/en/agenda/sit-res-2026-idensitat/
LOCATION:Barcelona
CATEGORIES:Convocatòria
END:VEVENT
BEGIN:VEVENT
DTSTART;VALUE=DATE:20250512
DTEND;VALUE=DATE:20250629
DTSTAMP:20260421T235012
CREATED:20250507T073536Z
LAST-MODIFIED:20250507T073536Z
UID:67055-1747008000-1751155199@a-desk.org
SUMMARY:"Setmanes d’Arquitectura"
DESCRIPTION:
URL:https://a-desk.org/en/agenda/setmanes-darquitectura/
LOCATION:Barcelona
CATEGORIES:Jornada
END:VEVENT
BEGIN:VEVENT
DTSTART;TZID=Europe/Madrid:20250522T080000
DTEND;TZID=Europe/Madrid:20250718T170000
DTSTAMP:20260421T235012
CREATED:20250526T194744Z
LAST-MODIFIED:20250526T194744Z
UID:67425-1747900800-1752858000@a-desk.org
SUMMARY:"Mostra de Films de Dones"
DESCRIPTION:
URL:https://a-desk.org/en/agenda/mostra-de-films-de-dones/
LOCATION:Barcelona
CATEGORIES:Cinema
END:VEVENT
BEGIN:VEVENT
DTSTART;TZID=Europe/Madrid:20250530T190000
DTEND;TZID=Europe/Madrid:20250703T190000
DTSTAMP:20260421T235012
CREATED:20250512T084250Z
LAST-MODIFIED:20250512T084319Z
UID:67155-1748631600-1751569200@a-desk.org
SUMMARY:"Música a la Miró - 2025"
DESCRIPTION:
URL:https://a-desk.org/en/agenda/musica-a-la-miro-2025/
LOCATION:Fundación Joan Miró\, Parc de Montjuïc\, s/n\, 08038 Barcelona mapa\, Barcelona\, Barcelona\, 08038\, Spain
CATEGORIES:Cicle,Concert
END:VEVENT
BEGIN:VEVENT
DTSTART;VALUE=DATE:20250613
DTEND;VALUE=DATE:20250628
DTSTAMP:20260421T235012
CREATED:20250617T211233Z
LAST-MODIFIED:20250617T211233Z
UID:68063-1749772800-1751068799@a-desk.org
SUMMARY:"Convocatòries arts escèniques 2025"
DESCRIPTION:
URL:https://a-desk.org/en/agenda/convocatories-arts-esceniques-2025/
LOCATION:Barcelona
CATEGORIES:Convocatòria
END:VEVENT
BEGIN:VEVENT
DTSTART;TZID=Europe/Madrid:20250617T180000
DTEND;TZID=Europe/Madrid:20250619T210000
DTSTAMP:20260421T235012
CREATED:20250617T203550Z
LAST-MODIFIED:20250617T203550Z
UID:68032-1750183200-1750366800@a-desk.org
SUMMARY:"El dinamisme de les imatges" Andrea Soto Calderón
DESCRIPTION:
URL:https://a-desk.org/en/agenda/el-dinamisme-de-les-imatges-andrea-soto-calderon/
LOCATION:La Virreina\, La Rambla\, 99\, 08002 Barcelona mapa\, Barcelona\, Barcelona\, 08002\, Spain
CATEGORIES:Curs
END:VEVENT
BEGIN:VEVENT
DTSTART;VALUE=DATE:20250618
DTEND;VALUE=DATE:20250622
DTSTAMP:20260421T235012
CREATED:20250621T065720Z
LAST-MODIFIED:20250621T065720Z
UID:68238-1750204800-1750550399@a-desk.org
SUMMARY:"Jiajia Zhang: Untitled (After Love) / Between The Acts / Nothing Ever Happens To Us"
DESCRIPTION:
URL:https://a-desk.org/en/agenda/jiajia-zhang-untitled-after-love-between-the-acts-nothing-ever-happens-to-us/
LOCATION:Cordova\, Carrer de la Riereta\, 29\, Ciutat Vella\, 08001 Barcelona\, Barcelona\, Barcelona
CATEGORIES:Projecció
END:VEVENT
BEGIN:VEVENT
DTSTART;TZID=Europe/Madrid:20250619T100000
DTEND;TZID=Europe/Madrid:20250619T130000
DTSTAMP:20260421T235012
CREATED:20250617T212404Z
LAST-MODIFIED:20250617T212404Z
UID:68078-1750327200-1750338000@a-desk.org
SUMMARY:"Seminari amb Naomi Oreskes: Ciència\, societat i desinformació"
DESCRIPTION:
URL:https://a-desk.org/en/agenda/seminari-amb-naomi-oreskes-ciencia-societat-i-desinformacio/
LOCATION:CCCB\, C/ Montalegre\, 5\, 08001 Barcelona mapa\, Barcelona\, Barcelona\, 08001\, Spain
CATEGORIES:Seminari
END:VEVENT
BEGIN:VEVENT
DTSTART;TZID=Europe/Madrid:20250619T150000
DTEND;TZID=Europe/Madrid:20250619T193000
DTSTAMP:20260421T235012
CREATED:20250617T213836Z
LAST-MODIFIED:20250617T213836Z
UID:68084-1750345200-1750361400@a-desk.org
SUMMARY:"EUmies Awards Young Talent 2025"
DESCRIPTION:
URL:https://a-desk.org/en/agenda/eumies-awards-young-talent-2025/
LOCATION:ETSAB\, Av. Diagonal\, 649\, Les Corts\, Barcelona\, Barcelona\, 08028\, España
CATEGORIES:Lliurament Premis
END:VEVENT
BEGIN:VEVENT
DTSTART;TZID=Europe/Madrid:20250619T180000
DTEND;TZID=Europe/Madrid:20250619T180000
DTSTAMP:20260421T235012
CREATED:20250617T203714Z
LAST-MODIFIED:20250617T203714Z
UID:68034-1750356000-1750356000@a-desk.org
SUMMARY:"Cathy Berberian. Stripsody" Visita guiada amb Arnau Horta
DESCRIPTION:
URL:https://a-desk.org/en/agenda/cathy-berberian-stripsody-visita-guiada-amb-arnau-horta/
LOCATION:La Virreina\, La Rambla\, 99\, 08002 Barcelona mapa\, Barcelona\, Barcelona\, 08002\, Spain
CATEGORIES:Guided tour
END:VEVENT
BEGIN:VEVENT
DTSTART;TZID=Europe/Madrid:20250619T180000
DTEND;TZID=Europe/Madrid:20250619T230000
DTSTAMP:20260421T235012
CREATED:20250617T203232Z
LAST-MODIFIED:20250617T203329Z
UID:68029-1750356000-1750374000@a-desk.org
SUMMARY:"La internacional queer/cuir. El buit: vih. performance. cos social"
DESCRIPTION:
URL:https://a-desk.org/en/agenda/la-internacional-queer-cuir-el-vacio-vih-performance-cuerpo-social/
LOCATION:MACBA\, Plaça dels Àngels\, 1\, 08001 Barcelona mapa\, Barcelona\, Barcelona\, 08001\, Spain
CATEGORIES:Performance
END:VEVENT
BEGIN:VEVENT
DTSTART;TZID=Europe/Madrid:20250619T183000
DTEND;TZID=Europe/Madrid:20250619T183000
DTSTAMP:20260421T235012
CREATED:20250607T164823Z
LAST-MODIFIED:20250607T164823Z
UID:67902-1750357800-1750357800@a-desk.org
SUMMARY:"Miguel Trillo: Equidistancias: Souvenirs/Pasarelas"
DESCRIPTION:
URL:https://a-desk.org/en/agenda/miguel-trillo-equidistancias-souvenirs-pasarelas/
LOCATION:Fundación Suñol\, C/ Mejía Lequerica\, 14\, 08028 Barcelona mapa\, Barcelona\, Barcelona\, 08028\, Spain
CATEGORIES:Presentació de llibre
END:VEVENT
BEGIN:VEVENT
DTSTART;TZID=Europe/Madrid:20250619T183000
DTEND;TZID=Europe/Madrid:20250619T213000
DTSTAMP:20260421T235012
CREATED:20250617T221120Z
LAST-MODIFIED:20250617T221132Z
UID:68118-1750357800-1750368600@a-desk.org
SUMMARY:"Tarot florilegi de terres i cossos" Equipo Jeleton
DESCRIPTION:
URL:https://a-desk.org/en/agenda/tarot-florilegi-de-terres-i-cossos-equipo-jeleton/
LOCATION:Museu Tàpies\, C/ Aragó\, 255\, 08007 Barcelona mapa\, Barcelona\, Barcelona\, 08007
CATEGORIES:Performance
END:VEVENT
BEGIN:VEVENT
DTSTART;TZID=Europe/Madrid:20250619T190000
DTEND;TZID=Europe/Madrid:20250619T190000
DTSTAMP:20260421T235012
CREATED:20250526T202047Z
LAST-MODIFIED:20250526T202047Z
UID:67448-1750359600-1750359600@a-desk.org
SUMMARY:"Homeland" Mabel Palacín
DESCRIPTION:
URL:https://a-desk.org/en/agenda/homeland-mabel-palacin/
LOCATION:àngels barcelona\, C/ Pintor Fortuny\, 27\, Barcelona\, Barcelona\, 08001\, España
CATEGORIES:Cinema
END:VEVENT
BEGIN:VEVENT
DTSTART;TZID=Europe/Madrid:20250619T190000
DTEND;TZID=Europe/Madrid:20250619T190000
DTSTAMP:20260421T235012
CREATED:20250607T163643Z
LAST-MODIFIED:20250618T073759Z
UID:67884-1750359600-1750359600@a-desk.org
SUMMARY:“Fasting Girls: Un teorema (posible) de mirada”  Mayte Gómez Molina\, Marta Azparren\,  Claudia Faci\, Taller Estampa\,  Mayte Gomez
DESCRIPTION:
URL:https://a-desk.org/en/agenda/fasting-girls-un-teorema-posible-de-mirada-mayte-gomez-molina/
LOCATION:La Caldera\, C/ Eugeni d’Ors\, 12\, 08028 Barcelona mapa\, Barcelona\, Barcelona\, 08028\, Spain
CATEGORIES:Conference
END:VEVENT
BEGIN:VEVENT
DTSTART;TZID=Europe/Madrid:20250619T190000
DTEND;TZID=Europe/Madrid:20250619T190000
DTSTAMP:20260421T235012
CREATED:20250607T165506Z
LAST-MODIFIED:20250607T165506Z
UID:67910-1750359600-1750359600@a-desk.org
SUMMARY:"Queer Cinema for Palestine"
DESCRIPTION:
URL:https://a-desk.org/en/agenda/queer-cinema-for-palestine/
LOCATION:Zumzeig\, C/ Béjar\, 53\, 08014 Barcelona mapa\, Barcelona\, Barcelona\, 08014\, Spain
CATEGORIES:Festival
END:VEVENT
BEGIN:VEVENT
DTSTART;TZID=Europe/Madrid:20250619T190000
DTEND;TZID=Europe/Madrid:20250619T190000
DTSTAMP:20260421T235012
CREATED:20250617T204807Z
LAST-MODIFIED:20250617T204807Z
UID:68047-1750359600-1750359600@a-desk.org
SUMMARY:"El accidente" Blanca Lacasa
DESCRIPTION:
URL:https://a-desk.org/en/agenda/el-accidente-blanca-lacasa/
LOCATION:La Central del Raval\, C/ Elisabets\, 6\, 08001 Barcelona mapa\, Barcelona\, Barcelona\, 08001\, Spain
CATEGORIES:Presentació de llibre
END:VEVENT
BEGIN:VEVENT
DTSTART;TZID=Europe/Madrid:20250619T190000
DTEND;TZID=Europe/Madrid:20250619T190000
DTSTAMP:20260421T235012
CREATED:20250617T211958Z
LAST-MODIFIED:20250617T211958Z
UID:68074-1750359600-1750359600@a-desk.org
SUMMARY:"Ítaca i el japonès" Conversa amb l'autora\, Amàlia Roig Blasco\, Miquel Àngel Pradilla i Joan Bel.
DESCRIPTION:
URL:https://a-desk.org/en/agenda/itaca-i-el-japones-conversa-amb-lautora-amalia-roig-blasco-miquel-angel-pradilla-i-joan-bel/
LOCATION:Ona Llibres\, C/ Pau Claris\, 94\, 08010 Barcelona mapa\, Barcelona\, Barcelona\, 08010\, Spain
CATEGORIES:Presentació de llibre
END:VEVENT
BEGIN:VEVENT
DTSTART;TZID=Europe/Madrid:20250619T190000
DTEND;TZID=Europe/Madrid:20250619T193000
DTSTAMP:20260421T235012
CREATED:20250617T214813Z
LAST-MODIFIED:20250617T214813Z
UID:68096-1750359600-1750361400@a-desk.org
SUMMARY:"Campeona tú puedes" Costa Badía
DESCRIPTION:
URL:https://a-desk.org/en/agenda/campeona-tu-puedes-costa-badia/
LOCATION:Santa Mònica\, La Rambla\, 7\, 08002 Barcelona mapa\, Barcelona\, Barcelona\, 08002\, Spain
CATEGORIES:Performance
END:VEVENT
BEGIN:VEVENT
DTSTART;TZID=Europe/Madrid:20250619T190000
DTEND;TZID=Europe/Madrid:20250619T220000
DTSTAMP:20260421T235012
CREATED:20250607T161908Z
LAST-MODIFIED:20250607T161908Z
UID:67860-1750359600-1750370400@a-desk.org
SUMMARY:"Laia Estruch + Clara Aguilar / Fora de sí"
DESCRIPTION:
URL:https://a-desk.org/en/agenda/laia-estruch-clara-aguilar-fora-de-si/
LOCATION:Galeria H2O\, C/ Verdi\, 152\, 08012 Barcelona mapa\, Barcelona\, Barcelona\, 08012\, Spain
CATEGORIES:Cicle,Performance
END:VEVENT
BEGIN:VEVENT
DTSTART;TZID=Europe/Madrid:20250619T203000
DTEND;TZID=Europe/Madrid:20250619T203000
DTSTAMP:20260421T235012
CREATED:20250617T205026Z
LAST-MODIFIED:20250617T205026Z
UID:68051-1750365000-1750365000@a-desk.org
SUMMARY:"La (des)espera"
DESCRIPTION:
URL:https://a-desk.org/en/agenda/la-desespera/
LOCATION:La Casa Elizalde\, C/ València\, 302\, 08009 Barcelona mapa\, Barcelona\, Barcelona\, 08009\, Spain
CATEGORIES:Arts escèniques
END:VEVENT
END:VCALENDAR