BEGIN:VCALENDAR
VERSION:2.0
PRODID:-//A*Desk - ECPv6.8.1//NONSGML v1.0//EN
CALSCALE:GREGORIAN
METHOD:PUBLISH
X-ORIGINAL-URL:https://a-desk.org/en/
X-WR-CALDESC:Events for A*Desk
REFRESH-INTERVAL;VALUE=DURATION:PT1H
X-Robots-Tag:noindex
X-PUBLISHED-TTL:PT1H
BEGIN:VTIMEZONE
TZID:Europe/Madrid
BEGIN:DAYLIGHT
TZOFFSETFROM:+0100
TZOFFSETTO:+0200
TZNAME:CEST
DTSTART:20250330T010000
END:DAYLIGHT
BEGIN:STANDARD
TZOFFSETFROM:+0200
TZOFFSETTO:+0100
TZNAME:CET
DTSTART:20251026T010000
END:STANDARD
END:VTIMEZONE
BEGIN:VEVENT
DTSTART;VALUE=DATE:20250512
DTEND;VALUE=DATE:20250629
DTSTAMP:20260422T085348
CREATED:20250507T073536Z
LAST-MODIFIED:20250507T073536Z
UID:67055-1747008000-1751155199@a-desk.org
SUMMARY:"Setmanes d’Arquitectura"
DESCRIPTION:
URL:https://a-desk.org/en/agenda/setmanes-darquitectura/
LOCATION:Barcelona
CATEGORIES:Jornada
END:VEVENT
BEGIN:VEVENT
DTSTART;TZID=Europe/Madrid:20250522T080000
DTEND;TZID=Europe/Madrid:20250718T170000
DTSTAMP:20260422T085348
CREATED:20250526T194744Z
LAST-MODIFIED:20250526T194744Z
UID:67425-1747900800-1752858000@a-desk.org
SUMMARY:"Mostra de Films de Dones"
DESCRIPTION:
URL:https://a-desk.org/en/agenda/mostra-de-films-de-dones/
LOCATION:Barcelona
CATEGORIES:Cinema
END:VEVENT
BEGIN:VEVENT
DTSTART;TZID=Europe/Madrid:20250530T190000
DTEND;TZID=Europe/Madrid:20250703T190000
DTSTAMP:20260422T085348
CREATED:20250512T084250Z
LAST-MODIFIED:20250512T084319Z
UID:67155-1748631600-1751569200@a-desk.org
SUMMARY:"Música a la Miró - 2025"
DESCRIPTION:
URL:https://a-desk.org/en/agenda/musica-a-la-miro-2025/
LOCATION:Fundación Joan Miró\, Parc de Montjuïc\, s/n\, 08038 Barcelona mapa\, Barcelona\, Barcelona\, 08038\, Spain
CATEGORIES:Cicle,Concert
END:VEVENT
BEGIN:VEVENT
DTSTART;VALUE=DATE:20250613
DTEND;VALUE=DATE:20250628
DTSTAMP:20260422T085348
CREATED:20250617T211233Z
LAST-MODIFIED:20250617T211233Z
UID:68063-1749772800-1751068799@a-desk.org
SUMMARY:"Convocatòries arts escèniques 2025"
DESCRIPTION:
URL:https://a-desk.org/en/agenda/convocatories-arts-esceniques-2025/
LOCATION:Barcelona
CATEGORIES:Convocatòria
END:VEVENT
BEGIN:VEVENT
DTSTART;VALUE=DATE:20250625
DTEND;VALUE=DATE:20250629
DTSTAMP:20260422T085348
CREATED:20250621T065949Z
LAST-MODIFIED:20250621T065949Z
UID:68240-1750809600-1751155199@a-desk.org
SUMMARY:"Marcelline Mandeng Nken: Floodgate"
DESCRIPTION:
URL:https://a-desk.org/en/agenda/marcelline-mandeng-nken-floodgate/
LOCATION:Cordova\, Carrer de la Riereta\, 29\, Ciutat Vella\, 08001 Barcelona\, Barcelona\, Barcelona
CATEGORIES:Projecció
END:VEVENT
BEGIN:VEVENT
DTSTART;VALUE=DATE:20250625
DTEND;VALUE=DATE:20250725
DTSTAMP:20260422T085348
CREATED:20250617T211056Z
LAST-MODIFIED:20250617T211056Z
UID:68061-1750809600-1753401599@a-desk.org
SUMMARY:"Pantalla d’estiu"
DESCRIPTION:
URL:https://a-desk.org/en/agenda/pantalla-destiu/
LOCATION:Barcelona
CATEGORIES:Cicle,Cinema
END:VEVENT
BEGIN:VEVENT
DTSTART;TZID=Europe/Madrid:20250625T093000
DTEND;TZID=Europe/Madrid:20250904T210000
DTSTAMP:20260422T085348
CREATED:20250617T220640Z
LAST-MODIFIED:20250617T220640Z
UID:68112-1750843800-1757019600@a-desk.org
SUMMARY:"Art Nou 2025"
DESCRIPTION:
URL:https://a-desk.org/en/agenda/art-nou-2025/
LOCATION:Barcelona
CATEGORIES:Festival
END:VEVENT
BEGIN:VEVENT
DTSTART;TZID=Europe/Madrid:20250625T170000
DTEND;TZID=Europe/Madrid:20250625T190000
DTSTAMP:20260422T085348
CREATED:20250622T083223Z
LAST-MODIFIED:20250622T083223Z
UID:68282-1750870800-1750878000@a-desk.org
SUMMARY:"Ocells que ja no volen emigrar. Tancament de la residència de l'artista Shada Safadi"
DESCRIPTION:
URL:https://a-desk.org/en/agenda/ocells-que-ja-no-volen-emigrar-tancament-de-la-residencia-de-lartista-shada-safadi/
LOCATION:La Escocesa\, C/ Pere IV\, 345\, 08020 Barcelona mapa\, Barcelona\, Barcelona\, 08020\, Spain
CATEGORIES:Finissage
END:VEVENT
BEGIN:VEVENT
DTSTART;TZID=Europe/Madrid:20250625T170000
DTEND;TZID=Europe/Madrid:20250625T200000
DTSTAMP:20260422T085348
CREATED:20250624T091041Z
LAST-MODIFIED:20250624T091041Z
UID:68396-1750870800-1750881600@a-desk.org
SUMMARY:"Oralia" Rocio Quillahuaman / "Eco de Niebla" Raquel G. Ibáñez
DESCRIPTION:
URL:https://a-desk.org/en/agenda/oralia-rocio-quillahuaman-eco-de-niebla-raquel-g-ibanez/
LOCATION:àngels barcelona\, C/ Pintor Fortuny\, 27\, Barcelona\, Barcelona\, 08001\, España
CATEGORIES:Inauguració/Exposició
END:VEVENT
BEGIN:VEVENT
DTSTART;TZID=Europe/Madrid:20250625T170000
DTEND;TZID=Europe/Madrid:20250625T200000
DTSTAMP:20260422T085348
CREATED:20250625T065243Z
LAST-MODIFIED:20250625T065243Z
UID:68447-1750870800-1750881600@a-desk.org
SUMMARY:"Inaguració Art Nou 2025 – Barcelona"
DESCRIPTION:
URL:https://a-desk.org/en/agenda/inaguracio-art-nou-2025-barcelona/
LOCATION:Barcelona
CATEGORIES:Inauguració
END:VEVENT
BEGIN:VEVENT
DTSTART;TZID=Europe/Madrid:20250625T170000
DTEND;TZID=Europe/Madrid:20250625T210000
DTSTAMP:20260422T085348
CREATED:20250621T065228Z
LAST-MODIFIED:20250621T065228Z
UID:68236-1750870800-1750885200@a-desk.org
SUMMARY:"Plec de claror" Arnau Pascual
DESCRIPTION:
URL:https://a-desk.org/en/agenda/plec-de-claror-arnau-pascual/
LOCATION:Galeria H2O\, C/ Verdi\, 152\, 08012 Barcelona mapa\, Barcelona\, Barcelona\, 08012\, Spain
CATEGORIES:Inauguració/Exposició
END:VEVENT
BEGIN:VEVENT
DTSTART;TZID=Europe/Madrid:20250625T180000
DTEND;TZID=Europe/Madrid:20250625T180000
DTSTAMP:20260422T085348
CREATED:20250621T070738Z
LAST-MODIFIED:20250621T070738Z
UID:68251-1750874400-1750874400@a-desk.org
SUMMARY:"Mi voz en su dedo mas pequeñito" Mikel Adán Tolosa
DESCRIPTION:
URL:https://a-desk.org/en/agenda/mi-voz-en-su-dedo-mas-pequenito-mikel-adan-tolosa/
LOCATION:Dilalica\, C/ de Trafalgar\, 53\, 08010 Barcelona\, Barcelona\, Barcelona\, 08010\, Spain
CATEGORIES:Inauguració/Exposició
END:VEVENT
BEGIN:VEVENT
DTSTART;TZID=Europe/Madrid:20250625T183000
DTEND;TZID=Europe/Madrid:20250625T183000
DTSTAMP:20260422T085348
CREATED:20250617T205823Z
LAST-MODIFIED:20250617T205823Z
UID:68055-1750876200-1750876200@a-desk.org
SUMMARY:"Comunitat\, reconstrucció i resiliència"
DESCRIPTION:
URL:https://a-desk.org/en/agenda/comunitat-reconstruccio-i-resiliencia/
LOCATION:CaixaForum Barcelona\, Av. Francesc Ferrer i Guàrdia\, 6-8\, Barcelona\, Barcelona\, 08038\, España
CATEGORIES:Conference
END:VEVENT
BEGIN:VEVENT
DTSTART;TZID=Europe/Madrid:20250625T190000
DTEND;TZID=Europe/Madrid:20250625T190000
DTSTAMP:20260422T085348
CREATED:20250621T063132Z
LAST-MODIFIED:20250621T063132Z
UID:68222-1750878000-1750878000@a-desk.org
SUMMARY:"Turning up the light to see the darkness" Julia Creuheras
DESCRIPTION:
URL:https://a-desk.org/en/agenda/turning-up-the-light-to-see-the-darkness-julia-creuheras/
LOCATION:LAB 36\, C/ Trafalgar\, 36\, 08010 Barcelona mapa\, Barcelona\, Barcelona\, 08010\, Spain
CATEGORIES:Inauguració/Exposició
END:VEVENT
BEGIN:VEVENT
DTSTART;TZID=Europe/Madrid:20250625T190000
DTEND;TZID=Europe/Madrid:20250625T190000
DTSTAMP:20260422T085348
CREATED:20250621T071036Z
LAST-MODIFIED:20250621T071036Z
UID:68253-1750878000-1750878000@a-desk.org
SUMMARY:"Inside out" Naked Space
DESCRIPTION:
URL:https://a-desk.org/en/agenda/inside-out-naked-space/
LOCATION:Souvenir\, Travessia de Sant Antoni\, 27\, 08012 Barcelona mapa\, Barcelona\, Barcelona\, 08012\, Spain
CATEGORIES:Inauguració/Exposició
END:VEVENT
BEGIN:VEVENT
DTSTART;TZID=Europe/Madrid:20250625T190000
DTEND;TZID=Europe/Madrid:20250625T190000
DTSTAMP:20260422T085348
CREATED:20250621T071539Z
LAST-MODIFIED:20250621T071559Z
UID:68258-1750878000-1750878000@a-desk.org
SUMMARY:"Una trama i altres estructures" Anna Ill\, Julia Aurora Guzmán i Mariona Berenguer
DESCRIPTION:
URL:https://a-desk.org/en/agenda/una-trama-i-altres-estructures/
LOCATION:Fundació úniques\, Carrer de les Magdalenes 2\, Barcelona\, 08002
CATEGORIES:Inauguració/Exposició
END:VEVENT
BEGIN:VEVENT
DTSTART;TZID=Europe/Madrid:20250625T190000
DTEND;TZID=Europe/Madrid:20250625T190000
DTSTAMP:20260422T085348
CREATED:20250622T082139Z
LAST-MODIFIED:20250622T082139Z
UID:68276-1750878000-1750878000@a-desk.org
SUMMARY:"Pòdcast Natural. Roger Coch\, Elisenda Solsona i Leticia Asenjo"
DESCRIPTION:
URL:https://a-desk.org/en/agenda/podcast-natural-roger-coch-elisenda-solsona-i-leticia-asenjo/
LOCATION:Ona Llibres\, C/ Pau Claris\, 94\, 08010 Barcelona mapa\, Barcelona\, Barcelona\, 08010\, Spain
CATEGORIES:Pòdcast en directe
END:VEVENT
BEGIN:VEVENT
DTSTART;TZID=Europe/Madrid:20250625T190000
DTEND;TZID=Europe/Madrid:20250625T190000
DTSTAMP:20260422T085348
CREATED:20250624T090241Z
LAST-MODIFIED:20250624T090241Z
UID:68392-1750878000-1750878000@a-desk.org
SUMMARY:"Turning up the light to see the darkness" Julia Creuheras
DESCRIPTION:
URL:https://a-desk.org/en/agenda/turning-up-the-light-to-see-the-darkness-julia-creuheras-2/
LOCATION:LAB 36\, C/ Trafalgar\, 36\, 08010 Barcelona mapa\, Barcelona\, Barcelona\, 08010\, Spain
CATEGORIES:Inauguració/Exposició
END:VEVENT
END:VCALENDAR