BEGIN:VCALENDAR
VERSION:2.0
PRODID:-//A*Desk - ECPv6.8.1//NONSGML v1.0//EN
CALSCALE:GREGORIAN
METHOD:PUBLISH
X-ORIGINAL-URL:https://a-desk.org/en/
X-WR-CALDESC:Events for A*Desk
REFRESH-INTERVAL;VALUE=DURATION:PT1H
X-Robots-Tag:noindex
X-PUBLISHED-TTL:PT1H
BEGIN:VTIMEZONE
TZID:Europe/Madrid
BEGIN:DAYLIGHT
TZOFFSETFROM:+0100
TZOFFSETTO:+0200
TZNAME:CEST
DTSTART:20250330T010000
END:DAYLIGHT
BEGIN:STANDARD
TZOFFSETFROM:+0200
TZOFFSETTO:+0100
TZNAME:CET
DTSTART:20251026T010000
END:STANDARD
END:VTIMEZONE
BEGIN:VEVENT
DTSTART;VALUE=DATE:20250512
DTEND;VALUE=DATE:20250629
DTSTAMP:20260422T112516
CREATED:20250507T073536Z
LAST-MODIFIED:20250507T073536Z
UID:67055-1747008000-1751155199@a-desk.org
SUMMARY:"Setmanes d’Arquitectura"
DESCRIPTION:
URL:https://a-desk.org/en/agenda/setmanes-darquitectura/
LOCATION:Barcelona
CATEGORIES:Jornada
END:VEVENT
BEGIN:VEVENT
DTSTART;TZID=Europe/Madrid:20250522T080000
DTEND;TZID=Europe/Madrid:20250718T170000
DTSTAMP:20260422T112516
CREATED:20250526T194744Z
LAST-MODIFIED:20250526T194744Z
UID:67425-1747900800-1752858000@a-desk.org
SUMMARY:"Mostra de Films de Dones"
DESCRIPTION:
URL:https://a-desk.org/en/agenda/mostra-de-films-de-dones/
LOCATION:Barcelona
CATEGORIES:Cinema
END:VEVENT
BEGIN:VEVENT
DTSTART;TZID=Europe/Madrid:20250530T190000
DTEND;TZID=Europe/Madrid:20250703T190000
DTSTAMP:20260422T112516
CREATED:20250512T084250Z
LAST-MODIFIED:20250512T084319Z
UID:67155-1748631600-1751569200@a-desk.org
SUMMARY:"Música a la Miró - 2025"
DESCRIPTION:
URL:https://a-desk.org/en/agenda/musica-a-la-miro-2025/
LOCATION:Fundación Joan Miró\, Parc de Montjuïc\, s/n\, 08038 Barcelona mapa\, Barcelona\, Barcelona\, 08038\, Spain
CATEGORIES:Cicle,Concert
END:VEVENT
BEGIN:VEVENT
DTSTART;VALUE=DATE:20250613
DTEND;VALUE=DATE:20250628
DTSTAMP:20260422T112516
CREATED:20250617T211233Z
LAST-MODIFIED:20250617T211233Z
UID:68063-1749772800-1751068799@a-desk.org
SUMMARY:"Convocatòries arts escèniques 2025"
DESCRIPTION:
URL:https://a-desk.org/en/agenda/convocatories-arts-esceniques-2025/
LOCATION:Barcelona
CATEGORIES:Convocatòria
END:VEVENT
BEGIN:VEVENT
DTSTART;VALUE=DATE:20250625
DTEND;VALUE=DATE:20250629
DTSTAMP:20260422T112516
CREATED:20250621T065949Z
LAST-MODIFIED:20250621T065949Z
UID:68240-1750809600-1751155199@a-desk.org
SUMMARY:"Marcelline Mandeng Nken: Floodgate"
DESCRIPTION:
URL:https://a-desk.org/en/agenda/marcelline-mandeng-nken-floodgate/
LOCATION:Cordova\, Carrer de la Riereta\, 29\, Ciutat Vella\, 08001 Barcelona\, Barcelona\, Barcelona
CATEGORIES:Projecció
END:VEVENT
BEGIN:VEVENT
DTSTART;VALUE=DATE:20250625
DTEND;VALUE=DATE:20250725
DTSTAMP:20260422T112516
CREATED:20250617T211056Z
LAST-MODIFIED:20250617T211056Z
UID:68061-1750809600-1753401599@a-desk.org
SUMMARY:"Pantalla d’estiu"
DESCRIPTION:
URL:https://a-desk.org/en/agenda/pantalla-destiu/
LOCATION:Barcelona
CATEGORIES:Cicle,Cinema
END:VEVENT
BEGIN:VEVENT
DTSTART;TZID=Europe/Madrid:20250625T093000
DTEND;TZID=Europe/Madrid:20250904T210000
DTSTAMP:20260422T112516
CREATED:20250617T220640Z
LAST-MODIFIED:20250617T220640Z
UID:68112-1750843800-1757019600@a-desk.org
SUMMARY:"Art Nou 2025"
DESCRIPTION:
URL:https://a-desk.org/en/agenda/art-nou-2025/
LOCATION:Barcelona
CATEGORIES:Festival
END:VEVENT
BEGIN:VEVENT
DTSTART;VALUE=DATE:20250626
DTEND;VALUE=DATE:20250705
DTSTAMP:20260422T112516
CREATED:20250621T062857Z
LAST-MODIFIED:20250621T062857Z
UID:68218-1750896000-1751673599@a-desk.org
SUMMARY:"Festival Grec 2025"
DESCRIPTION:
URL:https://a-desk.org/en/agenda/festival-grec-2025/
LOCATION:Barcelona
CATEGORIES:Festival
END:VEVENT
BEGIN:VEVENT
DTSTART;TZID=Europe/Madrid:20250626T170000
DTEND;TZID=Europe/Madrid:20250627T210000
DTSTAMP:20260422T112516
CREATED:20250625T063156Z
LAST-MODIFIED:20250625T063156Z
UID:68433-1750957200-1751058000@a-desk.org
SUMMARY:"Functions" Román Fabré
DESCRIPTION:
URL:https://a-desk.org/en/agenda/functions-roman-fabre/
LOCATION:Galería Alegría\, Ronda de la Via\, 7\, Hospital de Llobregat\, Barcelona\, 08903\, España
CATEGORIES:Inauguració/Exposició
END:VEVENT
BEGIN:VEVENT
DTSTART;VALUE=DATE:20250627
DTEND;VALUE=DATE:20250719
DTSTAMP:20260422T112516
CREATED:20250617T222224Z
LAST-MODIFIED:20250617T222224Z
UID:68130-1750982400-1752883199@a-desk.org
SUMMARY:"STRIPART 2025"
DESCRIPTION:
URL:https://a-desk.org/en/agenda/stripart-2025/
LOCATION:CC Guinardó\, Ronda del Guinardó\, 113\, 08041 Barcelona mapa\, Barcelona\, Barcelona\, 08041\, Spain
CATEGORIES:Festival
END:VEVENT
BEGIN:VEVENT
DTSTART;TZID=Europe/Madrid:20250627T120000
DTEND;TZID=Europe/Madrid:20250627T133000
DTSTAMP:20260422T112516
CREATED:20250622T084058Z
LAST-MODIFIED:20250622T084058Z
UID:68286-1751025600-1751031000@a-desk.org
SUMMARY:"Antoni Llena. Memòries de fum"
DESCRIPTION:
URL:https://a-desk.org/en/agenda/antoni-llena-memories-de-fum/
LOCATION:Museu Tàpies\, C/ Aragó\, 255\, 08007 Barcelona mapa\, Barcelona\, Barcelona\, 08007
CATEGORIES:Jornada
END:VEVENT
BEGIN:VEVENT
DTSTART;TZID=Europe/Madrid:20250627T180000
DTEND;TZID=Europe/Madrid:20250627T210000
DTSTAMP:20260422T112516
CREATED:20250625T064651Z
LAST-MODIFIED:20250625T064651Z
UID:68445-1751047200-1751058000@a-desk.org
SUMMARY:"Presentacions NOW 27/06 Arts visuals i performance"
DESCRIPTION:
URL:https://a-desk.org/en/agenda/presentacions-now-27-06-arts-visuals-i-performance/
LOCATION:L’Estruch\, Carrer de Sant Isidre\, 140\,\, Sabadell\, Barcelona\, 08208\, España
CATEGORIES:Performance,Presentació
END:VEVENT
BEGIN:VEVENT
DTSTART;TZID=Europe/Madrid:20250627T183000
DTEND;TZID=Europe/Madrid:20250627T183000
DTSTAMP:20260422T112516
CREATED:20250621T063003Z
LAST-MODIFIED:20250621T063003Z
UID:68220-1751049000-1751049000@a-desk.org
SUMMARY:"Pepe" Nelson Carlo De Los Santos Arias
DESCRIPTION:
URL:https://a-desk.org/en/agenda/pepe-nelson-carlo-de-los-santos-arias/
LOCATION:Zumzeig\, C/ Béjar\, 53\, 08014 Barcelona mapa\, Barcelona\, Barcelona\, 08014\, Spain
CATEGORIES:Cinema
END:VEVENT
BEGIN:VEVENT
DTSTART;TZID=Europe/Madrid:20250627T183000
DTEND;TZID=Europe/Madrid:20250627T193000
DTSTAMP:20260422T112516
CREATED:20250617T215052Z
LAST-MODIFIED:20250617T215052Z
UID:68100-1751049000-1751052600@a-desk.org
SUMMARY:"Saber caure també és un esport" Les Mòniques i Ars Movens
DESCRIPTION:
URL:https://a-desk.org/en/agenda/saber-caure-tambe-es-un-esport-les-moniques-i-ars-movens/
LOCATION:Santa Mònica\, La Rambla\, 7\, 08002 Barcelona mapa\, Barcelona\, Barcelona\, 08002\, Spain
CATEGORIES:Performance
END:VEVENT
BEGIN:VEVENT
DTSTART;TZID=Europe/Madrid:20250627T183000
DTEND;TZID=Europe/Madrid:20250627T213000
DTSTAMP:20260422T112516
CREATED:20250617T220126Z
LAST-MODIFIED:20250617T220126Z
UID:68110-1751049000-1751059800@a-desk.org
SUMMARY:"BIDE Jam Contact 30 Anys" Sebastian García Ferro
DESCRIPTION:
URL:https://a-desk.org/en/agenda/bide-jam-contact-30-anys-sebastian-garcia-ferro/
LOCATION:La Caldera\, C/ Eugeni d’Ors\, 12\, 08028 Barcelona mapa\, Barcelona\, Barcelona\, 08028\, Spain
CATEGORIES:Trobada
END:VEVENT
BEGIN:VEVENT
DTSTART;TZID=Europe/Madrid:20250627T190000
DTEND;TZID=Europe/Madrid:20250627T190000
DTSTAMP:20260422T112516
CREATED:20250624T091323Z
LAST-MODIFIED:20250624T091323Z
UID:68398-1751050800-1751050800@a-desk.org
SUMMARY:"El ojo espejo. La autoría: del collage al comisariado de exposiciones"  David G. Torres i Sílvia Rosés
DESCRIPTION:
URL:https://a-desk.org/en/agenda/el-ojo-espejo-la-autoria-del-collage-al-comisariado-de-exposiciones-david-g-torres-i-silvia-roses/
LOCATION:Llibreria Finestres\, C/ Diputació\, 249\, 08007 Barcelona mapa\, Barcelona\, Barcelona\, 08007\, Spain
CATEGORIES:Presentació de llibre
END:VEVENT
BEGIN:VEVENT
DTSTART;TZID=Europe/Madrid:20250627T190000
DTEND;TZID=Europe/Madrid:20250627T190000
DTSTAMP:20260422T112516
CREATED:20250625T064320Z
LAST-MODIFIED:20250625T064320Z
UID:68441-1751050800-1751050800@a-desk.org
SUMMARY:"Visita comentada amb Manuel Guerrero Brullet / Pere Noguera. Accions\, empremtes\, terres\, imatges i derives"
DESCRIPTION:
URL:https://a-desk.org/en/agenda/visita-comentada-amb-manuel-guerrero-brullet-pere-noguera-accions-empremtes-terres-imatges-i-derives/
LOCATION:Bòlit. Centre d’Art Contemporani Girona\, Rambla de la Llibertat\, 1\, Girona\, Girona\, 17004\, España
CATEGORIES:Guided tour
END:VEVENT
BEGIN:VEVENT
DTSTART;TZID=Europe/Madrid:20250627T190000
DTEND;TZID=Europe/Madrid:20250627T193000
DTSTAMP:20260422T112516
CREATED:20250617T215711Z
LAST-MODIFIED:20250617T215711Z
UID:68106-1751050800-1751052600@a-desk.org
SUMMARY:"JARANA" Laia Santanach
DESCRIPTION:
URL:https://a-desk.org/en/agenda/jarana-laia-santanach/
LOCATION:CC Can Deu\, Plaça de la Concòrdia\, 13\, Barcelona\, Barcelona\, 08014\, España
CATEGORIES:Espectacle
END:VEVENT
BEGIN:VEVENT
DTSTART;TZID=Europe/Madrid:20250627T200000
DTEND;TZID=Europe/Madrid:20250627T200000
DTSTAMP:20260422T112516
CREATED:20250624T090716Z
LAST-MODIFIED:20250624T090739Z
UID:68394-1751054400-1751054400@a-desk.org
SUMMARY:"Auca de com els que estaven als nostres peus van..." Cristina Cordero
DESCRIPTION:
URL:https://a-desk.org/en/agenda/auca-de-com-els-que-estaven-als-nostres-peus-van-cristina-cordero/
LOCATION:Teatre Tantarantana\, arrer de les Flors\, 22\, Ciutat Vella\, 08001 Barcelona
CATEGORIES:Teatre
END:VEVENT
BEGIN:VEVENT
DTSTART;TZID=Europe/Madrid:20250627T200000
DTEND;TZID=Europe/Madrid:20250627T210000
DTSTAMP:20260422T112516
CREATED:20250625T063734Z
LAST-MODIFIED:20250625T063734Z
UID:68435-1751054400-1751058000@a-desk.org
SUMMARY:"Assemblea coral ocellaire"
DESCRIPTION:
URL:https://a-desk.org/en/agenda/assemblea-coral-ocellaire/
LOCATION:Fabra i Coats\, C/ Sant Adrià\, 20\, 08030 Barcelona mapa\, Barcelona\, Barcelona\, 08030\, Spain
CATEGORIES:Performance
END:VEVENT
BEGIN:VEVENT
DTSTART;TZID=Europe/Madrid:20250627T203000
DTEND;TZID=Europe/Madrid:20250627T203000
DTSTAMP:20260422T112516
CREATED:20250617T222337Z
LAST-MODIFIED:20250617T222337Z
UID:68132-1751056200-1751056200@a-desk.org
SUMMARY:"Inauguració: Stripart 2025"
DESCRIPTION:
URL:https://a-desk.org/en/agenda/inauguracio-stripart-2025/
LOCATION:CC Guinardó\, Ronda del Guinardó\, 113\, 08041 Barcelona mapa\, Barcelona\, Barcelona\, 08041\, Spain
CATEGORIES:Inauguració
END:VEVENT
END:VCALENDAR