BEGIN:VCALENDAR
VERSION:2.0
PRODID:-//A*Desk - ECPv6.8.1//NONSGML v1.0//EN
CALSCALE:GREGORIAN
METHOD:PUBLISH
X-ORIGINAL-URL:https://a-desk.org/en/
X-WR-CALDESC:Events for A*Desk
REFRESH-INTERVAL;VALUE=DURATION:PT1H
X-Robots-Tag:noindex
X-PUBLISHED-TTL:PT1H
BEGIN:VTIMEZONE
TZID:Europe/Madrid
BEGIN:DAYLIGHT
TZOFFSETFROM:+0100
TZOFFSETTO:+0200
TZNAME:CEST
DTSTART:20250330T010000
END:DAYLIGHT
BEGIN:STANDARD
TZOFFSETFROM:+0200
TZOFFSETTO:+0100
TZNAME:CET
DTSTART:20251026T010000
END:STANDARD
END:VTIMEZONE
BEGIN:VEVENT
DTSTART;TZID=Europe/Madrid:20250522T080000
DTEND;TZID=Europe/Madrid:20250718T170000
DTSTAMP:20260422T165129
CREATED:20250526T194744Z
LAST-MODIFIED:20250526T194744Z
UID:67425-1747900800-1752858000@a-desk.org
SUMMARY:"Mostra de Films de Dones"
DESCRIPTION:
URL:https://a-desk.org/en/agenda/mostra-de-films-de-dones/
LOCATION:Barcelona
CATEGORIES:Cinema
END:VEVENT
BEGIN:VEVENT
DTSTART;TZID=Europe/Madrid:20250530T190000
DTEND;TZID=Europe/Madrid:20250703T190000
DTSTAMP:20260422T165129
CREATED:20250512T084250Z
LAST-MODIFIED:20250512T084319Z
UID:67155-1748631600-1751569200@a-desk.org
SUMMARY:"Música a la Miró - 2025"
DESCRIPTION:
URL:https://a-desk.org/en/agenda/musica-a-la-miro-2025/
LOCATION:Fundación Joan Miró\, Parc de Montjuïc\, s/n\, 08038 Barcelona mapa\, Barcelona\, Barcelona\, 08038\, Spain
CATEGORIES:Cicle,Concert
END:VEVENT
BEGIN:VEVENT
DTSTART;VALUE=DATE:20250625
DTEND;VALUE=DATE:20250725
DTSTAMP:20260422T165129
CREATED:20250617T211056Z
LAST-MODIFIED:20250617T211056Z
UID:68061-1750809600-1753401599@a-desk.org
SUMMARY:"Pantalla d’estiu"
DESCRIPTION:
URL:https://a-desk.org/en/agenda/pantalla-destiu/
LOCATION:Barcelona
CATEGORIES:Cicle,Cinema
END:VEVENT
BEGIN:VEVENT
DTSTART;TZID=Europe/Madrid:20250625T093000
DTEND;TZID=Europe/Madrid:20250904T210000
DTSTAMP:20260422T165129
CREATED:20250617T220640Z
LAST-MODIFIED:20250617T220640Z
UID:68112-1750843800-1757019600@a-desk.org
SUMMARY:"Art Nou 2025"
DESCRIPTION:
URL:https://a-desk.org/en/agenda/art-nou-2025/
LOCATION:Barcelona
CATEGORIES:Festival
END:VEVENT
BEGIN:VEVENT
DTSTART;VALUE=DATE:20250626
DTEND;VALUE=DATE:20250705
DTSTAMP:20260422T165129
CREATED:20250621T062857Z
LAST-MODIFIED:20250621T062857Z
UID:68218-1750896000-1751673599@a-desk.org
SUMMARY:"Festival Grec 2025"
DESCRIPTION:
URL:https://a-desk.org/en/agenda/festival-grec-2025/
LOCATION:Barcelona
CATEGORIES:Festival
END:VEVENT
BEGIN:VEVENT
DTSTART;VALUE=DATE:20250627
DTEND;VALUE=DATE:20250719
DTSTAMP:20260422T165129
CREATED:20250617T222224Z
LAST-MODIFIED:20250617T222224Z
UID:68130-1750982400-1752883199@a-desk.org
SUMMARY:"STRIPART 2025"
DESCRIPTION:
URL:https://a-desk.org/en/agenda/stripart-2025/
LOCATION:CC Guinardó\, Ronda del Guinardó\, 113\, 08041 Barcelona mapa\, Barcelona\, Barcelona\, 08041\, Spain
CATEGORIES:Festival
END:VEVENT
BEGIN:VEVENT
DTSTART;TZID=Europe/Madrid:20250701T180000
DTEND;TZID=Europe/Madrid:20250701T180000
DTSTAMP:20260422T165129
CREATED:20250621T070630Z
LAST-MODIFIED:20250621T070630Z
UID:68249-1751392800-1751392800@a-desk.org
SUMMARY:"Com dissenyar una revolució: La via xilena al disseny"
DESCRIPTION:
URL:https://a-desk.org/en/agenda/com-dissenyar-una-revolucio-la-via-xilena-al-disseny/
LOCATION:Disseny Hub\, Pl. de las Glories Catalanes\, 37-38\, 08018 Barcelona mapa\, Barcelona\, Barcelona\, 08018\, Spain
CATEGORIES:Conference,Inauguració/Exposició
END:VEVENT
BEGIN:VEVENT
DTSTART;TZID=Europe/Madrid:20250701T180000
DTEND;TZID=Europe/Madrid:20250701T190000
DTSTAMP:20260422T165129
CREATED:20250617T211454Z
LAST-MODIFIED:20250617T211511Z
UID:68067-1751392800-1751396400@a-desk.org
SUMMARY:"Ofrena a la terra" Magdalena Ruiz
DESCRIPTION:
URL:https://a-desk.org/en/agenda/ofrena-a-la-terra/
LOCATION:Museu Tàpies\, C/ Aragó\, 255\, 08007 Barcelona mapa\, Barcelona\, Barcelona\, 08007
CATEGORIES:Performance
END:VEVENT
BEGIN:VEVENT
DTSTART;TZID=Europe/Madrid:20250701T190000
DTEND;TZID=Europe/Madrid:20250701T190000
DTSTAMP:20260422T165129
CREATED:20250617T205201Z
LAST-MODIFIED:20250617T205201Z
UID:68053-1751396400-1751396400@a-desk.org
SUMMARY:"Aparece\, aparecer" de Valentina Alvarado Matos i Carlos Vásquez Méndez
DESCRIPTION:
URL:https://a-desk.org/en/agenda/aparece-aparecer-de-valentina-alvarado-matos-i-carlos-vasquez-mendez/
LOCATION:La Capella\, C/ Hospital\, 56\, Barcelona\, Barcelona\, 08001
CATEGORIES:Presentació de llibre
END:VEVENT
BEGIN:VEVENT
DTSTART;TZID=Europe/Madrid:20250701T190000
DTEND;TZID=Europe/Madrid:20250701T190000
DTSTAMP:20260422T165129
CREATED:20250617T205947Z
LAST-MODIFIED:20250617T205947Z
UID:68057-1751396400-1751396400@a-desk.org
SUMMARY:"La muerte ajena"  Claudia Piñeiro
DESCRIPTION:
URL:https://a-desk.org/en/agenda/la-muerte-ajena-claudia-pineiro/
LOCATION:Llibreria Finestres\, C/ Diputació\, 249\, 08007 Barcelona mapa\, Barcelona\, Barcelona\, 08007\, Spain
CATEGORIES:Presentació de llibre
END:VEVENT
BEGIN:VEVENT
DTSTART;TZID=Europe/Madrid:20250701T190000
DTEND;TZID=Europe/Madrid:20250701T190000
DTSTAMP:20260422T165129
CREATED:20250621T064006Z
LAST-MODIFIED:20250621T064006Z
UID:68228-1751396400-1751396400@a-desk.org
SUMMARY:"Eròtica\, estètica i revolució: per què val la pena llegir Marcuse al segle XXI: Conferència amb Amador Fernández-Savater"
DESCRIPTION:
URL:https://a-desk.org/en/agenda/erotica-estetica-i-revolucio-per-que-val-la-pena-llegir-marcuse-al-segle-xxi-conferencia-amb-amador-fernandez-savater/
LOCATION:La Virreina\, La Rambla\, 99\, 08002 Barcelona mapa\, Barcelona\, Barcelona\, 08002\, Spain
CATEGORIES:Conference
END:VEVENT
BEGIN:VEVENT
DTSTART;TZID=Europe/Madrid:20250701T190000
DTEND;TZID=Europe/Madrid:20250701T203000
DTSTAMP:20260422T165129
CREATED:20250625T064052Z
LAST-MODIFIED:20250625T064052Z
UID:68439-1751396400-1751401800@a-desk.org
SUMMARY:"Dimarts de vídeo / Panòptic Greatest Hits"
DESCRIPTION:
URL:https://a-desk.org/en/agenda/dimarts-de-video-panoptic-greatest-hits/
LOCATION:Santa Mònica\, La Rambla\, 7\, 08002 Barcelona mapa\, Barcelona\, Barcelona\, 08002\, Spain
CATEGORIES:Projecció
END:VEVENT
BEGIN:VEVENT
DTSTART;TZID=Europe/Madrid:20250701T200000
DTEND;TZID=Europe/Madrid:20250701T200000
DTSTAMP:20260422T165129
CREATED:20250625T064519Z
LAST-MODIFIED:20250625T064519Z
UID:68443-1751400000-1751400000@a-desk.org
SUMMARY:"Ejaculant Diarrea. Part II"
DESCRIPTION:
URL:https://a-desk.org/en/agenda/ejaculant-diarrea-part-ii/
LOCATION:Antic Teatre\, C/ Verdaguer i Callís\, 12\, Barcelona\, Barcelona\, 08003\, España
CATEGORIES:Arts escèniques
END:VEVENT
END:VCALENDAR