BEGIN:VCALENDAR
VERSION:2.0
PRODID:-//A*Desk - ECPv6.8.1//NONSGML v1.0//EN
CALSCALE:GREGORIAN
METHOD:PUBLISH
X-ORIGINAL-URL:https://a-desk.org/en/
X-WR-CALDESC:Events for A*Desk
REFRESH-INTERVAL;VALUE=DURATION:PT1H
X-Robots-Tag:noindex
X-PUBLISHED-TTL:PT1H
BEGIN:VTIMEZONE
TZID:Europe/Madrid
BEGIN:DAYLIGHT
TZOFFSETFROM:+0100
TZOFFSETTO:+0200
TZNAME:CEST
DTSTART:20250330T010000
END:DAYLIGHT
BEGIN:STANDARD
TZOFFSETFROM:+0200
TZOFFSETTO:+0100
TZNAME:CET
DTSTART:20251026T010000
END:STANDARD
END:VTIMEZONE
BEGIN:VEVENT
DTSTART;TZID=Europe/Madrid:20250522T080000
DTEND;TZID=Europe/Madrid:20250718T170000
DTSTAMP:20260423T042131
CREATED:20250526T194744Z
LAST-MODIFIED:20250526T194744Z
UID:67425-1747900800-1752858000@a-desk.org
SUMMARY:"Mostra de Films de Dones"
DESCRIPTION:
URL:https://a-desk.org/en/agenda/mostra-de-films-de-dones/
LOCATION:Barcelona
CATEGORIES:Cinema
END:VEVENT
BEGIN:VEVENT
DTSTART;VALUE=DATE:20250625
DTEND;VALUE=DATE:20250725
DTSTAMP:20260423T042131
CREATED:20250617T211056Z
LAST-MODIFIED:20250617T211056Z
UID:68061-1750809600-1753401599@a-desk.org
SUMMARY:"Pantalla d’estiu"
DESCRIPTION:
URL:https://a-desk.org/en/agenda/pantalla-destiu/
LOCATION:Barcelona
CATEGORIES:Cicle,Cinema
END:VEVENT
BEGIN:VEVENT
DTSTART;TZID=Europe/Madrid:20250625T093000
DTEND;TZID=Europe/Madrid:20250904T210000
DTSTAMP:20260423T042131
CREATED:20250617T220640Z
LAST-MODIFIED:20250617T220640Z
UID:68112-1750843800-1757019600@a-desk.org
SUMMARY:"Art Nou 2025"
DESCRIPTION:
URL:https://a-desk.org/en/agenda/art-nou-2025/
LOCATION:Barcelona
CATEGORIES:Festival
END:VEVENT
BEGIN:VEVENT
DTSTART;VALUE=DATE:20250627
DTEND;VALUE=DATE:20250719
DTSTAMP:20260423T042131
CREATED:20250617T222224Z
LAST-MODIFIED:20250617T222224Z
UID:68130-1750982400-1752883199@a-desk.org
SUMMARY:"STRIPART 2025"
DESCRIPTION:
URL:https://a-desk.org/en/agenda/stripart-2025/
LOCATION:CC Guinardó\, Ronda del Guinardó\, 113\, 08041 Barcelona mapa\, Barcelona\, Barcelona\, 08041\, Spain
CATEGORIES:Festival
END:VEVENT
BEGIN:VEVENT
DTSTART;VALUE=DATE:20250703
DTEND;VALUE=DATE:20250725
DTSTAMP:20260423T042131
CREATED:20250628T134207Z
LAST-MODIFIED:20250628T134207Z
UID:68551-1751500800-1753401599@a-desk.org
SUMMARY:"Festival Tangent 2025"
DESCRIPTION:
URL:https://a-desk.org/en/agenda/festival-tangent-2025/
LOCATION:Barcelona
CATEGORIES:Festival
END:VEVENT
BEGIN:VEVENT
DTSTART;VALUE=DATE:20250703
DTEND;VALUE=DATE:20250925
DTSTAMP:20260423T042131
CREATED:20250702T105357Z
LAST-MODIFIED:20250702T105357Z
UID:68645-1751500800-1758758399@a-desk.org
SUMMARY:"FOC – Festival Òmnium de Cinema"
DESCRIPTION:
URL:https://a-desk.org/en/agenda/foc-festival-omnium-de-cinema/
LOCATION:Barcelona
CATEGORIES:Cicle,Cinema
END:VEVENT
BEGIN:VEVENT
DTSTART;VALUE=DATE:20250709
DTEND;VALUE=DATE:20250710
DTSTAMP:20260423T042131
CREATED:20250628T141453Z
LAST-MODIFIED:20250628T141453Z
UID:68573-1752019200-1752105599@a-desk.org
SUMMARY:"Nit de dansa i ritme" / Nits d'estiu al CaixaFòrum
DESCRIPTION:
URL:https://a-desk.org/en/agenda/nit-de-dansa-i-ritme-nits-destiu-al-caixaforum/
LOCATION:CaixaForum Barcelona\, Av. Francesc Ferrer i Guàrdia\, 6-8\, Barcelona\, Barcelona\, 08038\, España
CATEGORIES:Cicle,Dansa,Espectacle
END:VEVENT
BEGIN:VEVENT
DTSTART;TZID=Europe/Madrid:20250709T180000
DTEND;TZID=Europe/Madrid:20250709T180000
DTSTAMP:20260423T042131
CREATED:20250706T082624Z
LAST-MODIFIED:20250706T082624Z
UID:68775-1752084000-1752084000@a-desk.org
SUMMARY:"Biblioteca de pedra seca" + Presentació i col·loqui
DESCRIPTION:
URL:https://a-desk.org/en/agenda/biblioteca-de-pedra-seca-presentacio-i-col%c2%b7loqui/
LOCATION:Espai Texas\, C/ de Bailèn\, 205\, Gràcia\, Barcelona\, Barcelona\, 08037\, España
CATEGORIES:Cinema
END:VEVENT
BEGIN:VEVENT
DTSTART;TZID=Europe/Madrid:20250709T180000
DTEND;TZID=Europe/Madrid:20250709T193000
DTSTAMP:20260423T042131
CREATED:20250630T163457Z
LAST-MODIFIED:20250630T163457Z
UID:68624-1752084000-1752089400@a-desk.org
SUMMARY:"Visita guiada amb Valentín Roma: Sara Gómez. La meva aportació"
DESCRIPTION:
URL:https://a-desk.org/en/agenda/visita-guiada-amb-valentin-roma-sara-gomez-la-meva-aportacio/
LOCATION:La Virreina\, La Rambla\, 99\, 08002 Barcelona mapa\, Barcelona\, Barcelona\, 08002\, Spain
CATEGORIES:Guided tour
END:VEVENT
BEGIN:VEVENT
DTSTART;TZID=Europe/Madrid:20250709T183000
DTEND;TZID=Europe/Madrid:20250709T200000
DTSTAMP:20260423T042131
CREATED:20250702T110304Z
LAST-MODIFIED:20250702T110304Z
UID:68651-1752085800-1752091200@a-desk.org
SUMMARY:"Els nous llenguatges del coneixement" Lluís Nacenta\, Llucia Ramis i Ariadna Martínez
DESCRIPTION:
URL:https://a-desk.org/en/agenda/els-nous-llenguatges-del-coneixement-lluis-nacenta-llucia-ramis-i-ariadna-martinez/
LOCATION:CCCB\, C/ Montalegre\, 5\, 08001 Barcelona mapa\, Barcelona\, Barcelona\, 08001\, Spain
CATEGORIES:Conference
END:VEVENT
BEGIN:VEVENT
DTSTART;TZID=Europe/Madrid:20250709T190000
DTEND;TZID=Europe/Madrid:20250709T190000
DTSTAMP:20260423T042131
CREATED:20250706T082959Z
LAST-MODIFIED:20250706T082959Z
UID:68777-1752087600-1752087600@a-desk.org
SUMMARY:"Trobada amb ​Álvaro Enrigue"
DESCRIPTION:
URL:https://a-desk.org/en/agenda/trobada-amb-alvaro-enrigue/
LOCATION:La Central (C/ Mallorca)\, C/ Mallorca\, 237\, 08008 Barcelona mapa\, Barcelona\, Barcelona\, 08008\, Spain
CATEGORIES:Trobada
END:VEVENT
BEGIN:VEVENT
DTSTART;TZID=Europe/Madrid:20250709T190000
DTEND;TZID=Europe/Madrid:20250709T190000
DTSTAMP:20260423T042131
CREATED:20250706T090253Z
LAST-MODIFIED:20250706T090253Z
UID:68811-1752087600-1752087600@a-desk.org
SUMMARY:"Young Impulse: CASA SEAT x Palau de la Música"
DESCRIPTION:
URL:https://a-desk.org/en/agenda/young-impulse-casa-seat-x-palau-de-la-musica/
LOCATION:Casa Seat\, Passeig de Gràcia\, 109\, Barcelona\, Barcelona\, 08008\, España
CATEGORIES:Concert
END:VEVENT
BEGIN:VEVENT
DTSTART;TZID=Europe/Madrid:20250709T190000
DTEND;TZID=Europe/Madrid:20250709T200000
DTSTAMP:20260423T042131
CREATED:20250630T163310Z
LAST-MODIFIED:20250630T163310Z
UID:68621-1752087600-1752091200@a-desk.org
SUMMARY:"Taula rodona: Mapatge d'altres circuits artístics per a artistes emergents"
DESCRIPTION:
URL:https://a-desk.org/en/agenda/taula-rodona-mapatge-daltres-circuits-artistics-per-a-artistes-emergents/
LOCATION:CC Guinardó\, Ronda del Guinardó\, 113\, 08041 Barcelona mapa\, Barcelona\, Barcelona\, 08041\, Spain
CATEGORIES:Taula rodona
END:VEVENT
BEGIN:VEVENT
DTSTART;TZID=Europe/Madrid:20250709T190000
DTEND;TZID=Europe/Madrid:20250709T203000
DTSTAMP:20260423T042131
CREATED:20250702T112130Z
LAST-MODIFIED:20250702T112130Z
UID:68665-1752087600-1752093000@a-desk.org
SUMMARY:"Taula rodona: Mapatge d'altres circuits artístics per a artistes emergents"
DESCRIPTION:
URL:https://a-desk.org/en/agenda/taula-rodona-mapatge-daltres-circuits-artistics-per-a-artistes-emergents-2/
LOCATION:Centre Cívic Guinardó\, Ronda del Guinardó\, 113\,\, Barcelona\, Barcelona\, 08041\, España
CATEGORIES:Taula rodona
END:VEVENT
BEGIN:VEVENT
DTSTART;TZID=Europe/Madrid:20250709T190000
DTEND;TZID=Europe/Madrid:20250709T210000
DTSTAMP:20260423T042131
CREATED:20250706T084454Z
LAST-MODIFIED:20250706T084454Z
UID:68787-1752087600-1752094800@a-desk.org
SUMMARY:"Mare Mar: La Cuina Oberta" Marina Monsonís\, Glosa Càustica i Saher & Sameh Hanno
DESCRIPTION:
URL:https://a-desk.org/en/agenda/mare-mar-la-cuina-oberta-marina-monsonis-glosa-caustica-i-saher-sameh-hanno/
LOCATION:MACBA\, Plaça dels Àngels\, 1\, 08001 Barcelona mapa\, Barcelona\, Barcelona\, 08001\, Spain
CATEGORIES:Presentació de llibre
END:VEVENT
BEGIN:VEVENT
DTSTART;TZID=Europe/Madrid:20250709T200000
DTEND;TZID=Europe/Madrid:20250709T200000
DTSTAMP:20260423T042131
CREATED:20250607T162346Z
LAST-MODIFIED:20250607T162346Z
UID:67866-1752091200-1752091200@a-desk.org
SUMMARY:"Grand Canyon"
DESCRIPTION:
URL:https://a-desk.org/en/agenda/grand-canyon/
LOCATION:La Villarroel\, C. de Villarroel\, 87\, Barcelona\, Barcelona\, 08011\, España
CATEGORIES:Teatre
END:VEVENT
BEGIN:VEVENT
DTSTART;TZID=Europe/Madrid:20250709T203000
DTEND;TZID=Europe/Madrid:20250709T230000
DTSTAMP:20260423T042131
CREATED:20250630T162120Z
LAST-MODIFIED:20250630T162120Z
UID:68615-1752093000-1752102000@a-desk.org
SUMMARY:"Cineclub - Nour Ouayda: Every Morning / Not All Things That Shine Are Beautiful / Towards the Sun / I Was Grateful the Wind Tore Out My Camera’s Microphone / The Secret Garden"
DESCRIPTION:
URL:https://a-desk.org/en/agenda/cineclub-nour-ouayda-every-morning-not-all-things-that-shine-are-beautiful-towards-the-sun-i-was-grateful-the-wind-tore-out-my-cameras-microphone-the-secret-garden/
LOCATION:La Escocesa\, C/ Pere IV\, 345\, 08020 Barcelona mapa\, Barcelona\, Barcelona\, 08020\, Spain
CATEGORIES:Cinema
END:VEVENT
END:VCALENDAR