BEGIN:VCALENDAR
VERSION:2.0
PRODID:-//A*Desk - ECPv6.8.1//NONSGML v1.0//EN
CALSCALE:GREGORIAN
METHOD:PUBLISH
X-ORIGINAL-URL:https://a-desk.org/en/
X-WR-CALDESC:Events for A*Desk
REFRESH-INTERVAL;VALUE=DURATION:PT1H
X-Robots-Tag:noindex
X-PUBLISHED-TTL:PT1H
BEGIN:VTIMEZONE
TZID:Europe/Madrid
BEGIN:DAYLIGHT
TZOFFSETFROM:+0100
TZOFFSETTO:+0200
TZNAME:CEST
DTSTART:20250330T010000
END:DAYLIGHT
BEGIN:STANDARD
TZOFFSETFROM:+0200
TZOFFSETTO:+0100
TZNAME:CET
DTSTART:20251026T010000
END:STANDARD
END:VTIMEZONE
BEGIN:VEVENT
DTSTART;TZID=Europe/Madrid:20250522T080000
DTEND;TZID=Europe/Madrid:20250718T170000
DTSTAMP:20260423T054807
CREATED:20250526T194744Z
LAST-MODIFIED:20250526T194744Z
UID:67425-1747900800-1752858000@a-desk.org
SUMMARY:"Mostra de Films de Dones"
DESCRIPTION:
URL:https://a-desk.org/en/agenda/mostra-de-films-de-dones/
LOCATION:Barcelona
CATEGORIES:Cinema
END:VEVENT
BEGIN:VEVENT
DTSTART;VALUE=DATE:20250625
DTEND;VALUE=DATE:20250725
DTSTAMP:20260423T054807
CREATED:20250617T211056Z
LAST-MODIFIED:20250617T211056Z
UID:68061-1750809600-1753401599@a-desk.org
SUMMARY:"Pantalla d’estiu"
DESCRIPTION:
URL:https://a-desk.org/en/agenda/pantalla-destiu/
LOCATION:Barcelona
CATEGORIES:Cicle,Cinema
END:VEVENT
BEGIN:VEVENT
DTSTART;TZID=Europe/Madrid:20250625T093000
DTEND;TZID=Europe/Madrid:20250904T210000
DTSTAMP:20260423T054807
CREATED:20250617T220640Z
LAST-MODIFIED:20250617T220640Z
UID:68112-1750843800-1757019600@a-desk.org
SUMMARY:"Art Nou 2025"
DESCRIPTION:
URL:https://a-desk.org/en/agenda/art-nou-2025/
LOCATION:Barcelona
CATEGORIES:Festival
END:VEVENT
BEGIN:VEVENT
DTSTART;VALUE=DATE:20250627
DTEND;VALUE=DATE:20250719
DTSTAMP:20260423T054807
CREATED:20250617T222224Z
LAST-MODIFIED:20250617T222224Z
UID:68130-1750982400-1752883199@a-desk.org
SUMMARY:"STRIPART 2025"
DESCRIPTION:
URL:https://a-desk.org/en/agenda/stripart-2025/
LOCATION:CC Guinardó\, Ronda del Guinardó\, 113\, 08041 Barcelona mapa\, Barcelona\, Barcelona\, 08041\, Spain
CATEGORIES:Festival
END:VEVENT
BEGIN:VEVENT
DTSTART;VALUE=DATE:20250703
DTEND;VALUE=DATE:20250725
DTSTAMP:20260423T054807
CREATED:20250628T134207Z
LAST-MODIFIED:20250628T134207Z
UID:68551-1751500800-1753401599@a-desk.org
SUMMARY:"Festival Tangent 2025"
DESCRIPTION:
URL:https://a-desk.org/en/agenda/festival-tangent-2025/
LOCATION:Barcelona
CATEGORIES:Festival
END:VEVENT
BEGIN:VEVENT
DTSTART;VALUE=DATE:20250703
DTEND;VALUE=DATE:20250925
DTSTAMP:20260423T054807
CREATED:20250702T105357Z
LAST-MODIFIED:20250702T105357Z
UID:68645-1751500800-1758758399@a-desk.org
SUMMARY:"FOC – Festival Òmnium de Cinema"
DESCRIPTION:
URL:https://a-desk.org/en/agenda/foc-festival-omnium-de-cinema/
LOCATION:Barcelona
CATEGORIES:Cicle,Cinema
END:VEVENT
BEGIN:VEVENT
DTSTART;VALUE=DATE:20250710
DTEND;VALUE=DATE:20250712
DTSTAMP:20260423T054807
CREATED:20250702T111844Z
LAST-MODIFIED:20250702T111844Z
UID:68663-1752105600-1752278399@a-desk.org
SUMMARY:"Eufònic Pro"
DESCRIPTION:
URL:https://a-desk.org/en/agenda/eufonic-pro/
LOCATION:Escola d’Art i Cultura de Tortosa\, Plaça de Sant Joan\, 5\, 43500 Tortosa\, Tarragona
CATEGORIES:Festival
END:VEVENT
BEGIN:VEVENT
DTSTART;VALUE=DATE:20250710
DTEND;VALUE=DATE:20250714
DTSTAMP:20260423T054807
CREATED:20250324T093921Z
LAST-MODIFIED:20250324T093921Z
UID:65830-1752105600-1752451199@a-desk.org
SUMMARY:"Eufònic 2025"
DESCRIPTION:
URL:https://a-desk.org/en/agenda/eufonic-2025/
LOCATION:Barcelona
CATEGORIES:Festival
END:VEVENT
BEGIN:VEVENT
DTSTART;TZID=Europe/Madrid:20250710T173000
DTEND;TZID=Europe/Madrid:20250710T203000
DTSTAMP:20260423T054807
CREATED:20250706T092140Z
LAST-MODIFIED:20250706T092140Z
UID:68827-1752168600-1752179400@a-desk.org
SUMMARY:"Seguint el sol. Guillem Jiménez / laSADCUM"
DESCRIPTION:
URL:https://a-desk.org/en/agenda/seguint-el-sol-guillem-jimenez-lasadcum/
LOCATION:Museu Tàpies\, C/ Aragó\, 255\, 08007 Barcelona mapa\, Barcelona\, Barcelona\, 08007
CATEGORIES:Arts en viu
END:VEVENT
BEGIN:VEVENT
DTSTART;TZID=Europe/Madrid:20250710T180000
DTEND;TZID=Europe/Madrid:20250710T180000
DTSTAMP:20260423T054807
CREATED:20250707T204146Z
LAST-MODIFIED:20250707T204146Z
UID:68873-1752170400-1752170400@a-desk.org
SUMMARY:"Visita guiada a càrrec de Eduardo García Nieto | Articulacions del desig. Vol II."
DESCRIPTION:
URL:https://a-desk.org/en/agenda/visita-guiada-a-carrec-de-eduardo-garcia-nieto-articulacions-del-desig-vol-ii/
LOCATION:House of Chappaz\, C/l’Alegre de Dalt 55\, Baixos C\, Barcelona\, Barcelona\, 08024\, España
CATEGORIES:Guided tour
ORGANIZER;CN="House of Chappaz":MAILTO:comunicacion@houseofchappaz.com
END:VEVENT
BEGIN:VEVENT
DTSTART;TZID=Europe/Madrid:20250710T183000
DTEND;TZID=Europe/Madrid:20250710T200000
DTSTAMP:20260423T054807
CREATED:20250630T163131Z
LAST-MODIFIED:20250630T163131Z
UID:68619-1752172200-1752177600@a-desk.org
SUMMARY:"De Dau al Set a Zush"
DESCRIPTION:
URL:https://a-desk.org/en/agenda/de-dau-al-set-a-zush/
LOCATION:Fundación Suñol\, C/ Mejía Lequerica\, 14\, 08028 Barcelona mapa\, Barcelona\, Barcelona\, 08028\, Spain
CATEGORIES:Guided tour
END:VEVENT
BEGIN:VEVENT
DTSTART;TZID=Europe/Madrid:20250710T190000
DTEND;TZID=Europe/Madrid:20250710T190000
DTSTAMP:20260423T054807
CREATED:20250706T083349Z
LAST-MODIFIED:20250706T083349Z
UID:68779-1752174000-1752174000@a-desk.org
SUMMARY:"Filosofía de la moda" amb Rita Rakosnik i Marc Giró
DESCRIPTION:
URL:https://a-desk.org/en/agenda/filosofia-de-la-moda-amb-rita-rakosnik-i-marc-giro/
LOCATION:Llibreria Finestres\, C/ Diputació\, 249\, 08007 Barcelona mapa\, Barcelona\, Barcelona\, 08007\, Spain
CATEGORIES:Presentació de llibre
END:VEVENT
BEGIN:VEVENT
DTSTART;TZID=Europe/Madrid:20250710T190000
DTEND;TZID=Europe/Madrid:20250710T190000
DTSTAMP:20260423T054807
CREATED:20250706T084043Z
LAST-MODIFIED:20250706T084043Z
UID:68781-1752174000-1752174000@a-desk.org
SUMMARY:"Constructores de mons molt semblants al nostre" Ludovica Carbotta
DESCRIPTION:
URL:https://a-desk.org/en/agenda/constructores-de-mons-molt-semblants-al-nostre-ludovica-carbotta/
LOCATION:Fundación Joan Miró\, Parc de Montjuïc\, s/n\, 08038 Barcelona mapa\, Barcelona\, Barcelona\, 08038\, Spain
CATEGORIES:Inauguració/Exposició
END:VEVENT
BEGIN:VEVENT
DTSTART;TZID=Europe/Madrid:20250710T190000
DTEND;TZID=Europe/Madrid:20250710T190000
DTSTAMP:20260423T054807
CREATED:20250707T203624Z
LAST-MODIFIED:20250707T203624Z
UID:68866-1752174000-1752174000@a-desk.org
SUMMARY:"Icon Road" Daniel Hasselberger
DESCRIPTION:
URL:https://a-desk.org/en/agenda/icon-road-daniel-hasselberger/
LOCATION:Llibreria documenta\, Carrer de Pau Claris\, 144\, L'Eixample\, 08009 Barcelona
CATEGORIES:Presentació de llibre
END:VEVENT
BEGIN:VEVENT
DTSTART;TZID=Europe/Madrid:20250710T190000
DTEND;TZID=Europe/Madrid:20250710T200000
DTSTAMP:20260423T054807
CREATED:20250702T110901Z
LAST-MODIFIED:20250702T110901Z
UID:68655-1752174000-1752177600@a-desk.org
SUMMARY:"Supercopa / Verónica Ruth Frías"
DESCRIPTION:
URL:https://a-desk.org/en/agenda/supercopa-veronica-ruth-frias/
LOCATION:Santa Mònica\, La Rambla\, 7\, 08002 Barcelona mapa\, Barcelona\, Barcelona\, 08002\, Spain
CATEGORIES:Activitat
END:VEVENT
BEGIN:VEVENT
DTSTART;TZID=Europe/Madrid:20250710T200000
DTEND;TZID=Europe/Madrid:20250710T200000
DTSTAMP:20260423T054807
CREATED:20250702T110649Z
LAST-MODIFIED:20250702T110649Z
UID:68653-1752177600-1752177600@a-desk.org
SUMMARY:"A plot / A scandal"
DESCRIPTION:
URL:https://a-desk.org/en/agenda/a-plot-a-scandal/
LOCATION:La Caldera\, C/ Eugeni d’Ors\, 12\, 08028 Barcelona mapa\, Barcelona\, Barcelona\, 08028\, Spain
CATEGORIES:Performance
END:VEVENT
BEGIN:VEVENT
DTSTART;TZID=Europe/Madrid:20250710T200000
DTEND;TZID=Europe/Madrid:20250710T200000
DTSTAMP:20260423T054807
CREATED:20250706T092828Z
LAST-MODIFIED:20250706T092828Z
UID:68833-1752177600-1752177600@a-desk.org
SUMMARY:"HET LAM GODS. Primera part: La Pastora. "Idilio" - Victoria Aime"
DESCRIPTION:
URL:https://a-desk.org/en/agenda/het-lam-gods-primera-part-la-pastora-idilio-victoria-aime/
LOCATION:Antic Teatre\, C/ Verdaguer i Callís\, 12\, Barcelona\, Barcelona\, 08003\, España
CATEGORIES:Arts en viu
END:VEVENT
BEGIN:VEVENT
DTSTART;TZID=Europe/Madrid:20250710T200000
DTEND;TZID=Europe/Madrid:20250710T200000
DTSTAMP:20260423T054807
CREATED:20250707T203425Z
LAST-MODIFIED:20250707T203425Z
UID:68864-1752177600-1752177600@a-desk.org
SUMMARY:"Vespres musicals: A cappella en femení"
DESCRIPTION:
URL:https://a-desk.org/en/agenda/vespres-musicals-a-cappella-en-femeni/
LOCATION:Monestir de Pedrables\, Baixada del Monestir\, 9\, Barcelona\, Barcelona\, 08034\, España
CATEGORIES:Concert
END:VEVENT
BEGIN:VEVENT
DTSTART;TZID=Europe/Madrid:20250710T210000
DTEND;TZID=Europe/Madrid:20250710T210000
DTSTAMP:20260423T054807
CREATED:20250706T090134Z
LAST-MODIFIED:20250706T090134Z
UID:68809-1752181200-1752181200@a-desk.org
SUMMARY:"La Panera de Nit. Visites comentades a les exposicions en curs"
DESCRIPTION:
URL:https://a-desk.org/en/agenda/la-panera-de-nit-visites-comentades-a-les-exposicions-en-curs/
LOCATION:Centre d’Art la Panera\, Plaça Panera\, 2\, 25002 Lleida mapa\, Lleida\, Lleida\, 25002\, Spain
CATEGORIES:Guided tour
END:VEVENT
END:VCALENDAR