BEGIN:VCALENDAR
VERSION:2.0
PRODID:-//A*Desk - ECPv6.8.1//NONSGML v1.0//EN
CALSCALE:GREGORIAN
METHOD:PUBLISH
X-ORIGINAL-URL:https://a-desk.org/en/
X-WR-CALDESC:Events for A*Desk
REFRESH-INTERVAL;VALUE=DURATION:PT1H
X-Robots-Tag:noindex
X-PUBLISHED-TTL:PT1H
BEGIN:VTIMEZONE
TZID:Europe/Madrid
BEGIN:DAYLIGHT
TZOFFSETFROM:+0100
TZOFFSETTO:+0200
TZNAME:CEST
DTSTART:20250330T010000
END:DAYLIGHT
BEGIN:STANDARD
TZOFFSETFROM:+0200
TZOFFSETTO:+0100
TZNAME:CET
DTSTART:20251026T010000
END:STANDARD
END:VTIMEZONE
BEGIN:VEVENT
DTSTART;TZID=Europe/Madrid:20250522T080000
DTEND;TZID=Europe/Madrid:20250718T170000
DTSTAMP:20260423T094735
CREATED:20250526T194744Z
LAST-MODIFIED:20250526T194744Z
UID:67425-1747900800-1752858000@a-desk.org
SUMMARY:"Mostra de Films de Dones"
DESCRIPTION:
URL:https://a-desk.org/en/agenda/mostra-de-films-de-dones/
LOCATION:Barcelona
CATEGORIES:Cinema
END:VEVENT
BEGIN:VEVENT
DTSTART;VALUE=DATE:20250625
DTEND;VALUE=DATE:20250725
DTSTAMP:20260423T094735
CREATED:20250617T211056Z
LAST-MODIFIED:20250617T211056Z
UID:68061-1750809600-1753401599@a-desk.org
SUMMARY:"Pantalla d’estiu"
DESCRIPTION:
URL:https://a-desk.org/en/agenda/pantalla-destiu/
LOCATION:Barcelona
CATEGORIES:Cicle,Cinema
END:VEVENT
BEGIN:VEVENT
DTSTART;TZID=Europe/Madrid:20250625T093000
DTEND;TZID=Europe/Madrid:20250904T210000
DTSTAMP:20260423T094735
CREATED:20250617T220640Z
LAST-MODIFIED:20250617T220640Z
UID:68112-1750843800-1757019600@a-desk.org
SUMMARY:"Art Nou 2025"
DESCRIPTION:
URL:https://a-desk.org/en/agenda/art-nou-2025/
LOCATION:Barcelona
CATEGORIES:Festival
END:VEVENT
BEGIN:VEVENT
DTSTART;VALUE=DATE:20250627
DTEND;VALUE=DATE:20250719
DTSTAMP:20260423T094735
CREATED:20250617T222224Z
LAST-MODIFIED:20250617T222224Z
UID:68130-1750982400-1752883199@a-desk.org
SUMMARY:"STRIPART 2025"
DESCRIPTION:
URL:https://a-desk.org/en/agenda/stripart-2025/
LOCATION:CC Guinardó\, Ronda del Guinardó\, 113\, 08041 Barcelona mapa\, Barcelona\, Barcelona\, 08041\, Spain
CATEGORIES:Festival
END:VEVENT
BEGIN:VEVENT
DTSTART;VALUE=DATE:20250703
DTEND;VALUE=DATE:20250725
DTSTAMP:20260423T094735
CREATED:20250628T134207Z
LAST-MODIFIED:20250628T134207Z
UID:68551-1751500800-1753401599@a-desk.org
SUMMARY:"Festival Tangent 2025"
DESCRIPTION:
URL:https://a-desk.org/en/agenda/festival-tangent-2025/
LOCATION:Barcelona
CATEGORIES:Festival
END:VEVENT
BEGIN:VEVENT
DTSTART;VALUE=DATE:20250703
DTEND;VALUE=DATE:20250925
DTSTAMP:20260423T094735
CREATED:20250702T105357Z
LAST-MODIFIED:20250702T105357Z
UID:68645-1751500800-1758758399@a-desk.org
SUMMARY:"FOC – Festival Òmnium de Cinema"
DESCRIPTION:
URL:https://a-desk.org/en/agenda/foc-festival-omnium-de-cinema/
LOCATION:Barcelona
CATEGORIES:Cicle,Cinema
END:VEVENT
BEGIN:VEVENT
DTSTART;VALUE=DATE:20250710
DTEND;VALUE=DATE:20250714
DTSTAMP:20260423T094735
CREATED:20250324T093921Z
LAST-MODIFIED:20250324T093921Z
UID:65830-1752105600-1752451199@a-desk.org
SUMMARY:"Eufònic 2025"
DESCRIPTION:
URL:https://a-desk.org/en/agenda/eufonic-2025/
LOCATION:Barcelona
CATEGORIES:Festival
END:VEVENT
BEGIN:VEVENT
DTSTART;VALUE=DATE:20250711
DTEND;VALUE=DATE:20250730
DTSTAMP:20260423T094735
CREATED:20250706T085948Z
LAST-MODIFIED:20250706T085948Z
UID:68807-1752192000-1753833599@a-desk.org
SUMMARY:"L’hora del pati"
DESCRIPTION:
URL:https://a-desk.org/en/agenda/lhora-del-pati/
LOCATION:MAC Mataró\, Muralla de la Presó 2\, Mataró\, Barcelona\, 08302\, España
CATEGORIES:Festival
END:VEVENT
BEGIN:VEVENT
DTSTART;TZID=Europe/Madrid:20250713T113000
DTEND;TZID=Europe/Madrid:20250713T130000
DTSTAMP:20260423T094735
CREATED:20250706T090617Z
LAST-MODIFIED:20250709T114840Z
UID:68813-1752406200-1752411600@a-desk.org
SUMMARY:"Interrogar Barcelona. De la industrialització al segle XXI"
DESCRIPTION:
URL:https://a-desk.org/en/agenda/interrogar-barcelona-de-la-industrialitzacio-al-segle-xxi/
LOCATION:Museu d’Història de Barcelona\, https://maps.google.com/maps?hl=ca&gl=es&um=1&ie=UTF-8&fb=1&sa=X&ftid=0x12a4a2f17b8c4573:0x176dbf4aa53f2526
CATEGORIES:Guided tour
END:VEVENT
END:VCALENDAR