BEGIN:VCALENDAR
VERSION:2.0
PRODID:-//A*Desk - ECPv6.8.1//NONSGML v1.0//EN
CALSCALE:GREGORIAN
METHOD:PUBLISH
X-WR-CALNAME:A*Desk
X-ORIGINAL-URL:https://a-desk.org/en/
X-WR-CALDESC:Events for A*Desk
REFRESH-INTERVAL;VALUE=DURATION:PT1H
X-Robots-Tag:noindex
X-PUBLISHED-TTL:PT1H
BEGIN:VTIMEZONE
TZID:Europe/Madrid
BEGIN:DAYLIGHT
TZOFFSETFROM:+0100
TZOFFSETTO:+0200
TZNAME:CEST
DTSTART:20250330T010000
END:DAYLIGHT
BEGIN:STANDARD
TZOFFSETFROM:+0200
TZOFFSETTO:+0100
TZNAME:CET
DTSTART:20251026T010000
END:STANDARD
END:VTIMEZONE
BEGIN:VEVENT
DTSTART;TZID=Europe/Madrid:20250625T093000
DTEND;TZID=Europe/Madrid:20250904T210000
DTSTAMP:20260424T031022
CREATED:20250617T220640Z
LAST-MODIFIED:20250617T220640Z
UID:68112-1750843800-1757019600@a-desk.org
SUMMARY:"Art Nou 2025"
DESCRIPTION:
URL:https://a-desk.org/en/agenda/art-nou-2025/
LOCATION:Barcelona
CATEGORIES:Festival
END:VEVENT
BEGIN:VEVENT
DTSTART;VALUE=DATE:20250703
DTEND;VALUE=DATE:20250925
DTSTAMP:20260424T031022
CREATED:20250702T105357Z
LAST-MODIFIED:20250702T105357Z
UID:68645-1751500800-1758758399@a-desk.org
SUMMARY:"FOC – Festival Òmnium de Cinema"
DESCRIPTION:
URL:https://a-desk.org/en/agenda/foc-festival-omnium-de-cinema/
LOCATION:Barcelona
CATEGORIES:Cicle,Cinema
END:VEVENT
BEGIN:VEVENT
DTSTART;VALUE=DATE:20250711
DTEND;VALUE=DATE:20250730
DTSTAMP:20260424T031022
CREATED:20250706T085948Z
LAST-MODIFIED:20250706T085948Z
UID:68807-1752192000-1753833599@a-desk.org
SUMMARY:"L’hora del pati"
DESCRIPTION:
URL:https://a-desk.org/en/agenda/lhora-del-pati/
LOCATION:MAC Mataró\, Muralla de la Presó 2\, Mataró\, Barcelona\, 08302\, España
CATEGORIES:Festival
END:VEVENT
BEGIN:VEVENT
DTSTART;VALUE=DATE:20250716
DTEND;VALUE=DATE:20250823
DTSTAMP:20260424T031022
CREATED:20250831T103145Z
LAST-MODIFIED:20250831T103145Z
UID:69861-1752624000-1755907199@a-desk.org
SUMMARY:"Convocatòria: Poner en pausa la IA"
DESCRIPTION:
URL:https://a-desk.org/en/agenda/convocatoria-poner-en-pausa-la-ia/
LOCATION:Barcelona
CATEGORIES:Convocatòria
END:VEVENT
BEGIN:VEVENT
DTSTART;VALUE=DATE:20250723
DTEND;VALUE=DATE:20250727
DTSTAMP:20260424T031022
CREATED:20250621T070503Z
LAST-MODIFIED:20250621T070503Z
UID:68247-1753228800-1753574399@a-desk.org
SUMMARY:"Fer Boyd i Madeline Stack: The Deeps"
DESCRIPTION:
URL:https://a-desk.org/en/agenda/fer-boyd-i-madeline-stack-the-deeps/
LOCATION:Cordova\, Carrer de la Riereta\, 29\, Ciutat Vella\, 08001 Barcelona\, Barcelona\, Barcelona
CATEGORIES:Projecció
END:VEVENT
BEGIN:VEVENT
DTSTART;VALUE=DATE:20250725
DTEND;VALUE=DATE:20250728
DTSTAMP:20260424T031022
CREATED:20250713T093739Z
LAST-MODIFIED:20250713T093739Z
UID:68977-1753401600-1753660799@a-desk.org
SUMMARY:"Blackcelona Legacy Festival"
DESCRIPTION:
URL:https://a-desk.org/en/agenda/blackcelona-legacy-festival/
LOCATION:Fabra i Coats\, C/ Sant Adrià\, 20\, 08030 Barcelona mapa\, Barcelona\, Barcelona\, 08030\, Spain
CATEGORIES:Festival
END:VEVENT
BEGIN:VEVENT
DTSTART;TZID=Europe/Madrid:20250725T180000
DTEND;TZID=Europe/Madrid:20250727T210000
DTSTAMP:20260424T031022
CREATED:20250617T214124Z
LAST-MODIFIED:20250617T214124Z
UID:68086-1753466400-1753650000@a-desk.org
SUMMARY:"Òh!pera. Microòperes de nova creació"
DESCRIPTION:
URL:https://a-desk.org/en/agenda/ohpera-microoperes-de-nova-creacio/
LOCATION:Gran Teatre del Liceu\, La Rambla\, 51-59\, Barcelona\, Barcelona\, 08002\, España
CATEGORIES:Concert
END:VEVENT
BEGIN:VEVENT
DTSTART;TZID=Europe/Madrid:20250725T190000
DTEND;TZID=Europe/Madrid:20250725T190000
DTSTAMP:20260424T031022
CREATED:20250702T105040Z
LAST-MODIFIED:20250702T105040Z
UID:68641-1753470000-1753470000@a-desk.org
SUMMARY:"Actuació Johannes de Silentio"
DESCRIPTION:
URL:https://a-desk.org/en/agenda/actuacio-johannes-de-silentio/
LOCATION:Mèdol\, C/ d'En Granada\, 11\, Tarragona\, Tarragona\, 43003\, España
CATEGORIES:Actuació
END:VEVENT
BEGIN:VEVENT
DTSTART;TZID=Europe/Madrid:20250725T190000
DTEND;TZID=Europe/Madrid:20250725T190000
DTSTAMP:20260424T031022
CREATED:20250715T204454Z
LAST-MODIFIED:20250715T204454Z
UID:69067-1753470000-1753470000@a-desk.org
SUMMARY:"Diàleg entre Aitor Quiney i Manuel Gimeno i visita guiada a l'exposició Ritme i matèria"
DESCRIPTION:
URL:https://a-desk.org/en/agenda/dialeg-entre-aitor-quiney-i-manuel-gimeno-i-visita-guiada-a-lexposicio-ritme-i-materia/
LOCATION:Fundacio Vila Casas. Can Mario\, Plaça de Can Màrio\, 7\, Palafrugell\, Girona\, 17200\, España
CATEGORIES:Diàleg
END:VEVENT
BEGIN:VEVENT
DTSTART;TZID=Europe/Madrid:20250725T200000
DTEND;TZID=Europe/Madrid:20250725T200000
DTSTAMP:20260424T031022
CREATED:20250715T211805Z
LAST-MODIFIED:20250715T211805Z
UID:69089-1753473600-1753473600@a-desk.org
SUMMARY:"Los Torreznos" La Gente
DESCRIPTION:
URL:https://a-desk.org/en/agenda/los-torreznos-la-gente/
LOCATION:Antic Teatre\, C/ Verdaguer i Callís\, 12\, Barcelona\, Barcelona\, 08003\, España
CATEGORIES:Teatre
END:VEVENT
BEGIN:VEVENT
DTSTART;TZID=Europe/Madrid:20250725T220000
DTEND;TZID=Europe/Madrid:20250725T220000
DTSTAMP:20260424T031022
CREATED:20250707T203956Z
LAST-MODIFIED:20250707T203956Z
UID:68870-1753480800-1753480800@a-desk.org
SUMMARY:"LA NIT DEL MÚSIC ALT. Un tipus de gènere ambigu"
DESCRIPTION:
URL:https://a-desk.org/en/agenda/la-nit-del-music-alt-un-tipus-de-genere-ambigu/
LOCATION:L’Auditori\, C/ de Lepant\, 150\, Barcelona\, Barcelona\, 08013\, España
CATEGORIES:Concert
END:VEVENT
END:VCALENDAR