BEGIN:VCALENDAR
VERSION:2.0
PRODID:-//A*Desk - ECPv6.8.1//NONSGML v1.0//EN
CALSCALE:GREGORIAN
METHOD:PUBLISH
X-WR-CALNAME:A*Desk
X-ORIGINAL-URL:https://a-desk.org/en/
X-WR-CALDESC:Events for A*Desk
REFRESH-INTERVAL;VALUE=DURATION:PT1H
X-Robots-Tag:noindex
X-PUBLISHED-TTL:PT1H
BEGIN:VTIMEZONE
TZID:Europe/Madrid
BEGIN:DAYLIGHT
TZOFFSETFROM:+0100
TZOFFSETTO:+0200
TZNAME:CEST
DTSTART:20250330T010000
END:DAYLIGHT
BEGIN:STANDARD
TZOFFSETFROM:+0200
TZOFFSETTO:+0100
TZNAME:CET
DTSTART:20251026T010000
END:STANDARD
BEGIN:DAYLIGHT
TZOFFSETFROM:+0100
TZOFFSETTO:+0200
TZNAME:CEST
DTSTART:20260329T010000
END:DAYLIGHT
BEGIN:STANDARD
TZOFFSETFROM:+0200
TZOFFSETTO:+0100
TZNAME:CET
DTSTART:20261025T010000
END:STANDARD
END:VTIMEZONE
BEGIN:VEVENT
DTSTART;VALUE=DATE:20250920
DTEND;VALUE=DATE:20251224
DTSTAMP:20260426T061324
CREATED:20251019T204525Z
LAST-MODIFIED:20251019T204525Z
UID:71261-1758326400-1766534399@a-desk.org
SUMMARY:"Festival Sâlmon 2025"
DESCRIPTION:
URL:https://a-desk.org/en/agenda/festival-salmon-2025/
LOCATION:Barcelona
CATEGORIES:Festival
END:VEVENT
BEGIN:VEVENT
DTSTART;VALUE=DATE:20251010
DTEND;VALUE=DATE:20251208
DTSTAMP:20260426T061324
CREATED:20251007T172633Z
LAST-MODIFIED:20251007T172633Z
UID:70847-1760054400-1765151999@a-desk.org
SUMMARY:"SCAN Tarragona 2025 | AQUA"
DESCRIPTION:
URL:https://a-desk.org/en/agenda/scan-tarragona-2025-aqua/
LOCATION:Barcelona
CATEGORIES:Festival
END:VEVENT
BEGIN:VEVENT
DTSTART;VALUE=DATE:20251010
DTEND;VALUE=DATE:20251221
DTSTAMP:20260426T061325
CREATED:20251001T092954Z
LAST-MODIFIED:20251001T092954Z
UID:70674-1760054400-1766275199@a-desk.org
SUMMARY:"Circuit Escena"
DESCRIPTION:
URL:https://a-desk.org/en/agenda/circuit-escena/
LOCATION:Barcelona
CATEGORIES:Arts en viu,Arts escèniques,Circuit
END:VEVENT
BEGIN:VEVENT
DTSTART;VALUE=DATE:20251016
DTEND;VALUE=DATE:20251229
DTSTAMP:20260426T061325
CREATED:20250831T103303Z
LAST-MODIFIED:20250831T103303Z
UID:69863-1760572800-1766966399@a-desk.org
SUMMARY:"Festival Panoràmic"
DESCRIPTION:
URL:https://a-desk.org/en/agenda/festival-panoramic/
LOCATION:Barcelona
CATEGORIES:Festival
END:VEVENT
BEGIN:VEVENT
DTSTART;VALUE=DATE:20251101
DTEND;VALUE=DATE:20251201
DTSTAMP:20260426T061325
CREATED:20251025T213101Z
LAST-MODIFIED:20251025T213101Z
UID:71430-1761955200-1764547199@a-desk.org
SUMMARY:"IF Barcelona 2025"
DESCRIPTION:
URL:https://a-desk.org/en/agenda/if-barcelona-2025/
LOCATION:Barcelona
CATEGORIES:Festival
END:VEVENT
BEGIN:VEVENT
DTSTART;VALUE=DATE:20251107
DTEND;VALUE=DATE:20251215
DTSTAMP:20260426T061325
CREATED:20251031T181448Z
LAST-MODIFIED:20251031T181448Z
UID:71619-1762473600-1765756799@a-desk.org
SUMMARY:"World Press Photo 2025"
DESCRIPTION:
URL:https://a-desk.org/en/agenda/world-press-photo-2025/
LOCATION:CCCB\, C/ Montalegre\, 5\, 08001 Barcelona mapa\, Barcelona\, Barcelona\, 08001\, Spain
CATEGORIES:Exposició
END:VEVENT
BEGIN:VEVENT
DTSTART;VALUE=DATE:20251109
DTEND;VALUE=DATE:20260116
DTSTAMP:20260426T061325
CREATED:20251109T190748Z
LAST-MODIFIED:20251109T190748Z
UID:71898-1762646400-1768521599@a-desk.org
SUMMARY:"Unseen narratives open call"
DESCRIPTION:
URL:https://a-desk.org/en/agenda/unseen-narratives-open-call/
LOCATION:Barcelona
CATEGORIES:Convocatòria
END:VEVENT
BEGIN:VEVENT
DTSTART;TZID=Europe/Madrid:20251126T180000
DTEND;TZID=Europe/Madrid:20251126T180000
DTSTAMP:20260426T061325
CREATED:20251120T174027Z
LAST-MODIFIED:20251120T174027Z
UID:72197-1764180000-1764180000@a-desk.org
SUMMARY:"Soc autor: Sessió amb Maria Jaume"
DESCRIPTION:
URL:https://a-desk.org/en/agenda/soc-autor-sessio-amb-maria-jaume/
LOCATION:Sala Paral·lel 62\, Av. del Paral·lel\, 62\, 08001 Barcelona mapa\, Barcelona\, Barcelona\, 08001\, Spain
CATEGORIES:Conference,Música
END:VEVENT
BEGIN:VEVENT
DTSTART;TZID=Europe/Madrid:20251126T183000
DTEND;TZID=Europe/Madrid:20251126T190000
DTSTAMP:20260426T061325
CREATED:20251117T175318Z
LAST-MODIFIED:20251117T175318Z
UID:72159-1764181800-1764183600@a-desk.org
SUMMARY:"Eclipsi" Estel Boada\, Xavier Michel | 4x4
DESCRIPTION:
URL:https://a-desk.org/en/agenda/eclipsi-estel-boada-xavier-michel-4x4/
LOCATION:Sala Taro\, C/ de Rossend Arús\, 9\, Sants-Montjuïc\, 08014 Barcelona
CATEGORIES:Cicle,Performance
END:VEVENT
BEGIN:VEVENT
DTSTART;TZID=Europe/Madrid:20251126T190000
DTEND;TZID=Europe/Madrid:20251126T190000
DTSTAMP:20260426T061325
CREATED:20251120T174704Z
LAST-MODIFIED:20251120T174704Z
UID:72203-1764183600-1764183600@a-desk.org
SUMMARY:"Lectura dramatitzada: Sonets de William Shakespeare" Júlia Truyol\, Jeremy Nastasi\, Clara Manyós
DESCRIPTION:
URL:https://a-desk.org/en/agenda/lectura-dramatitzada-sonets-de-william-shakespeare-julia-truyol-jeremy-nastasi-clara-manyos/
LOCATION:CaixaForum Barcelona\, Av. Francesc Ferrer i Guàrdia\, 6-8\, Barcelona\, Barcelona\, 08038\, España
CATEGORIES:Lectura dramatitzada
END:VEVENT
BEGIN:VEVENT
DTSTART;TZID=Europe/Madrid:20251126T190000
DTEND;TZID=Europe/Madrid:20251126T190000
DTSTAMP:20260426T061325
CREATED:20251123T082242Z
LAST-MODIFIED:20251123T082242Z
UID:72256-1764183600-1764183600@a-desk.org
SUMMARY:"Mooded Ether" Maider Aldasoro\, Pedro Bella\, Elsa Casanova Sampé\, Pepe Reyes Caballero
DESCRIPTION:
URL:https://a-desk.org/en/agenda/mooded-ether-maider-aldasoro-pedro-bella-elsa-casanova-sampe-pepe-reyes-caballero/
LOCATION:Centre Cívic Sant Andreu\, C/ Gran de Sant Andreu\, 111\, 08030 Barcelona mapa\, Barcelona\, Barcelona\, 08030\, Spain
CATEGORIES:Inauguració/Exposició
END:VEVENT
BEGIN:VEVENT
DTSTART;TZID=Europe/Madrid:20251126T190000
DTEND;TZID=Europe/Madrid:20251126T200000
DTSTAMP:20260426T061325
CREATED:20251120T173308Z
LAST-MODIFIED:20251120T173308Z
UID:72189-1764183600-1764187200@a-desk.org
SUMMARY:"Una aniquilació fallida (La libido\, la història i jo)" Carlota Gurt | Festival Clàssics
DESCRIPTION:
URL:https://a-desk.org/en/agenda/una-aniquilacio-fallida-la-libido-la-historia-i-jo-carlota-gurt-festival-classics/
LOCATION:CCCB\, C/ Montalegre\, 5\, 08001 Barcelona mapa\, Barcelona\, Barcelona\, 08001\, Spain
CATEGORIES:Debat,Espectacle
END:VEVENT
BEGIN:VEVENT
DTSTART;TZID=Europe/Madrid:20251126T190000
DTEND;TZID=Europe/Madrid:20251126T200000
DTSTAMP:20260426T061325
CREATED:20251120T181230Z
LAST-MODIFIED:20251120T181230Z
UID:72233-1764183600-1764187200@a-desk.org
SUMMARY:"Rimas [pan]creáticas arabefuturistas\, Rasheed Jalloul | Dimecres de so i cos "
DESCRIPTION:
URL:https://a-desk.org/en/agenda/rimas-pancreaticas-arabefuturistas-rasheed-jalloul-dimecres-de-so-i-cos/
LOCATION:Santa Mònica\, La Rambla\, 7\, 08002 Barcelona mapa\, Barcelona\, Barcelona\, 08002\, Spain
CATEGORIES:Arts en viu
END:VEVENT
BEGIN:VEVENT
DTSTART;TZID=Europe/Madrid:20251126T190000
DTEND;TZID=Europe/Madrid:20251126T210000
DTSTAMP:20260426T061325
CREATED:20251120T181355Z
LAST-MODIFIED:20251120T181355Z
UID:72235-1764183600-1764190800@a-desk.org
SUMMARY:"DREAM³ La tercera realitat"
DESCRIPTION:
URL:https://a-desk.org/en/agenda/dream%c2%b3-la-tercera-realitat/
LOCATION:Espronceda Institute of Art & Culture\, C/ d'Espronceda\, 326\, Nave 4 y 5\,\, Barcelona\, Barcelona\, 08027\, España
CATEGORIES:Inauguració/Exposició
END:VEVENT
END:VCALENDAR