BEGIN:VCALENDAR
VERSION:2.0
PRODID:-//A*Desk - ECPv6.8.1//NONSGML v1.0//EN
CALSCALE:GREGORIAN
METHOD:PUBLISH
X-ORIGINAL-URL:https://a-desk.org/en/
X-WR-CALDESC:Events for A*Desk
REFRESH-INTERVAL;VALUE=DURATION:PT1H
X-Robots-Tag:noindex
X-PUBLISHED-TTL:PT1H
BEGIN:VTIMEZONE
TZID:Europe/Madrid
BEGIN:DAYLIGHT
TZOFFSETFROM:+0100
TZOFFSETTO:+0200
TZNAME:CEST
DTSTART:20250330T010000
END:DAYLIGHT
BEGIN:STANDARD
TZOFFSETFROM:+0200
TZOFFSETTO:+0100
TZNAME:CET
DTSTART:20251026T010000
END:STANDARD
BEGIN:DAYLIGHT
TZOFFSETFROM:+0100
TZOFFSETTO:+0200
TZNAME:CEST
DTSTART:20260329T010000
END:DAYLIGHT
BEGIN:STANDARD
TZOFFSETFROM:+0200
TZOFFSETTO:+0100
TZNAME:CET
DTSTART:20261025T010000
END:STANDARD
END:VTIMEZONE
BEGIN:VEVENT
DTSTART;VALUE=DATE:20250920
DTEND;VALUE=DATE:20251224
DTSTAMP:20260426T031122
CREATED:20251019T204525Z
LAST-MODIFIED:20251019T204525Z
UID:71261-1758326400-1766534399@a-desk.org
SUMMARY:"Festival Sâlmon 2025"
DESCRIPTION:
URL:https://a-desk.org/en/agenda/festival-salmon-2025/
LOCATION:Barcelona
CATEGORIES:Festival
END:VEVENT
BEGIN:VEVENT
DTSTART;VALUE=DATE:20251010
DTEND;VALUE=DATE:20251208
DTSTAMP:20260426T031122
CREATED:20251007T172633Z
LAST-MODIFIED:20251007T172633Z
UID:70847-1760054400-1765151999@a-desk.org
SUMMARY:"SCAN Tarragona 2025 | AQUA"
DESCRIPTION:
URL:https://a-desk.org/en/agenda/scan-tarragona-2025-aqua/
LOCATION:Barcelona
CATEGORIES:Festival
END:VEVENT
BEGIN:VEVENT
DTSTART;VALUE=DATE:20251010
DTEND;VALUE=DATE:20251221
DTSTAMP:20260426T031122
CREATED:20251001T092954Z
LAST-MODIFIED:20251001T092954Z
UID:70674-1760054400-1766275199@a-desk.org
SUMMARY:"Circuit Escena"
DESCRIPTION:
URL:https://a-desk.org/en/agenda/circuit-escena/
LOCATION:Barcelona
CATEGORIES:Arts en viu,Arts escèniques,Circuit
END:VEVENT
BEGIN:VEVENT
DTSTART;VALUE=DATE:20251016
DTEND;VALUE=DATE:20251229
DTSTAMP:20260426T031122
CREATED:20250831T103303Z
LAST-MODIFIED:20250831T103303Z
UID:69863-1760572800-1766966399@a-desk.org
SUMMARY:"Festival Panoràmic"
DESCRIPTION:
URL:https://a-desk.org/en/agenda/festival-panoramic/
LOCATION:Barcelona
CATEGORIES:Festival
END:VEVENT
BEGIN:VEVENT
DTSTART;VALUE=DATE:20251101
DTEND;VALUE=DATE:20251201
DTSTAMP:20260426T031122
CREATED:20251025T213101Z
LAST-MODIFIED:20251025T213101Z
UID:71430-1761955200-1764547199@a-desk.org
SUMMARY:"IF Barcelona 2025"
DESCRIPTION:
URL:https://a-desk.org/en/agenda/if-barcelona-2025/
LOCATION:Barcelona
CATEGORIES:Festival
END:VEVENT
BEGIN:VEVENT
DTSTART;VALUE=DATE:20251107
DTEND;VALUE=DATE:20251215
DTSTAMP:20260426T031122
CREATED:20251031T181448Z
LAST-MODIFIED:20251031T181448Z
UID:71619-1762473600-1765756799@a-desk.org
SUMMARY:"World Press Photo 2025"
DESCRIPTION:
URL:https://a-desk.org/en/agenda/world-press-photo-2025/
LOCATION:CCCB\, C/ Montalegre\, 5\, 08001 Barcelona mapa\, Barcelona\, Barcelona\, 08001\, Spain
CATEGORIES:Exposició
END:VEVENT
BEGIN:VEVENT
DTSTART;VALUE=DATE:20251109
DTEND;VALUE=DATE:20260116
DTSTAMP:20260426T031122
CREATED:20251109T190748Z
LAST-MODIFIED:20251109T190748Z
UID:71898-1762646400-1768521599@a-desk.org
SUMMARY:"Unseen narratives open call"
DESCRIPTION:
URL:https://a-desk.org/en/agenda/unseen-narratives-open-call/
LOCATION:Barcelona
CATEGORIES:Convocatòria
END:VEVENT
BEGIN:VEVENT
DTSTART;VALUE=DATE:20251127
DTEND;VALUE=DATE:20251129
DTSTAMP:20260426T031122
CREATED:20251115T210034Z
LAST-MODIFIED:20251115T210034Z
UID:72098-1764201600-1764374399@a-desk.org
SUMMARY:"Jornades Hannah Arendt Barcelona"
DESCRIPTION:
URL:https://a-desk.org/en/agenda/jornades-hannah-arendt-barcelona/
LOCATION:Goethe Institut\, C/ de Roger de Flor 224\, Barcelona\, Barcelona\, 08025\, España
CATEGORIES:Debat,Jornada
END:VEVENT
BEGIN:VEVENT
DTSTART;VALUE=DATE:20251127
DTEND;VALUE=DATE:20251130
DTSTAMP:20260426T031122
CREATED:20251120T181001Z
LAST-MODIFIED:20251120T181001Z
UID:72227-1764201600-1764460799@a-desk.org
SUMMARY:"Collita d’olives a Arnes – arxiu en viu"
DESCRIPTION:
URL:https://a-desk.org/en/agenda/collita-dolives-a-arnes-arxiu-en-viu/
LOCATION:Pere IV\, 345 08019 Barcelona\, Pere IV\, 345 08019 Barcelona
CATEGORIES:Activitat
END:VEVENT
BEGIN:VEVENT
DTSTART;TZID=Europe/Madrid:20251127T190000
DTEND;TZID=Europe/Madrid:20251130T220000
DTSTAMP:20260426T031122
CREATED:20251124T160250Z
LAST-MODIFIED:20251124T160250Z
UID:72306-1764270000-1764540000@a-desk.org
SUMMARY:"Mesa" Pedro Batista | Finissage
DESCRIPTION:
URL:https://a-desk.org/en/agenda/mesa-pedro-batista-finissage/
LOCATION:BETA Contemporary\, Carrer Monistrol 21 08012\, Barcelona
CATEGORIES:Finissage
END:VEVENT
BEGIN:VEVENT
DTSTART;VALUE=DATE:20251128
DTEND;VALUE=DATE:20251129
DTSTAMP:20260426T031122
CREATED:20251115T203639Z
LAST-MODIFIED:20251115T203639Z
UID:72074-1764288000-1764374399@a-desk.org
SUMMARY:"Poblenou Open Night"
DESCRIPTION:
URL:https://a-desk.org/en/agenda/poblenou-open-night-2/
LOCATION:Barcelona
CATEGORIES:Activitat
END:VEVENT
BEGIN:VEVENT
DTSTART;VALUE=DATE:20251128
DTEND;VALUE=DATE:20251130
DTSTAMP:20260426T031122
CREATED:20251109T185822Z
LAST-MODIFIED:20251109T185822Z
UID:71890-1764288000-1764460799@a-desk.org
SUMMARY:"Narrar [con] la imagen videolúdica"
DESCRIPTION:
URL:https://a-desk.org/en/agenda/narrar-con-la-imagen-videoludica/
LOCATION:Fundació Foto Colectania\, Passeig de Picasso\, 14\, 08003 Barcelona mapa\, Barcelona\, Barcelona\, 08003\, Spain
CATEGORIES:Activitat
END:VEVENT
BEGIN:VEVENT
DTSTART;VALUE=DATE:20251128
DTEND;VALUE=DATE:20251201
DTSTAMP:20260426T031122
CREATED:20251120T180059Z
LAST-MODIFIED:20251120T180059Z
UID:72216-1764288000-1764547199@a-desk.org
SUMMARY:"ANTIC HORROR WEEKEND 2025 XV. Festival de Curtmetratges fantàstics i de Terror de l’Antic Teatre"
DESCRIPTION:
URL:https://a-desk.org/en/agenda/antic-horror-weekend-2025-xv-festival-de-curtmetratges-fantastics-i-de-terror-de-lantic-teatre/
LOCATION:Antic Teatre\, C/ Verdaguer i Callís\, 12\, Barcelona\, Barcelona\, 08003\, España
CATEGORIES:Cinema,Festival
END:VEVENT
BEGIN:VEVENT
DTSTART;TZID=Europe/Madrid:20251128T160000
DTEND;TZID=Europe/Madrid:20251128T200000
DTSTAMP:20260426T031122
CREATED:20251120T182050Z
LAST-MODIFIED:20251120T182103Z
UID:72246-1764345600-1764360000@a-desk.org
SUMMARY:"Ficcions per a després d'una vida" Plasència Camps
DESCRIPTION:
URL:https://a-desk.org/en/agenda/ficcions-per-a-despres-duna-vida/
LOCATION:La Escocesa\, C/ Pere IV\, 345\, 08020 Barcelona mapa\, Barcelona\, Barcelona\, 08020\, Spain
CATEGORIES:laboratori
END:VEVENT
BEGIN:VEVENT
DTSTART;TZID=Europe/Madrid:20251128T170000
DTEND;TZID=Europe/Madrid:20251128T170000
DTSTAMP:20260426T031122
CREATED:20251120T174322Z
LAST-MODIFIED:20251120T174322Z
UID:72199-1764349200-1764349200@a-desk.org
SUMMARY:"Cloenda del cicle: Una nova porta a l'art"
DESCRIPTION:
URL:https://a-desk.org/en/agenda/cloenda-del-cicle-una-nova-porta-a-lart/
LOCATION:Fundació Vila Casas. Can Framis\, C/ Roc Boronat\, 116\, 126\, 08018 Barcelona mapa\, Barcelona\, Barcelona\, 08018\, Spain
CATEGORIES:Cicle,Finissage
END:VEVENT
BEGIN:VEVENT
DTSTART;TZID=Europe/Madrid:20251128T180000
DTEND;TZID=Europe/Madrid:20251128T210000
DTSTAMP:20260426T031122
CREATED:20251125T163502Z
LAST-MODIFIED:20251125T163502Z
UID:72372-1764352800-1764363600@a-desk.org
SUMMARY:"Narrar [con] la imagen videolúdica"
DESCRIPTION:
URL:https://a-desk.org/en/agenda/narrar-con-la-imagen-videoludica-2/
LOCATION:Fundació Foto Colectania\, Passeig de Picasso\, 14\, 08003 Barcelona mapa\, Barcelona\, Barcelona\, 08003\, Spain
CATEGORIES:Activitat
END:VEVENT
BEGIN:VEVENT
DTSTART;TZID=Europe/Madrid:20251128T183000
DTEND;TZID=Europe/Madrid:20251128T200000
DTSTAMP:20260426T031122
CREATED:20251120T181957Z
LAST-MODIFIED:20251120T181957Z
UID:72243-1764354600-1764360000@a-desk.org
SUMMARY:"Agrilogística Fitness" Ana Pérez
DESCRIPTION:
URL:https://a-desk.org/en/agenda/agrilogistica-fitness-ana-perez/
LOCATION:Art Sant Cugat\, Carrer Villà 68 08173 Sant Cugat del Vallès
CATEGORIES:Dansa,Trobada
END:VEVENT
BEGIN:VEVENT
DTSTART;TZID=Europe/Madrid:20251128T190000
DTEND;TZID=Europe/Madrid:20251128T190000
DTSTAMP:20260426T031122
CREATED:20251120T174450Z
LAST-MODIFIED:20251120T174450Z
UID:72201-1764356400-1764356400@a-desk.org
SUMMARY:"El día del Watusi" Iván Morales
DESCRIPTION:
URL:https://a-desk.org/en/agenda/el-dia-del-watusi-ivan-morales/
LOCATION:Sala Beckett\, C/ Pere IV\, 228\, 232\, 08005 Barcelona mapa\, Barcelona\, Barcelona\, 08005\, Spain
CATEGORIES:Teatre
END:VEVENT
BEGIN:VEVENT
DTSTART;TZID=Europe/Madrid:20251128T190000
DTEND;TZID=Europe/Madrid:20251128T190000
DTSTAMP:20260426T031122
CREATED:20251120T175610Z
LAST-MODIFIED:20251120T175610Z
UID:72211-1764356400-1764356400@a-desk.org
SUMMARY:"Retirada a temps" Reïna
DESCRIPTION:
URL:https://a-desk.org/en/agenda/retirada-a-temps-reina/
LOCATION:CC Sarria\, Carrer d'Eduardo Conde\, 22\, Barcelona\, Barcelona\, 08034\, España
CATEGORIES:Concert,Presentació
END:VEVENT
BEGIN:VEVENT
DTSTART;TZID=Europe/Madrid:20251128T190000
DTEND;TZID=Europe/Madrid:20251128T190000
DTSTAMP:20260426T031122
CREATED:20251125T162851Z
LAST-MODIFIED:20251125T162851Z
UID:72363-1764356400-1764356400@a-desk.org
SUMMARY:"La sombra revelada"
DESCRIPTION:
URL:https://a-desk.org/en/agenda/la-sombra-revelada/
LOCATION:Centre Cívic Guinardó\, Ronda del Guinardó\, 113\,\, Barcelona\, Barcelona\, 08041\, España
CATEGORIES:Teatre
END:VEVENT
BEGIN:VEVENT
DTSTART;TZID=Europe/Madrid:20251128T193000
DTEND;TZID=Europe/Madrid:20251128T193000
DTSTAMP:20260426T031122
CREATED:20251120T172446Z
LAST-MODIFIED:20251120T182339Z
UID:72183-1764358200-1764358200@a-desk.org
SUMMARY:"Лeший (Leshi)" D’ATRESBANDES
DESCRIPTION:
URL:https://a-desk.org/en/agenda/%d0%bbe%d1%88%d0%b8%d0%b9-leshi/
LOCATION:Fundació Joan Brossa\, C/ Flassaders\, 40\, 08003 Barcelona mapa\, Barcelona\, Barcelona\, 08003\, Spain
CATEGORIES:Espectacle
END:VEVENT
END:VCALENDAR