BEGIN:VCALENDAR
VERSION:2.0
PRODID:-//A*Desk - ECPv6.8.1//NONSGML v1.0//EN
CALSCALE:GREGORIAN
METHOD:PUBLISH
X-WR-CALNAME:A*Desk
X-ORIGINAL-URL:https://a-desk.org/en/
X-WR-CALDESC:Events for A*Desk
REFRESH-INTERVAL;VALUE=DURATION:PT1H
X-Robots-Tag:noindex
X-PUBLISHED-TTL:PT1H
BEGIN:VTIMEZONE
TZID:Europe/Madrid
BEGIN:DAYLIGHT
TZOFFSETFROM:+0100
TZOFFSETTO:+0200
TZNAME:CEST
DTSTART:20250330T010000
END:DAYLIGHT
BEGIN:STANDARD
TZOFFSETFROM:+0200
TZOFFSETTO:+0100
TZNAME:CET
DTSTART:20251026T010000
END:STANDARD
BEGIN:DAYLIGHT
TZOFFSETFROM:+0100
TZOFFSETTO:+0200
TZNAME:CEST
DTSTART:20260329T010000
END:DAYLIGHT
BEGIN:STANDARD
TZOFFSETFROM:+0200
TZOFFSETTO:+0100
TZNAME:CET
DTSTART:20261025T010000
END:STANDARD
END:VTIMEZONE
BEGIN:VEVENT
DTSTART;VALUE=DATE:20250920
DTEND;VALUE=DATE:20251224
DTSTAMP:20260425T200617
CREATED:20251019T204525Z
LAST-MODIFIED:20251019T204525Z
UID:71261-1758326400-1766534399@a-desk.org
SUMMARY:"Festival Sâlmon 2025"
DESCRIPTION:
URL:https://a-desk.org/en/agenda/festival-salmon-2025/
LOCATION:Barcelona
CATEGORIES:Festival
END:VEVENT
BEGIN:VEVENT
DTSTART;VALUE=DATE:20251010
DTEND;VALUE=DATE:20251208
DTSTAMP:20260425T200617
CREATED:20251007T172633Z
LAST-MODIFIED:20251007T172633Z
UID:70847-1760054400-1765151999@a-desk.org
SUMMARY:"SCAN Tarragona 2025 | AQUA"
DESCRIPTION:
URL:https://a-desk.org/en/agenda/scan-tarragona-2025-aqua/
LOCATION:Barcelona
CATEGORIES:Festival
END:VEVENT
BEGIN:VEVENT
DTSTART;VALUE=DATE:20251010
DTEND;VALUE=DATE:20251221
DTSTAMP:20260425T200617
CREATED:20251001T092954Z
LAST-MODIFIED:20251001T092954Z
UID:70674-1760054400-1766275199@a-desk.org
SUMMARY:"Circuit Escena"
DESCRIPTION:
URL:https://a-desk.org/en/agenda/circuit-escena/
LOCATION:Barcelona
CATEGORIES:Arts en viu,Arts escèniques,Circuit
END:VEVENT
BEGIN:VEVENT
DTSTART;VALUE=DATE:20251016
DTEND;VALUE=DATE:20251229
DTSTAMP:20260425T200617
CREATED:20250831T103303Z
LAST-MODIFIED:20250831T103303Z
UID:69863-1760572800-1766966399@a-desk.org
SUMMARY:"Festival Panoràmic"
DESCRIPTION:
URL:https://a-desk.org/en/agenda/festival-panoramic/
LOCATION:Barcelona
CATEGORIES:Festival
END:VEVENT
BEGIN:VEVENT
DTSTART;VALUE=DATE:20251107
DTEND;VALUE=DATE:20251215
DTSTAMP:20260425T200617
CREATED:20251031T181448Z
LAST-MODIFIED:20251031T181448Z
UID:71619-1762473600-1765756799@a-desk.org
SUMMARY:"World Press Photo 2025"
DESCRIPTION:
URL:https://a-desk.org/en/agenda/world-press-photo-2025/
LOCATION:CCCB\, C/ Montalegre\, 5\, 08001 Barcelona mapa\, Barcelona\, Barcelona\, 08001\, Spain
CATEGORIES:Exposició
END:VEVENT
BEGIN:VEVENT
DTSTART;VALUE=DATE:20251109
DTEND;VALUE=DATE:20260116
DTSTAMP:20260425T200617
CREATED:20251109T190748Z
LAST-MODIFIED:20251109T190748Z
UID:71898-1762646400-1768521599@a-desk.org
SUMMARY:"Unseen narratives open call"
DESCRIPTION:
URL:https://a-desk.org/en/agenda/unseen-narratives-open-call/
LOCATION:Barcelona
CATEGORIES:Convocatòria
END:VEVENT
BEGIN:VEVENT
DTSTART;TZID=Europe/Madrid:20251201T180000
DTEND;TZID=Europe/Madrid:20251205T180000
DTSTAMP:20260425T200617
CREATED:20251201T223651Z
LAST-MODIFIED:20251201T223651Z
UID:72547-1764612000-1764957600@a-desk.org
SUMMARY:"Biofonies: Escolta Interespècies: Arquea Colectiu i Felicity Mangan | einXs Pro"
DESCRIPTION:
URL:https://a-desk.org/en/agenda/biofonies-escolta-interespecies-arquea-colectiu-i-felicity-mangan-einxs-pro/
LOCATION:Hangar\, C/ Emilia Coranty\, 16\, 08018 Barcelona mapa\, Barcelona\, Barcelona\, 08018\, Spain
CATEGORIES:Cicle,Workshop
END:VEVENT
BEGIN:VEVENT
DTSTART;VALUE=DATE:20251203
DTEND;VALUE=DATE:20251216
DTSTAMP:20260425T200617
CREATED:20251207T181647Z
LAST-MODIFIED:20251207T181647Z
UID:72760-1764720000-1765843199@a-desk.org
SUMMARY:"Festival Inclús 2025"
DESCRIPTION:
URL:https://a-desk.org/en/agenda/festival-inclus-2025/
LOCATION:CaixaForum Barcelona\, Av. Francesc Ferrer i Guàrdia\, 6-8\, Barcelona\, Barcelona\, 08038\, España
CATEGORIES:Festival
END:VEVENT
BEGIN:VEVENT
DTSTART;VALUE=DATE:20251203
DTEND;VALUE=DATE:20260122
DTSTAMP:20260425T200617
CREATED:20251201T221422Z
LAST-MODIFIED:20251201T221422Z
UID:72521-1764720000-1769039999@a-desk.org
SUMMARY:"Cicle de cinema: Àfrica contraataca"
DESCRIPTION:
URL:https://a-desk.org/en/agenda/cicle-de-cinema-africa-contraataca/
LOCATION:Filmoteca\, Plaça de Salvador Seguí\, 1\, 08001 Barcelona mapa\, Barcelona\, Barcelona\, 08001\, Spain
CATEGORIES:Cicle,Cinema
END:VEVENT
BEGIN:VEVENT
DTSTART;TZID=Europe/Madrid:20251203T100000
DTEND;TZID=Europe/Madrid:20251203T200000
DTSTAMP:20260425T200617
CREATED:20251125T163833Z
LAST-MODIFIED:20251125T163833Z
UID:72376-1764756000-1764792000@a-desk.org
SUMMARY:"[Rec]ords. La vida a través del cinema domèstic"
DESCRIPTION:
URL:https://a-desk.org/en/agenda/records-la-vida-a-traves-del-cinema-domestic/
LOCATION:CaixaForum Barcelona\, Av. Francesc Ferrer i Guàrdia\, 6-8\, Barcelona\, Barcelona\, 08038\, España
CATEGORIES:Inauguració/Exposició
END:VEVENT
BEGIN:VEVENT
DTSTART;TZID=Europe/Madrid:20251203T180000
DTEND;TZID=Europe/Madrid:20251203T180000
DTSTAMP:20260425T200617
CREATED:20251201T221902Z
LAST-MODIFIED:20251201T221902Z
UID:72525-1764784800-1764784800@a-desk.org
SUMMARY:"MORTALS+" Albert Potrony\, Roser Sanjuán
DESCRIPTION:
URL:https://a-desk.org/en/agenda/mortals-albert-potrony-roser-sanjuan/
LOCATION:Fundación Suñol\, C/ Mejía Lequerica\, 14\, 08028 Barcelona mapa\, Barcelona\, Barcelona\, 08028\, Spain
CATEGORIES:Inauguració/Exposició
END:VEVENT
BEGIN:VEVENT
DTSTART;TZID=Europe/Madrid:20251203T180000
DTEND;TZID=Europe/Madrid:20251203T180000
DTSTAMP:20260425T200617
CREATED:20251201T222940Z
LAST-MODIFIED:20251201T222940Z
UID:72537-1764784800-1764784800@a-desk.org
SUMMARY:Simposi internacional "Imatges primitives\, somnis moderns: Tàpies i la cultura visual de postguerra"
DESCRIPTION:
URL:https://a-desk.org/en/agenda/simposi-internacional-imatges-primitives-somnis-moderns-tapies-i-la-cultura-visual-de-postguerra/
LOCATION:Museu Tàpies\, C/ Aragó\, 255\, 08007 Barcelona mapa\, Barcelona\, Barcelona\, 08007
CATEGORIES:Simposi
END:VEVENT
BEGIN:VEVENT
DTSTART;TZID=Europe/Madrid:20251203T180000
DTEND;TZID=Europe/Madrid:20251203T190000
DTSTAMP:20260425T200617
CREATED:20251201T221716Z
LAST-MODIFIED:20251201T221716Z
UID:72523-1764784800-1764788400@a-desk.org
SUMMARY:Visita guiada: "Col·lisió extrema" Jean-Marie Téno\, Beatriz Leal-Riesco
DESCRIPTION:
URL:https://a-desk.org/en/agenda/visita-guiada-col%c2%b7lisio-extrema-jean-marie-teno-beatriz-leal-riesco/
LOCATION:Filmoteca\, Plaça de Salvador Seguí\, 1\, 08001 Barcelona mapa\, Barcelona\, Barcelona\, 08001\, Spain
CATEGORIES:Guided tour
END:VEVENT
BEGIN:VEVENT
DTSTART;TZID=Europe/Madrid:20251203T180000
DTEND;TZID=Europe/Madrid:20251203T210000
DTSTAMP:20260425T200617
CREATED:20251125T163002Z
LAST-MODIFIED:20251125T163002Z
UID:72365-1764784800-1764795600@a-desk.org
SUMMARY:"La Màquina i el Fantasma" Oriol Arnedo
DESCRIPTION:
URL:https://a-desk.org/en/agenda/la-maquina-i-el-fantasma-oriol-arnedo/
LOCATION:Homesession\, C/ Creu dels Molers\, 15\, 08004 Barcelona mapa\, Barcelona\, Barcelona\, 08004\, Spain
CATEGORIES:Inauguració/Exposició
END:VEVENT
BEGIN:VEVENT
DTSTART;TZID=Europe/Madrid:20251203T183000
DTEND;TZID=Europe/Madrid:20251203T183000
DTSTAMP:20260425T200617
CREATED:20251125T163322Z
LAST-MODIFIED:20251125T163322Z
UID:72368-1764786600-1764786600@a-desk.org
SUMMARY:"Artists only" Koenraad Dedobbeleer\, Marc Nagtzaam
DESCRIPTION:
URL:https://a-desk.org/en/agenda/artists-only-koenraad-dedobbeleer-marc-nagtzaam/
LOCATION:Souvenir\, Travessia de Sant Antoni\, 27\, 08012 Barcelona mapa\, Barcelona\, Barcelona\, 08012\, Spain
CATEGORIES:Inauguració/Exposició
END:VEVENT
BEGIN:VEVENT
DTSTART;TZID=Europe/Madrid:20251203T190000
DTEND;TZID=Europe/Madrid:20251203T190000
DTSTAMP:20260425T200617
CREATED:20251120T170853Z
LAST-MODIFIED:20251125T163046Z
UID:72177-1764788400-1764788400@a-desk.org
SUMMARY:"Història futura. Un llegat desconegut de la resistència etíop" Wendimagegn Belete i Saiba Bayo
DESCRIPTION:
URL:https://a-desk.org/en/agenda/historia-futura-un-llegat-desconegut-de-la-resistencia-etiop-wendimagegn-belete-i-saiba-bayo/
LOCATION:MACBA\, Plaça dels Àngels\, 1\, 08001 Barcelona mapa\, Barcelona\, Barcelona\, 08001\, Spain
CATEGORIES:Conversa
END:VEVENT
BEGIN:VEVENT
DTSTART;TZID=Europe/Madrid:20251203T190000
DTEND;TZID=Europe/Madrid:20251203T190000
DTSTAMP:20260425T200617
CREATED:20251124T155402Z
LAST-MODIFIED:20251124T155402Z
UID:72298-1764788400-1764788400@a-desk.org
SUMMARY:"Dona’m notícies teves. Hannah Arendt i Günther Anders"
DESCRIPTION:
URL:https://a-desk.org/en/agenda/donam-noticies-teves-hannah-arendt-i-gunther-anders/
LOCATION:Goethe Institut\, C/ de Roger de Flor 224\, Barcelona\, Barcelona\, 08025\, España
CATEGORIES:Presentació de llibre
END:VEVENT
BEGIN:VEVENT
DTSTART;TZID=Europe/Madrid:20251203T190000
DTEND;TZID=Europe/Madrid:20251203T190000
DTSTAMP:20260425T200617
CREATED:20251129T113944Z
LAST-MODIFIED:20251129T113944Z
UID:72432-1764788400-1764788400@a-desk.org
SUMMARY:"Futuro ancestral" Yásnaya Snaya\, Elena A. Gilm David Yubraham Sánechez
DESCRIPTION:
URL:https://a-desk.org/en/agenda/futuro-ancestral-yasnaya-snaya-elena-a-gilm-david-yubraham-sanechez/
LOCATION:Libreria La Caníbal\, C/ Nàpols\, 314\, 08025 Barcelona mapa\, Barcelona\, Barcelona\, 08044\, Spain
CATEGORIES:Presentació de llibre
END:VEVENT
BEGIN:VEVENT
DTSTART;TZID=Europe/Madrid:20251203T190000
DTEND;TZID=Europe/Madrid:20251203T190000
DTSTAMP:20260425T200617
CREATED:20251129T114738Z
LAST-MODIFIED:20251129T114738Z
UID:72440-1764788400-1764788400@a-desk.org
SUMMARY:"Fotando en litio" Marina Otero Verzier
DESCRIPTION:
URL:https://a-desk.org/en/agenda/fotando-en-litio-marina-otero-verzier/
LOCATION:Llibreria Finestres\, C/ Diputació\, 249\, 08007 Barcelona mapa\, Barcelona\, Barcelona\, 08007\, Spain
CATEGORIES:Presentació de llibre
END:VEVENT
BEGIN:VEVENT
DTSTART;TZID=Europe/Madrid:20251203T190000
DTEND;TZID=Europe/Madrid:20251203T203000
DTSTAMP:20260425T200617
CREATED:20251201T222247Z
LAST-MODIFIED:20251201T222247Z
UID:72531-1764788400-1764793800@a-desk.org
SUMMARY:Visita guiada: "To the wind" Mar Reykjavik
DESCRIPTION:
URL:https://a-desk.org/en/agenda/visita-guiada-to-the-wind-mar-reykjavik/
LOCATION:La Casa Elizalde\, C/ València\, 302\, 08009 Barcelona mapa\, Barcelona\, Barcelona\, 08009\, Spain
CATEGORIES:Guided tour
END:VEVENT
END:VCALENDAR