BEGIN:VCALENDAR
VERSION:2.0
PRODID:-//A*Desk - ECPv6.8.1//NONSGML v1.0//EN
CALSCALE:GREGORIAN
METHOD:PUBLISH
X-WR-CALNAME:A*Desk
X-ORIGINAL-URL:https://a-desk.org/en/
X-WR-CALDESC:Events for A*Desk
REFRESH-INTERVAL;VALUE=DURATION:PT1H
X-Robots-Tag:noindex
X-PUBLISHED-TTL:PT1H
BEGIN:VTIMEZONE
TZID:Europe/Madrid
BEGIN:DAYLIGHT
TZOFFSETFROM:+0100
TZOFFSETTO:+0200
TZNAME:CEST
DTSTART:20250330T010000
END:DAYLIGHT
BEGIN:STANDARD
TZOFFSETFROM:+0200
TZOFFSETTO:+0100
TZNAME:CET
DTSTART:20251026T010000
END:STANDARD
BEGIN:DAYLIGHT
TZOFFSETFROM:+0100
TZOFFSETTO:+0200
TZNAME:CEST
DTSTART:20260329T010000
END:DAYLIGHT
BEGIN:STANDARD
TZOFFSETFROM:+0200
TZOFFSETTO:+0100
TZNAME:CET
DTSTART:20261025T010000
END:STANDARD
END:VTIMEZONE
BEGIN:VEVENT
DTSTART;VALUE=DATE:20250920
DTEND;VALUE=DATE:20251224
DTSTAMP:20260425T023009
CREATED:20251019T204525Z
LAST-MODIFIED:20251019T204525Z
UID:71261-1758326400-1766534399@a-desk.org
SUMMARY:"Festival Sâlmon 2025"
DESCRIPTION:
URL:https://a-desk.org/en/agenda/festival-salmon-2025/
LOCATION:Barcelona
CATEGORIES:Festival
END:VEVENT
BEGIN:VEVENT
DTSTART;VALUE=DATE:20251010
DTEND;VALUE=DATE:20251221
DTSTAMP:20260425T023009
CREATED:20251001T092954Z
LAST-MODIFIED:20251001T092954Z
UID:70674-1760054400-1766275199@a-desk.org
SUMMARY:"Circuit Escena"
DESCRIPTION:
URL:https://a-desk.org/en/agenda/circuit-escena/
LOCATION:Barcelona
CATEGORIES:Arts en viu,Arts escèniques,Circuit
END:VEVENT
BEGIN:VEVENT
DTSTART;VALUE=DATE:20251016
DTEND;VALUE=DATE:20251229
DTSTAMP:20260425T023009
CREATED:20250831T103303Z
LAST-MODIFIED:20250831T103303Z
UID:69863-1760572800-1766966399@a-desk.org
SUMMARY:"Festival Panoràmic"
DESCRIPTION:
URL:https://a-desk.org/en/agenda/festival-panoramic/
LOCATION:Barcelona
CATEGORIES:Festival
END:VEVENT
BEGIN:VEVENT
DTSTART;VALUE=DATE:20251109
DTEND;VALUE=DATE:20260116
DTSTAMP:20260425T023009
CREATED:20251109T190748Z
LAST-MODIFIED:20251109T190748Z
UID:71898-1762646400-1768521599@a-desk.org
SUMMARY:"Unseen narratives open call"
DESCRIPTION:
URL:https://a-desk.org/en/agenda/unseen-narratives-open-call/
LOCATION:Barcelona
CATEGORIES:Convocatòria
END:VEVENT
BEGIN:VEVENT
DTSTART;VALUE=DATE:20251203
DTEND;VALUE=DATE:20260122
DTSTAMP:20260425T023009
CREATED:20251201T221422Z
LAST-MODIFIED:20251201T221422Z
UID:72521-1764720000-1769039999@a-desk.org
SUMMARY:"Cicle de cinema: Àfrica contraataca"
DESCRIPTION:
URL:https://a-desk.org/en/agenda/cicle-de-cinema-africa-contraataca/
LOCATION:Filmoteca\, Plaça de Salvador Seguí\, 1\, 08001 Barcelona mapa\, Barcelona\, Barcelona\, 08001\, Spain
CATEGORIES:Cicle,Cinema
END:VEVENT
BEGIN:VEVENT
DTSTART;TZID=Europe/Madrid:20251216T160000
DTEND;TZID=Europe/Madrid:20251216T160000
DTSTAMP:20260425T023009
CREATED:20251209T202553Z
LAST-MODIFIED:20251209T202553Z
UID:72795-1765900800-1765900800@a-desk.org
SUMMARY:"Cafè i tertúlia: [REC]ORDS"
DESCRIPTION:
URL:https://a-desk.org/en/agenda/cafe-i-tertulia-records/
LOCATION:CaixaForum Barcelona\, Av. Francesc Ferrer i Guàrdia\, 6-8\, Barcelona\, Barcelona\, 08038\, España
CATEGORIES:Guided tour
END:VEVENT
BEGIN:VEVENT
DTSTART;TZID=Europe/Madrid:20251216T190000
DTEND;TZID=Europe/Madrid:20251216T190000
DTSTAMP:20260425T023009
CREATED:20251207T180624Z
LAST-MODIFIED:20251207T180624Z
UID:72750-1765911600-1765911600@a-desk.org
SUMMARY:"Casa Calores" Pere Riera
DESCRIPTION:
URL:https://a-desk.org/en/agenda/casa-calores-pere-riera-3/
LOCATION:Sala Beckett\, C/ Pere IV\, 228\, 232\, 08005 Barcelona mapa\, Barcelona\, Barcelona\, 08005\, Spain
CATEGORIES:Espectacle
END:VEVENT
BEGIN:VEVENT
DTSTART;TZID=Europe/Madrid:20251216T190000
DTEND;TZID=Europe/Madrid:20251216T190000
DTSTAMP:20260425T023009
CREATED:20251214T170117Z
LAST-MODIFIED:20251214T170117Z
UID:72921-1765911600-1765911600@a-desk.org
SUMMARY:"Mr. Nobody Against Putin"
DESCRIPTION:
URL:https://a-desk.org/en/agenda/mr-nobody-against-putin/
LOCATION:La Casa Elizalde\, C/ València\, 302\, 08009 Barcelona mapa\, Barcelona\, Barcelona\, 08009\, Spain
CATEGORIES:Projecció
END:VEVENT
BEGIN:VEVENT
DTSTART;TZID=Europe/Madrid:20251216T190000
DTEND;TZID=Europe/Madrid:20251216T190000
DTSTAMP:20260425T023009
CREATED:20251214T172201Z
LAST-MODIFIED:20251214T172201Z
UID:72955-1765911600-1765911600@a-desk.org
SUMMARY:"100 gramos de oro puro" Teresa Estapé
DESCRIPTION:
URL:https://a-desk.org/en/agenda/100-gramos-de-oro-puro-teresa-estape/
LOCATION:Chiquita Room\, C/ Villarroel\, 25\, 08011 Barcelona mapa\, Barcelona\, Barcelona\, 08011\, Spain
CATEGORIES:Presentació
END:VEVENT
BEGIN:VEVENT
DTSTART;TZID=Europe/Madrid:20251216T190000
DTEND;TZID=Europe/Madrid:20251216T190000
DTSTAMP:20260425T023009
CREATED:20251214T172306Z
LAST-MODIFIED:20251214T172306Z
UID:72957-1765911600-1765911600@a-desk.org
SUMMARY:"Jornades entorn d'Enrique Lynch. Amb Gonzalo Torné\, Santiago Gerchunoff\, Ángela Molina Climent\, Carlos Revetria Yannuzzi\, Sira Abenoza"
DESCRIPTION:
URL:https://a-desk.org/en/agenda/jornades-entorn-denrique-lynch-amb-gonzalo-torne-santiago-gerchunoff-angela-molina-climent-carlos-revetria-yannuzzi-sira-abenoza/
LOCATION:La Virreina\, La Rambla\, 99\, 08002 Barcelona mapa\, Barcelona\, Barcelona\, 08002\, Spain
CATEGORIES:Jornada
END:VEVENT
BEGIN:VEVENT
DTSTART;TZID=Europe/Madrid:20251216T193000
DTEND;TZID=Europe/Madrid:20251216T213000
DTSTAMP:20260425T023009
CREATED:20251207T175342Z
LAST-MODIFIED:20251207T175354Z
UID:72740-1765913400-1765920600@a-desk.org
SUMMARY:"Arxius en disputa. Dues generacions\, dues mirades" Abigail Galindo Soto i Dany Barrientos Ramírez
DESCRIPTION:
URL:https://a-desk.org/en/agenda/arxius-en-disputa-dues-generacions-dues-mirades-abigail-galindo-soto-i-dany-barrientos-ramirez/
LOCATION:MACBA\, Plaça dels Àngels\, 1\, 08001 Barcelona mapa\, Barcelona\, Barcelona\, 08001\, Spain
CATEGORIES:Conference
END:VEVENT
BEGIN:VEVENT
DTSTART;TZID=Europe/Madrid:20251216T200000
DTEND;TZID=Europe/Madrid:20251216T200000
DTSTAMP:20260425T023009
CREATED:20251201T220313Z
LAST-MODIFIED:20251201T220313Z
UID:72506-1765915200-1765915200@a-desk.org
SUMMARY:"Un crit pels infants de Gaza lectura solidària per Palestina" Txell Feixas Torras i Cristina Mas Andreu\, Alícia Gorina
DESCRIPTION:
URL:https://a-desk.org/en/agenda/un-crit-pels-infants-de-gaza-lectura-solidaria-per-palestina-txell-feixas-torras-i-cristina-mas-andreu-alicia-gorina/
LOCATION:Teatre Lliure-Gràcia\, C. del Montseny\, 47\, Barcelona\, Barcelona\, 08012\, España
CATEGORIES:Lectura
END:VEVENT
END:VCALENDAR