BEGIN:VCALENDAR
VERSION:2.0
PRODID:-//A*Desk - ECPv6.8.1//NONSGML v1.0//EN
CALSCALE:GREGORIAN
METHOD:PUBLISH
X-ORIGINAL-URL:https://a-desk.org/en/
X-WR-CALDESC:Events for A*Desk
REFRESH-INTERVAL;VALUE=DURATION:PT1H
X-Robots-Tag:noindex
X-PUBLISHED-TTL:PT1H
BEGIN:VTIMEZONE
TZID:Europe/Madrid
BEGIN:DAYLIGHT
TZOFFSETFROM:+0100
TZOFFSETTO:+0200
TZNAME:CEST
DTSTART:20250330T010000
END:DAYLIGHT
BEGIN:STANDARD
TZOFFSETFROM:+0200
TZOFFSETTO:+0100
TZNAME:CET
DTSTART:20251026T010000
END:STANDARD
BEGIN:DAYLIGHT
TZOFFSETFROM:+0100
TZOFFSETTO:+0200
TZNAME:CEST
DTSTART:20260329T010000
END:DAYLIGHT
BEGIN:STANDARD
TZOFFSETFROM:+0200
TZOFFSETTO:+0100
TZNAME:CET
DTSTART:20261025T010000
END:STANDARD
END:VTIMEZONE
BEGIN:VEVENT
DTSTART;VALUE=DATE:20250920
DTEND;VALUE=DATE:20251224
DTSTAMP:20260424T212736
CREATED:20251019T204525Z
LAST-MODIFIED:20251019T204525Z
UID:71261-1758326400-1766534399@a-desk.org
SUMMARY:"Festival Sâlmon 2025"
DESCRIPTION:
URL:https://a-desk.org/en/agenda/festival-salmon-2025/
LOCATION:Barcelona
CATEGORIES:Festival
END:VEVENT
BEGIN:VEVENT
DTSTART;VALUE=DATE:20251010
DTEND;VALUE=DATE:20251221
DTSTAMP:20260424T212736
CREATED:20251001T092954Z
LAST-MODIFIED:20251001T092954Z
UID:70674-1760054400-1766275199@a-desk.org
SUMMARY:"Circuit Escena"
DESCRIPTION:
URL:https://a-desk.org/en/agenda/circuit-escena/
LOCATION:Barcelona
CATEGORIES:Arts en viu,Arts escèniques,Circuit
END:VEVENT
BEGIN:VEVENT
DTSTART;VALUE=DATE:20251016
DTEND;VALUE=DATE:20251229
DTSTAMP:20260424T212736
CREATED:20250831T103303Z
LAST-MODIFIED:20250831T103303Z
UID:69863-1760572800-1766966399@a-desk.org
SUMMARY:"Festival Panoràmic"
DESCRIPTION:
URL:https://a-desk.org/en/agenda/festival-panoramic/
LOCATION:Barcelona
CATEGORIES:Festival
END:VEVENT
BEGIN:VEVENT
DTSTART;VALUE=DATE:20251109
DTEND;VALUE=DATE:20260116
DTSTAMP:20260424T212736
CREATED:20251109T190748Z
LAST-MODIFIED:20251109T190748Z
UID:71898-1762646400-1768521599@a-desk.org
SUMMARY:"Unseen narratives open call"
DESCRIPTION:
URL:https://a-desk.org/en/agenda/unseen-narratives-open-call/
LOCATION:Barcelona
CATEGORIES:Convocatòria
END:VEVENT
BEGIN:VEVENT
DTSTART;VALUE=DATE:20251203
DTEND;VALUE=DATE:20260122
DTSTAMP:20260424T212736
CREATED:20251201T221422Z
LAST-MODIFIED:20251201T221422Z
UID:72521-1764720000-1769039999@a-desk.org
SUMMARY:"Cicle de cinema: Àfrica contraataca"
DESCRIPTION:
URL:https://a-desk.org/en/agenda/cicle-de-cinema-africa-contraataca/
LOCATION:Filmoteca\, Plaça de Salvador Seguí\, 1\, 08001 Barcelona mapa\, Barcelona\, Barcelona\, 08001\, Spain
CATEGORIES:Cicle,Cinema
END:VEVENT
BEGIN:VEVENT
DTSTART;TZID=Europe/Madrid:20251220T110000
DTEND;TZID=Europe/Madrid:20251220T140000
DTSTAMP:20260424T212736
CREATED:20251201T215932Z
LAST-MODIFIED:20251201T215932Z
UID:72502-1766228400-1766239200@a-desk.org
SUMMARY:"Solstici d'hivern a Cultural Rizoma"
DESCRIPTION:
URL:https://a-desk.org/en/agenda/solstici-dhivern-a-cultural-rizoma/
LOCATION:Cultural Rizoma\, Plaça de l'Església\, 8\, Celrà\, Girona\, 17460\, España
CATEGORIES:Festa
END:VEVENT
BEGIN:VEVENT
DTSTART;TZID=Europe/Madrid:20251220T120000
DTEND;TZID=Europe/Madrid:20251220T120000
DTSTAMP:20260424T212736
CREATED:20251214T163002Z
LAST-MODIFIED:20251214T163002Z
UID:72907-1766232000-1766232000@a-desk.org
SUMMARY:"F de Caputxins" Dani Montlleó
DESCRIPTION:
URL:https://a-desk.org/en/agenda/f-de-caputxins-dani-montlleo/
LOCATION:MAC Mataró\, Muralla de la Presó 2\, Mataró\, Barcelona\, 08302\, España
CATEGORIES:Inauguració/Exposició
END:VEVENT
BEGIN:VEVENT
DTSTART;TZID=Europe/Madrid:20251220T120000
DTEND;TZID=Europe/Madrid:20251220T140000
DTSTAMP:20260424T212736
CREATED:20251214T170712Z
LAST-MODIFIED:20251214T170712Z
UID:72937-1766232000-1766239200@a-desk.org
SUMMARY:"Diorama Campanyà" Helena Calafell
DESCRIPTION:
URL:https://a-desk.org/en/agenda/diorama-campanya-helena-calafell/
LOCATION:Art Sant Cugat\, Carrer Villà 68 08173 Sant Cugat del Vallès
CATEGORIES:Activitat,Performance
END:VEVENT
BEGIN:VEVENT
DTSTART;TZID=Europe/Madrid:20251220T120000
DTEND;TZID=Europe/Madrid:20260106T120000
DTSTAMP:20260424T212736
CREATED:20251128T182319Z
LAST-MODIFIED:20251128T182319Z
UID:72419-1766232000-1767700800@a-desk.org
SUMMARY:"Natura Centrum Est. Campament Oval" Marcel·lí Antúnez Roca
DESCRIPTION:
URL:https://a-desk.org/en/agenda/natura-centrum-est-campament-oval-marcel%c2%b7li-antunez-roca/
LOCATION:MNAC\, Palau Nacional\, Parc de Montjuïc\, s/n\, 08038 Barcelona mapa\, Barcelona\, Barcelona\, 08038\, Spain
CATEGORIES:Ruta
END:VEVENT
BEGIN:VEVENT
DTSTART;TZID=Europe/Madrid:20251220T153000
DTEND;TZID=Europe/Madrid:20251220T153000
DTSTAMP:20260424T212736
CREATED:20251214T170555Z
LAST-MODIFIED:20251214T170555Z
UID:72935-1766244600-1766244600@a-desk.org
SUMMARY:"Natura Centrum Est. Campament Oval" Marcel·lí Antúnez Roca
DESCRIPTION:
URL:https://a-desk.org/en/agenda/natura-centrum-est-campament-oval-marcel%c2%b7li-antunez-roca-2/
LOCATION:MNAC\, Palau Nacional\, Parc de Montjuïc\, s/n\, 08038 Barcelona mapa\, Barcelona\, Barcelona\, 08038\, Spain
CATEGORIES:Inauguració/Exposició
END:VEVENT
BEGIN:VEVENT
DTSTART;TZID=Europe/Madrid:20251220T200000
DTEND;TZID=Europe/Madrid:20251220T200000
DTSTAMP:20260424T212736
CREATED:20251128T182855Z
LAST-MODIFIED:20251128T182855Z
UID:72425-1766260800-1766260800@a-desk.org
SUMMARY:"CCC#112: La Vía Láctea"
DESCRIPTION:
URL:https://a-desk.org/en/agenda/ccc112-la-via-lactea/
LOCATION:La Caldera\, C/ Eugeni d’Ors\, 12\, 08028 Barcelona mapa\, Barcelona\, Barcelona\, 08028\, Spain
CATEGORIES:Mostra
END:VEVENT
END:VCALENDAR