BEGIN:VCALENDAR
VERSION:2.0
PRODID:-//A*Desk - ECPv6.8.1//NONSGML v1.0//EN
CALSCALE:GREGORIAN
METHOD:PUBLISH
X-WR-CALNAME:A*Desk
X-ORIGINAL-URL:https://a-desk.org/en/
X-WR-CALDESC:Events for A*Desk
REFRESH-INTERVAL;VALUE=DURATION:PT1H
X-Robots-Tag:noindex
X-PUBLISHED-TTL:PT1H
BEGIN:VTIMEZONE
TZID:Europe/Madrid
BEGIN:DAYLIGHT
TZOFFSETFROM:+0100
TZOFFSETTO:+0200
TZNAME:CEST
DTSTART:20260329T010000
END:DAYLIGHT
BEGIN:STANDARD
TZOFFSETFROM:+0200
TZOFFSETTO:+0100
TZNAME:CET
DTSTART:20261025T010000
END:STANDARD
END:VTIMEZONE
BEGIN:VEVENT
DTSTART;TZID=Europe/Madrid:20260122T180000
DTEND;TZID=Europe/Madrid:20260122T180000
DTSTAMP:20260423T013931
CREATED:20260118T195200Z
LAST-MODIFIED:20260118T195200Z
UID:73664-1769104800-1769104800@a-desk.org
SUMMARY:"El camí de la sal"
DESCRIPTION:
URL:https://a-desk.org/en/agenda/el-cami-de-la-sal/
LOCATION:Espai Texas\, C/ de Bailèn\, 205\, Gràcia\, Barcelona\, Barcelona\, 08037\, España
CATEGORIES:Cinema
END:VEVENT
BEGIN:VEVENT
DTSTART;TZID=Europe/Madrid:20260122T180000
DTEND;TZID=Europe/Madrid:20260122T210000
DTSTAMP:20260423T013931
CREATED:20251226T191926Z
LAST-MODIFIED:20251226T191926Z
UID:73198-1769104800-1769115600@a-desk.org
SUMMARY:"El consultori: Valentina Alvarado Mato\, Marco Noris i Stella Rahola Matutes"
DESCRIPTION:
URL:https://a-desk.org/en/agenda/el-consultori-valentina-alvarado-mato-marco-noris-i-stella-rahola-matutes/
LOCATION:La Escocesa\, C/ Pere IV\, 345\, 08020 Barcelona mapa\, Barcelona\, Barcelona\, 08020\, Spain
CATEGORIES:Trobada
END:VEVENT
BEGIN:VEVENT
DTSTART;TZID=Europe/Madrid:20260122T180000
DTEND;TZID=Europe/Madrid:20260122T210000
DTSTAMP:20260423T013931
CREATED:20260118T195449Z
LAST-MODIFIED:20260118T195449Z
UID:73666-1769104800-1769115600@a-desk.org
SUMMARY:"Entreversos" Yucef Merhi + “New Kids on the World” AGGTELEK
DESCRIPTION:
URL:https://a-desk.org/en/agenda/entreversos-yucef-merhi-new-kids-on-the-world-aggtelek/
LOCATION:SELTZ by Ritter Ferrer\, Carrer de Balmes\, 54\, L'Eixample\, 08007 Barcelona
CATEGORIES:Inauguració/Exposició
END:VEVENT
BEGIN:VEVENT
DTSTART;TZID=Europe/Madrid:20260122T190000
DTEND;TZID=Europe/Madrid:20260122T190000
DTSTAMP:20260423T013931
CREATED:20260104T103453Z
LAST-MODIFIED:20260104T103453Z
UID:73319-1769108400-1769108400@a-desk.org
SUMMARY:"It Was Just an Accident" Jafar Panahi
DESCRIPTION:
URL:https://a-desk.org/en/agenda/it-was-just-an-accident-jafar-panahi-2/
LOCATION:Cinema Truffaut\, Carrer Nou del Teatre\, 16\, 17004 Girona
CATEGORIES:Cinema
END:VEVENT
BEGIN:VEVENT
DTSTART;TZID=Europe/Madrid:20260122T190000
DTEND;TZID=Europe/Madrid:20260122T190000
DTSTAMP:20260423T013931
CREATED:20260118T191102Z
LAST-MODIFIED:20260118T191102Z
UID:73639-1769108400-1769108400@a-desk.org
SUMMARY:"Orgia" Cia Miquel Barcelona
DESCRIPTION:
URL:https://a-desk.org/en/agenda/orgia-cia-miquel-barcelona/
LOCATION:Mercat de les Flors\, C/ Lleida\, 59\, 08004 Barcelona mapa\, Barcelona\, Barcelona\, 08004\, Spain
CATEGORIES:Espectacle
END:VEVENT
BEGIN:VEVENT
DTSTART;TZID=Europe/Madrid:20260122T190000
DTEND;TZID=Europe/Madrid:20260122T210000
DTSTAMP:20260423T013931
CREATED:20251226T191618Z
LAST-MODIFIED:20251226T191618Z
UID:73194-1769108400-1769115600@a-desk.org
SUMMARY:"It Was Just an Accident" Jafar Panahi
DESCRIPTION:
URL:https://a-desk.org/en/agenda/it-was-just-an-accident-jafar-panahi/
LOCATION:Cinema Truffaut\, Carrer Nou del Teatre\, 16\, 17004 Girona
CATEGORIES:Projecció
END:VEVENT
BEGIN:VEVENT
DTSTART;TZID=Europe/Madrid:20260122T190000
DTEND;TZID=Europe/Madrid:20260122T210000
DTSTAMP:20260423T013931
CREATED:20251226T191732Z
LAST-MODIFIED:20251226T191732Z
UID:73196-1769108400-1769115600@a-desk.org
SUMMARY:"De esta carne nacerán flores" DU-DA
DESCRIPTION:
URL:https://a-desk.org/en/agenda/de-esta-carne-naceran-flores-du-da-2/
LOCATION:La Casa Elizalde\, C/ València\, 302\, 08009 Barcelona mapa\, Barcelona\, Barcelona\, 08009\, Spain
CATEGORIES:Inauguració/Exposició
END:VEVENT
BEGIN:VEVENT
DTSTART;TZID=Europe/Madrid:20260122T200000
DTEND;TZID=Europe/Madrid:20260122T200000
DTSTAMP:20260423T013931
CREATED:20251226T191449Z
LAST-MODIFIED:20251226T191449Z
UID:73192-1769112000-1769112000@a-desk.org
SUMMARY:"F.U.M" Clàudia Mirambell
DESCRIPTION:
URL:https://a-desk.org/en/agenda/f-u-m-claudia-mirambell-2/
LOCATION:Antic Teatre\, C/ Verdaguer i Callís\, 12\, Barcelona\, Barcelona\, 08003\, España
CATEGORIES:Dansa
END:VEVENT
END:VCALENDAR