BEGIN:VCALENDAR
VERSION:2.0
PRODID:-//A*Desk - ECPv6.8.1//NONSGML v1.0//EN
CALSCALE:GREGORIAN
METHOD:PUBLISH
X-ORIGINAL-URL:https://a-desk.org/en/
X-WR-CALDESC:Events for A*Desk
REFRESH-INTERVAL;VALUE=DURATION:PT1H
X-Robots-Tag:noindex
X-PUBLISHED-TTL:PT1H
BEGIN:VTIMEZONE
TZID:Europe/Madrid
BEGIN:DAYLIGHT
TZOFFSETFROM:+0100
TZOFFSETTO:+0200
TZNAME:CEST
DTSTART:20260329T010000
END:DAYLIGHT
BEGIN:STANDARD
TZOFFSETFROM:+0200
TZOFFSETTO:+0100
TZNAME:CET
DTSTART:20261025T010000
END:STANDARD
END:VTIMEZONE
BEGIN:VEVENT
DTSTART;TZID=Europe/Madrid:20260123T180000
DTEND;TZID=Europe/Madrid:20260123T210000
DTSTAMP:20260423T002113
CREATED:20260118T190005Z
LAST-MODIFIED:20260118T190005Z
UID:73635-1769191200-1769202000@a-desk.org
SUMMARY:"If it walks like a duck..." Eli Cortiñas
DESCRIPTION:
URL:https://a-desk.org/en/agenda/if-it-walks-like-a-duck-eli-cortinas/
LOCATION:House of Chappaz\, C/l’Alegre de Dalt 55\, Baixos C\, Barcelona\, Barcelona\, 08024\, España
CATEGORIES:Inauguració/Exposició
ORGANIZER;CN="House of Chappaz":MAILTO:comunicacion@houseofchappaz.com
END:VEVENT
BEGIN:VEVENT
DTSTART;TZID=Europe/Madrid:20260123T190000
DTEND;TZID=Europe/Madrid:20260123T190000
DTSTAMP:20260423T002113
CREATED:20260118T190445Z
LAST-MODIFIED:20260118T190445Z
UID:73637-1769194800-1769194800@a-desk.org
SUMMARY:"Visita guiada: Figuracions entre guerres 1914-1945"
DESCRIPTION:
URL:https://a-desk.org/en/agenda/visita-guiada-figuracions-entre-guerres-1914-1945/
LOCATION:Sala Parés\, C/ Petritxol\, 5\, 08002 Barcelona mapa\, Barcelona\, Barcelona\, 08002\, Spain
CATEGORIES:Guided tour
END:VEVENT
BEGIN:VEVENT
DTSTART;TZID=Europe/Madrid:20260123T190000
DTEND;TZID=Europe/Madrid:20260123T190000
DTSTAMP:20260423T002113
CREATED:20260118T194740Z
LAST-MODIFIED:20260118T194740Z
UID:73660-1769194800-1769194800@a-desk.org
SUMMARY:"Mutti (consonni)" Félix Fernández de Castro
DESCRIPTION:
URL:https://a-desk.org/en/agenda/mutti-consonni-felix-fernandez-de-castro/
LOCATION:Llibreria Finestres\, C/ Diputació\, 249\, 08007 Barcelona mapa\, Barcelona\, Barcelona\, 08007\, Spain
CATEGORIES:Presentació de llibre
END:VEVENT
BEGIN:VEVENT
DTSTART;TZID=Europe/Madrid:20260123T190000
DTEND;TZID=Europe/Madrid:20260124T190000
DTSTAMP:20260423T002113
CREATED:20260108T175836Z
LAST-MODIFIED:20260108T175836Z
UID:73424-1769194800-1769281200@a-desk.org
SUMMARY:"MURMURIS III: YESSi PERSE ⛧ CYBERMEDIEVAL" laSADCUM\, ARSinNOVA
DESCRIPTION:
URL:https://a-desk.org/en/agenda/murmuris-iii-yessi-perse-%e2%9b%a7-cybermedieval-lasadcum-arsinnova/
LOCATION:MACBA\, Plaça dels Àngels\, 1\, 08001 Barcelona mapa\, Barcelona\, Barcelona\, 08001\, Spain
CATEGORIES:Performance
END:VEVENT
BEGIN:VEVENT
DTSTART;TZID=Europe/Madrid:20260123T193000
DTEND;TZID=Europe/Madrid:20260123T193000
DTSTAMP:20260423T002113
CREATED:20260118T192505Z
LAST-MODIFIED:20260118T192505Z
UID:73645-1769196600-1769196600@a-desk.org
SUMMARY:"Instruments de l'ànima\, avui a vic"
DESCRIPTION:
URL:https://a-desk.org/en/agenda/instruments-de-lanima-avui-a-vic/
LOCATION:Museu de l’Art de la Pell\, Carrer de l'Arquebisbe Alemany\, 5\, 08500 Vic\, Barcelona
CATEGORIES:Inauguració/Exposició
END:VEVENT
BEGIN:VEVENT
DTSTART;TZID=Europe/Madrid:20260123T200000
DTEND;TZID=Europe/Madrid:20260123T200000
DTSTAMP:20260423T002113
CREATED:20260118T194116Z
LAST-MODIFIED:20260118T194116Z
UID:73656-1769198400-1769198400@a-desk.org
SUMMARY:"FLAMENCO BYRON: Miranda Fernández & Cristina López con Edgar Platón"
DESCRIPTION:
URL:https://a-desk.org/en/agenda/flamenco-byron-miranda-fernandez-cristina-lopez-con-edgar-platon/
LOCATION:Llibreria Byron\, C/ Casanova\, 32\, 08011 Barcelona mapa\, Barcelona\, Barcelona\, 08011\, Spain
CATEGORIES:Concert
END:VEVENT
BEGIN:VEVENT
DTSTART;TZID=Europe/Madrid:20260123T213000
DTEND;TZID=Europe/Madrid:20260123T213000
DTSTAMP:20260423T002113
CREATED:20260118T191600Z
LAST-MODIFIED:20260118T191600Z
UID:73643-1769203800-1769203800@a-desk.org
SUMMARY:"La misteriosa mirada del flamenco" Diego Céspedes
DESCRIPTION:
URL:https://a-desk.org/en/agenda/la-misteriosa-mirada-del-flamenco-diego-cespedes/
LOCATION:Zumzeig\, C/ Béjar\, 53\, 08014 Barcelona mapa\, Barcelona\, Barcelona\, 08014\, Spain
CATEGORIES:Cinema
END:VEVENT
END:VCALENDAR