BEGIN:VCALENDAR
VERSION:2.0
PRODID:-//A*Desk - ECPv6.8.1//NONSGML v1.0//EN
CALSCALE:GREGORIAN
METHOD:PUBLISH
X-ORIGINAL-URL:https://a-desk.org/en/
X-WR-CALDESC:Events for A*Desk
REFRESH-INTERVAL;VALUE=DURATION:PT1H
X-Robots-Tag:noindex
X-PUBLISHED-TTL:PT1H
BEGIN:VTIMEZONE
TZID:Europe/Madrid
BEGIN:DAYLIGHT
TZOFFSETFROM:+0100
TZOFFSETTO:+0200
TZNAME:CEST
DTSTART:20260329T010000
END:DAYLIGHT
BEGIN:STANDARD
TZOFFSETFROM:+0200
TZOFFSETTO:+0100
TZNAME:CET
DTSTART:20261025T010000
END:STANDARD
END:VTIMEZONE
BEGIN:VEVENT
DTSTART;TZID=Europe/Madrid:20260131T103000
DTEND;TZID=Europe/Madrid:20260131T130000
DTSTAMP:20260422T130317
CREATED:20260127T181413Z
LAST-MODIFIED:20260127T181413Z
UID:73870-1769855400-1769864400@a-desk.org
SUMMARY:"Travessar el solar" Oriol Arnedo Casas | Una mesa de tres patas
DESCRIPTION:
URL:https://a-desk.org/en/agenda/travessar-el-solar-oriol-arnedo-casas-una-mesa-de-tres-patas/
LOCATION:Hangar\, C/ Emilia Coranty\, 16\, 08018 Barcelona mapa\, Barcelona\, Barcelona\, 08018\, Spain
CATEGORIES:Activitat
END:VEVENT
BEGIN:VEVENT
DTSTART;TZID=Europe/Madrid:20260131T103000
DTEND;TZID=Europe/Madrid:20260131T163000
DTSTAMP:20260422T130317
CREATED:20260124T151735Z
LAST-MODIFIED:20260124T151735Z
UID:73707-1769855400-1769877000@a-desk.org
SUMMARY:"Jornada Patrimoni | Quin patrimoni? Quins espolis? Quines restitucions?"
DESCRIPTION:
URL:https://a-desk.org/en/agenda/jornada-patrimoni-quin-patrimoni-quins-espolis-quines-restitucions/
LOCATION:Barcelona
CATEGORIES:Jornada
END:VEVENT
BEGIN:VEVENT
DTSTART;TZID=Europe/Madrid:20260131T110000
DTEND;TZID=Europe/Madrid:20260131T140000
DTSTAMP:20260422T130317
CREATED:20260130T180234Z
LAST-MODIFIED:20260130T180234Z
UID:74008-1769857200-1769868000@a-desk.org
SUMMARY:"Ana Genovés"
DESCRIPTION:
URL:https://a-desk.org/en/agenda/ana-genoves/
LOCATION:Galería Alegría\, Ronda de la Via\, 7\, Hospital de Llobregat\, Barcelona\, 08903\, España
CATEGORIES:Inauguració/Exposició
END:VEVENT
BEGIN:VEVENT
DTSTART;TZID=Europe/Madrid:20260131T120000
DTEND;TZID=Europe/Madrid:20260131T120000
DTSTAMP:20260422T130317
CREATED:20260124T145850Z
LAST-MODIFIED:20260124T145850Z
UID:73701-1769860800-1769860800@a-desk.org
SUMMARY:"Arran de terra" Isabel Banal
DESCRIPTION:
URL:https://a-desk.org/en/agenda/arran-de-terra-isabel-banal/
LOCATION:ACVic\, C/ Sant Francesc\, 1\, Vic\, Barcelona\, 8500\, España
CATEGORIES:Inauguració/Exposició
END:VEVENT
BEGIN:VEVENT
DTSTART;TZID=Europe/Madrid:20260131T120000
DTEND;TZID=Europe/Madrid:20260131T120000
DTSTAMP:20260422T130317
CREATED:20260127T182051Z
LAST-MODIFIED:20260127T182051Z
UID:73878-1769860800-1769860800@a-desk.org
SUMMARY:"Cases sense porta | L’aperitiu amb… Sira Abenoza i Joana Hurtado + visita comentada"
DESCRIPTION:
URL:https://a-desk.org/en/agenda/cases-sense-porta-laperitiu-amb-sira-abenoza-i-joana-hurtado-visita-comentada/
LOCATION:MAC Mataró\, Muralla de la Presó 2\, Mataró\, Barcelona\, 08302\, España
CATEGORIES:Trobada,Vermut,Guided tour
END:VEVENT
BEGIN:VEVENT
DTSTART;TZID=Europe/Madrid:20260131T120000
DTEND;TZID=Europe/Madrid:20260131T130000
DTSTAMP:20260422T130317
CREATED:20260124T155152Z
LAST-MODIFIED:20260124T155152Z
UID:73750-1769860800-1769864400@a-desk.org
SUMMARY:"Visita comentada a LALIRO amb les implicades"
DESCRIPTION:
URL:https://a-desk.org/en/agenda/visita-comentada-a-laliro-amb-les-implicades/
LOCATION:Fabra i Coats\, C/ Sant Adrià\, 20\, 08030 Barcelona mapa\, Barcelona\, Barcelona\, 08030\, Spain
CATEGORIES:Guided tour
END:VEVENT
BEGIN:VEVENT
DTSTART;TZID=Europe/Madrid:20260131T120000
DTEND;TZID=Europe/Madrid:20260131T190000
DTSTAMP:20260422T130317
CREATED:20260124T155059Z
LAST-MODIFIED:20260124T155059Z
UID:73746-1769860800-1769886000@a-desk.org
SUMMARY:"El cocoliche en la epopeya. Formes en la immaduresa entre Buenos Aires i Barcelona 1932–2025"
DESCRIPTION:
URL:https://a-desk.org/en/agenda/el-cocoliche-en-la-epopeya-formes-en-la-immaduresa-entre-buenos-aires-i-barcelona-1932-2025/
LOCATION:EX\, Carrer de Salvador 22\, 4t planta\, Hospitalet\, Cataluna\, Spain 08902
CATEGORIES:Inauguració/Exposició
END:VEVENT
BEGIN:VEVENT
DTSTART;TZID=Europe/Madrid:20260131T123000
DTEND;TZID=Europe/Madrid:20260131T123000
DTSTAMP:20260422T130317
CREATED:20260124T151951Z
LAST-MODIFIED:20260124T151951Z
UID:73711-1769862600-1769862600@a-desk.org
SUMMARY:"No digueu que som morts" Danez Smith amb Toni R. Juncosa i Maria Isern
DESCRIPTION:
URL:https://a-desk.org/en/agenda/no-digueu-que-som-morts-danez-smith-amb-toni-r-juncosa-i-maria-isern/
LOCATION:Llibreria Finestres\, C/ Diputació\, 249\, 08007 Barcelona mapa\, Barcelona\, Barcelona\, 08007\, Spain
CATEGORIES:Presentació de llibre
END:VEVENT
BEGIN:VEVENT
DTSTART;TZID=Europe/Madrid:20260131T130000
DTEND;TZID=Europe/Madrid:20260131T130000
DTSTAMP:20260422T130317
CREATED:20260127T181941Z
LAST-MODIFIED:20260127T181941Z
UID:73876-1769864400-1769864400@a-desk.org
SUMMARY:"Utopia rendering" Mirko Smerdel
DESCRIPTION:
URL:https://a-desk.org/en/agenda/utopia-rendering-mirko-smerdel/
LOCATION:Souvenir\, Travessia de Sant Antoni\, 27\, 08012 Barcelona mapa\, Barcelona\, Barcelona\, 08012\, Spain
CATEGORIES:Performance
END:VEVENT
BEGIN:VEVENT
DTSTART;TZID=Europe/Madrid:20260131T170000
DTEND;TZID=Europe/Madrid:20260131T170000
DTSTAMP:20260422T130317
CREATED:20260124T154345Z
LAST-MODIFIED:20260124T154345Z
UID:73735-1769878800-1769878800@a-desk.org
SUMMARY:"El vals de Baltimore" Paula Vogel\, Clara González Espelt
DESCRIPTION:
URL:https://a-desk.org/en/agenda/el-vals-de-baltimore-paula-vogel-clara-gonzalez-espelt/
LOCATION:Sala Beckett\, C/ Pere IV\, 228\, 232\, 08005 Barcelona mapa\, Barcelona\, Barcelona\, 08005\, Spain
CATEGORIES:Lectura dramatitzada
END:VEVENT
BEGIN:VEVENT
DTSTART;TZID=Europe/Madrid:20260131T190000
DTEND;TZID=Europe/Madrid:20260131T190000
DTSTAMP:20260422T130317
CREATED:20260127T181125Z
LAST-MODIFIED:20260127T181125Z
UID:73868-1769886000-1769886000@a-desk.org
SUMMARY:"Natura Morta. Un diàleg contemporani amb el repertori pianístic de finals del s XIX i principis del s XX" Lluïsa Espigolépiano\, Itziar Viloria
DESCRIPTION:
URL:https://a-desk.org/en/agenda/natura-morta-un-dialeg-contemporani-amb-el-repertori-pianistic-de-finals-del-s-xix-i-principis-del-s-xx-lluisa-espigolepiano-itziar-viloria/
LOCATION:Centre d’Art la Panera\, Plaça Panera\, 2\, 25002 Lleida mapa\, Lleida\, Lleida\, 25002\, Spain
CATEGORIES:Música
END:VEVENT
BEGIN:VEVENT
DTSTART;TZID=Europe/Madrid:20260131T200000
DTEND;TZID=Europe/Madrid:20260131T200000
DTSTAMP:20260422T130317
CREATED:20260124T154836Z
LAST-MODIFIED:20260124T154836Z
UID:73742-1769889600-1769889600@a-desk.org
SUMMARY:"Esdeveniment preinaugural: Performance site-specific de Guillem Jiménez al nou espai Homesession"
DESCRIPTION:
URL:https://a-desk.org/en/agenda/esdeveniment-preinaugural-performance-site-specific-de-guillem-jimenez-al-nou-espai-homesession/
LOCATION:Homesession\, C/ Creu dels Molers\, 15\, 08004 Barcelona mapa\, Barcelona\, Barcelona\, 08004\, Spain
CATEGORIES:Performance
END:VEVENT
END:VCALENDAR