BEGIN:VCALENDAR
VERSION:2.0
PRODID:-//A*Desk - ECPv6.8.1//NONSGML v1.0//EN
CALSCALE:GREGORIAN
METHOD:PUBLISH
X-ORIGINAL-URL:https://a-desk.org/en/
X-WR-CALDESC:Events for A*Desk
REFRESH-INTERVAL;VALUE=DURATION:PT1H
X-Robots-Tag:noindex
X-PUBLISHED-TTL:PT1H
BEGIN:VTIMEZONE
TZID:Europe/Madrid
BEGIN:DAYLIGHT
TZOFFSETFROM:+0100
TZOFFSETTO:+0200
TZNAME:CEST
DTSTART:20260329T010000
END:DAYLIGHT
BEGIN:STANDARD
TZOFFSETFROM:+0200
TZOFFSETTO:+0100
TZNAME:CET
DTSTART:20261025T010000
END:STANDARD
END:VTIMEZONE
BEGIN:VEVENT
DTSTART;TZID=Europe/Madrid:20260202T190000
DTEND;TZID=Europe/Madrid:20260202T190000
DTSTAMP:20260422T102554
CREATED:20260124T151825Z
LAST-MODIFIED:20260124T151825Z
UID:73709-1770058800-1770058800@a-desk.org
SUMMARY:"Los dóciles. Una posible obra de Societat Doctor Alonso"
DESCRIPTION:
URL:https://a-desk.org/en/agenda/los-dociles-una-posible-obra-de-societat-doctor-alonso/
LOCATION:Libreria La Caníbal\, C/ Nàpols\, 314\, 08025 Barcelona mapa\, Barcelona\, Barcelona\, 08044\, Spain
CATEGORIES:Presentació de llibre
END:VEVENT
END:VCALENDAR